BEGIN:VCALENDAR
VERSION:2.0
PRODID:-//Huntington Arts Council - ECPv6.15.20//NONSGML v1.0//EN
CALSCALE:GREGORIAN
METHOD:PUBLISH
X-WR-CALNAME:Huntington Arts Council
X-ORIGINAL-URL:https://www.huntingtonarts.org
X-WR-CALDESC:Events for Huntington Arts Council
REFRESH-INTERVAL;VALUE=DURATION:PT1H
X-Robots-Tag:noindex
X-PUBLISHED-TTL:PT1H
BEGIN:VTIMEZONE
TZID:America/New_York
BEGIN:DAYLIGHT
TZOFFSETFROM:-0500
TZOFFSETTO:-0400
TZNAME:EDT
DTSTART:20220313T070000
END:DAYLIGHT
BEGIN:STANDARD
TZOFFSETFROM:-0400
TZOFFSETTO:-0500
TZNAME:EST
DTSTART:20221106T060000
END:STANDARD
BEGIN:DAYLIGHT
TZOFFSETFROM:-0500
TZOFFSETTO:-0400
TZNAME:EDT
DTSTART:20230312T070000
END:DAYLIGHT
BEGIN:STANDARD
TZOFFSETFROM:-0400
TZOFFSETTO:-0500
TZNAME:EST
DTSTART:20231105T060000
END:STANDARD
BEGIN:DAYLIGHT
TZOFFSETFROM:-0500
TZOFFSETTO:-0400
TZNAME:EDT
DTSTART:20240310T070000
END:DAYLIGHT
BEGIN:STANDARD
TZOFFSETFROM:-0400
TZOFFSETTO:-0500
TZNAME:EST
DTSTART:20241103T060000
END:STANDARD
BEGIN:DAYLIGHT
TZOFFSETFROM:-0500
TZOFFSETTO:-0400
TZNAME:EDT
DTSTART:20250309T070000
END:DAYLIGHT
BEGIN:STANDARD
TZOFFSETFROM:-0400
TZOFFSETTO:-0500
TZNAME:EST
DTSTART:20251102T060000
END:STANDARD
BEGIN:DAYLIGHT
TZOFFSETFROM:-0500
TZOFFSETTO:-0400
TZNAME:EDT
DTSTART:20260308T070000
END:DAYLIGHT
BEGIN:STANDARD
TZOFFSETFROM:-0400
TZOFFSETTO:-0500
TZNAME:EST
DTSTART:20261101T060000
END:STANDARD
END:VTIMEZONE
BEGIN:VEVENT
DTSTART;TZID=America/New_York:20250701T080000
DTEND;TZID=America/New_York:20250731T170000
DTSTAMP:20260422T062827
CREATED:20250505T170839Z
LAST-MODIFIED:20250505T170839Z
UID:10015614-1751356800-1753981200@www.huntingtonarts.org
SUMMARY:Rosaria Bazan-Pepe presents Fragments of Color
DESCRIPTION:Fragments of Color is a solo exhibition of mixed-media abstract artworks by Rosaria Bazan-Pepe. This body of work showcases a unique use of shapes and vibrant colors that is mesmerizing and energizing. The artist uses acrylic painting\, collage\, digital collage papers\, and inks to create her pieces.
URL:https://www.huntingtonarts.org/event/rosaria-bazan-pepe-presents-fragments-of-color/
LOCATION:Sayville Library\, 88 Greene Ave.\, Sayville\, New York\, 11782
CATEGORIES:Exhibitions
ATTACH;FMTTYPE=image/jpeg:https://www.huntingtonarts.org/wp-content/uploads/2025/05/fragments_of_colo_postcard.jpg
ORGANIZER;CN="Rosaria Bazan-Pepe":MAILTO:rbp@rosariacreates.com
END:VEVENT
BEGIN:VEVENT
DTSTART;TZID=America/New_York:20231022T120000
DTEND;TZID=America/New_York:20231022T133000
DTSTAMP:20260422T062827
CREATED:20230912T145503Z
LAST-MODIFIED:20230912T145503Z
UID:10006467-1697976000-1697981400@www.huntingtonarts.org
SUMMARY:Rosaria Bazan-Pepe: Re-Assembling Pixels in Color: Artist Talk
DESCRIPTION:Artist Rosaria Bazan-Pepe will be discussing her new series “Re-Assembling Pixels in Color” currently on view: The Calling Bell Gallery in Huntington\, NY.\nThis series of artwork showcases Rosaria’s use of vibrant color and unique style that is mesmerizing! \nIt is an experience and journey through shapes and movement. Discover how she re-assembles digital paintings to create stunning and stimulating pieces that will leave you in awe.\nThis exhibition is on view from August 27 -October 22\, 2023\n*This will be the last day to see this euphoric artwork.
URL:https://www.huntingtonarts.org/event/rosaria-bazan-pepe-re-assembling-pixels-in-color-artist-talk/
LOCATION:The Calling Bell\, 51 Gibson Ave\, Huntington\, NY\, 11743\, United States
CATEGORIES:Exhibitions,Lectures
ATTACH;FMTTYPE=image/jpeg:https://www.huntingtonarts.org/wp-content/uploads/2023/09/ARTIST_TALK_GRAPHIC.jpg
ORGANIZER;CN="Rosaria Bazan-Pepe":MAILTO:rbp@rosariacreates.com
END:VEVENT
END:VCALENDAR