BEGIN:VCALENDAR
VERSION:2.0
PRODID:-//Huntington Arts Council - ECPv6.15.20//NONSGML v1.0//EN
CALSCALE:GREGORIAN
METHOD:PUBLISH
X-ORIGINAL-URL:https://www.huntingtonarts.org
X-WR-CALDESC:Events for Huntington Arts Council
REFRESH-INTERVAL;VALUE=DURATION:PT1H
X-Robots-Tag:noindex
X-PUBLISHED-TTL:PT1H
BEGIN:VTIMEZONE
TZID:America/New_York
BEGIN:DAYLIGHT
TZOFFSETFROM:-0500
TZOFFSETTO:-0400
TZNAME:EDT
DTSTART:20250309T070000
END:DAYLIGHT
BEGIN:STANDARD
TZOFFSETFROM:-0400
TZOFFSETTO:-0500
TZNAME:EST
DTSTART:20251102T060000
END:STANDARD
BEGIN:DAYLIGHT
TZOFFSETFROM:-0500
TZOFFSETTO:-0400
TZNAME:EDT
DTSTART:20260308T070000
END:DAYLIGHT
BEGIN:STANDARD
TZOFFSETFROM:-0400
TZOFFSETTO:-0500
TZNAME:EST
DTSTART:20261101T060000
END:STANDARD
BEGIN:DAYLIGHT
TZOFFSETFROM:-0500
TZOFFSETTO:-0400
TZNAME:EDT
DTSTART:20270314T070000
END:DAYLIGHT
BEGIN:STANDARD
TZOFFSETFROM:-0400
TZOFFSETTO:-0500
TZNAME:EST
DTSTART:20271107T060000
END:STANDARD
END:VTIMEZONE
BEGIN:VEVENT
DTSTART;TZID=America/New_York:20260605T200000
DTEND;TZID=America/New_York:20260605T220000
DTSTAMP:20260421T183451
CREATED:20260105T173744Z
LAST-MODIFIED:20260105T173744Z
UID:10019220-1780689600-1780696800@www.huntingtonarts.org
SUMMARY:Artist Member Ron Becker presents The Colors of My Life or Grace Amidst The Chaos
DESCRIPTION:Experience the life of artist Ron Becker\, told through story\, song and art. A recollection of comedy and tragedy forming his outlook\, talents and who he is today. Tickets $20 at door or through BookTix.com. \nThis production was supported by LI Grants for the Arts through funds provided by the Office of the Governor & the NYS Legislature\, and administered by the Huntington Arts Council.
URL:https://www.huntingtonarts.org/event/artist-member-ron-becker-presents-the-colors-of-my-life-or-grace-amidst-the-chaos/2026-06-05/
LOCATION:BACCA Performing Arts Center\, 149 N Wellwood Ave.\, Lindenhurst\, NY\, 11757\, United States
CATEGORIES:Theater
ATTACH;FMTTYPE=image/jpeg:https://www.huntingtonarts.org/wp-content/uploads/2026/01/show-titlecover.jpg
ORGANIZER;CN="Ronald Becker":MAILTO:rwb9352@gmail.com
END:VEVENT
END:VCALENDAR