BEGIN:VCALENDAR
VERSION:2.0
PRODID:-//Huntington Arts Council - ECPv6.15.20//NONSGML v1.0//EN
CALSCALE:GREGORIAN
METHOD:PUBLISH
X-WR-CALNAME:Huntington Arts Council
X-ORIGINAL-URL:https://www.huntingtonarts.org
X-WR-CALDESC:Events for Huntington Arts Council
REFRESH-INTERVAL;VALUE=DURATION:PT1H
X-Robots-Tag:noindex
X-PUBLISHED-TTL:PT1H
BEGIN:VTIMEZONE
TZID:America/New_York
BEGIN:DAYLIGHT
TZOFFSETFROM:-0500
TZOFFSETTO:-0400
TZNAME:EDT
DTSTART:20230312T070000
END:DAYLIGHT
BEGIN:STANDARD
TZOFFSETFROM:-0400
TZOFFSETTO:-0500
TZNAME:EST
DTSTART:20231105T060000
END:STANDARD
BEGIN:DAYLIGHT
TZOFFSETFROM:-0500
TZOFFSETTO:-0400
TZNAME:EDT
DTSTART:20240310T070000
END:DAYLIGHT
BEGIN:STANDARD
TZOFFSETFROM:-0400
TZOFFSETTO:-0500
TZNAME:EST
DTSTART:20241103T060000
END:STANDARD
BEGIN:DAYLIGHT
TZOFFSETFROM:-0500
TZOFFSETTO:-0400
TZNAME:EDT
DTSTART:20250309T070000
END:DAYLIGHT
BEGIN:STANDARD
TZOFFSETFROM:-0400
TZOFFSETTO:-0500
TZNAME:EST
DTSTART:20251102T060000
END:STANDARD
END:VTIMEZONE
BEGIN:VEVENT
DTSTART;TZID=America/New_York:20240704T113000
DTEND;TZID=America/New_York:20240704T133000
DTSTAMP:20260422T035003
CREATED:20240626T150155Z
LAST-MODIFIED:20240626T150155Z
UID:10014051-1720092600-1720099800@www.huntingtonarts.org
SUMMARY:Oyster Bay Music Festival presents 4th of July Concert
DESCRIPTION:Between June 27 through July 4\, the Oyster Bay Music Festival will present 12 completely different concert programs in 9 charming venues along the Gold Coast of Long Island. Each OBMF concert is a variety show featuring a diverse range of musical repertoire from a performing cast of around 25 musicians – including vocalists\, pianists\, strings and wind players. The talent pool includes world-class musicians with international reputations\, and local classical music stars. Every performance exudes both professionalism and joy\, telling a story uplifted by a genuine love for music felt by everyone in the room. \nThursday\, July 4 11:30am – 4th of July Concert\nNothing but fun here! Celebrate the fourth of July with fantastic uplifting music\, instrumental and vocal virtuosity\, laughs\, stories\, friendship\, and ice cream.
URL:https://www.huntingtonarts.org/event/oyster-bay-music-festival-presents-4th-of-july-concert/
LOCATION:Raynham Hall\, 20 West Main Street\, Oyster Bay\, NY\, 11771\, United States
CATEGORIES:Music
ATTACH;FMTTYPE=image/jpeg:https://www.huntingtonarts.org/wp-content/uploads/2024/06/Bassist-Marc-Andre-and-Pianist-Maxim-Lando-11-scaled.jpg
ORGANIZER;CN="Oyster Bay Music Festival":MAILTO:lbab1flute@gmail.com
END:VEVENT
BEGIN:VEVENT
DTSTART;TZID=America/New_York:20240703T190000
DTEND;TZID=America/New_York:20240703T210000
DTSTAMP:20260422T035003
CREATED:20240626T150136Z
LAST-MODIFIED:20240626T150136Z
UID:10014050-1720033200-1720040400@www.huntingtonarts.org
SUMMARY:Oyster Bay Music Festival presents Glimmering Stars and Musical Waves
DESCRIPTION:Between June 27 through July 4\, the Oyster Bay Music Festival will present 12 completely different concert programs in 9 charming venues along the Gold Coast of Long Island. Each OBMF concert is a variety show featuring a diverse range of musical repertoire from a performing cast of around 25 musicians – including vocalists\, pianists\, strings and wind players. The talent pool includes world-class musicians with international reputations\, and local classical music stars. Every performance exudes both professionalism and joy\, telling a story uplifted by a genuine love for music felt by everyone in the room. \nWednesday\, July 3 7-9pm – Glimmering Stars and Musical Waves at Western Waterfront Building J\nOne of the favorite venues of OBMF\, the Western Waterfront Building J transforms into a one-of-a-kind concert hall to present an evening of exciting and exquisite performances under the stars that will transport you to another dimension. The eclectic program includes the klezmer inspired Schoenfield Clarinet Trio with father and son (Maxim and Vadim Lando) joined by violinist Tassilo Probst\, Chopin’s popular Introduction and Polonaise with cellist Charles Zandieh\, favorite opera arias and musical theater works featuring the beloved OBMF singers\, the double-bass magic of Marc André\, a haunting work for three unaccompanied virtuoso violins\, and the rip-roaring Galop-Marche by Lavignac for 8 hands at one piano.
URL:https://www.huntingtonarts.org/event/oyster-bay-music-festival-presents-glimmering-stars-and-musical-waves/
LOCATION:Western Waterfront Building J\, 1 West End Avenue\, Oyster Bay\, 11771\, United States
CATEGORIES:Music
ATTACH;FMTTYPE=image/jpeg:https://www.huntingtonarts.org/wp-content/uploads/2024/06/Bassist-Marc-Andre-and-Pianist-Maxim-Lando-10-scaled.jpg
ORGANIZER;CN="Oyster Bay Music Festival":MAILTO:lbab1flute@gmail.com
END:VEVENT
BEGIN:VEVENT
DTSTART;TZID=America/New_York:20240703T130000
DTEND;TZID=America/New_York:20240703T150000
DTSTAMP:20260422T035003
CREATED:20240626T150012Z
LAST-MODIFIED:20240626T150012Z
UID:10014049-1720011600-1720018800@www.huntingtonarts.org
SUMMARY:Oyster Bay Music Festival presents Mid-Day Concert
DESCRIPTION:Between June 27 through July 4\, the Oyster Bay Music Festival will present 12 completely different concert programs in 9 charming venues along the Gold Coast of Long Island. Each OBMF concert is a variety show featuring a diverse range of musical repertoire from a performing cast of around 25 musicians – including vocalists\, pianists\, strings and wind players. The talent pool includes world-class musicians with international reputations\, and local classical music stars. Every performance exudes both professionalism and joy\, telling a story uplifted by a genuine love for music felt by everyone in the room. \nWednesday\, July 3 1-3pm – Mid-Day Concert at Christ Church Oyster Bay\nA very special OBMF feature concert showcasing 4 rising stars\, all gaining rapid attention on the international classical music scene – American pianists Maxim Lando and Joshua Mhoon\, German violinist Tassilo Probst\, and Viennese double bassist Marc André. The concert will feature Stravinsky’s Three Movements from Petrushka for piano (Maxim)\, Schumann’s complete Dichterliebe performed on double bass\, Brahms Violin Sonata No. 3\, and additional works by Chopin\, Kapustin\, and Gershwin (Josh).
URL:https://www.huntingtonarts.org/event/oyster-bay-music-festival-presents-mid-day-concert-2/
LOCATION:Christ Church Oyster Bay\, 61 East Main Street\, Oyster Bay\, 11771\, United States
CATEGORIES:Music
ATTACH;FMTTYPE=image/jpeg:https://www.huntingtonarts.org/wp-content/uploads/2024/06/Bassist-Marc-Andre-and-Pianist-Maxim-Lando-9-scaled.jpg
ORGANIZER;CN="Oyster Bay Music Festival":MAILTO:lbab1flute@gmail.com
END:VEVENT
BEGIN:VEVENT
DTSTART;TZID=America/New_York:20240702T190000
DTEND;TZID=America/New_York:20240702T210000
DTSTAMP:20260422T035003
CREATED:20240626T145839Z
LAST-MODIFIED:20240626T145839Z
UID:10014048-1719946800-1719954000@www.huntingtonarts.org
SUMMARY:Oyster Bay Music Festival presents Legends and Stories of Sound
DESCRIPTION:Between June 27 through July 4\, the Oyster Bay Music Festival will present 12 completely different concert programs in 9 charming venues along the Gold Coast of Long Island. Each OBMF concert is a variety show featuring a diverse range of musical repertoire from a performing cast of around 25 musicians – including vocalists\, pianists\, strings and wind players. The talent pool includes world-class musicians with international reputations\, and local classical music stars. Every performance exudes both professionalism and joy\, telling a story uplifted by a genuine love for music felt by everyone in the room. \nTuesday\, July 2 7-9pm – Legends and Stories of Sound at Christ Church Oyster Bay\nAlways a favorite OBMF acoustic space\, this concert at Oyster Bay’s Christ Church will celebrate legendary composers\, the stories that pass-through generations of musicians\, and the mysteries of sound. Highlights of the concert include Tassilo Probst and Maxim Lando performing Ravel’s second Sonata for violin and piano\, the Zandieh Trio performing Rachmaninoff Elegiaque No. 1\, and dazzling vocal repertoire from the OBMF singers.
URL:https://www.huntingtonarts.org/event/oyster-bay-music-festival-presents-legends-and-stories-of-sound/
LOCATION:Christ Church Oyster Bay\, 61 East Main Street\, Oyster Bay\, 11771\, United States
CATEGORIES:Music
ATTACH;FMTTYPE=image/jpeg:https://www.huntingtonarts.org/wp-content/uploads/2024/06/Bassist-Marc-Andre-and-Pianist-Maxim-Lando-8-scaled.jpg
ORGANIZER;CN="Oyster Bay Music Festival":MAILTO:lbab1flute@gmail.com
END:VEVENT
BEGIN:VEVENT
DTSTART;TZID=America/New_York:20240701T190000
DTEND;TZID=America/New_York:20240701T210000
DTSTAMP:20260422T035003
CREATED:20240626T145317Z
LAST-MODIFIED:20240626T145317Z
UID:10014047-1719860400-1719867600@www.huntingtonarts.org
SUMMARY:Oyster Bay Music Festival presents Fantasia: A Musical Journey
DESCRIPTION:Between June 27 through July 4\, the Oyster Bay Music Festival will present 12 completely different concert programs in 9 charming venues along the Gold Coast of Long Island. Each OBMF concert is a variety show featuring a diverse range of musical repertoire from a performing cast of around 25 musicians – including vocalists\, pianists\, strings and wind players. The talent pool includes world-class musicians with international reputations\, and local classical music stars. Every performance exudes both professionalism and joy\, telling a story uplifted by a genuine love for music felt by everyone in the room. \nMonday\, July 1 7-9pm – Fantasia: A Musical Journey at Congregation L’Dor V’Dor\nA musical journey through time\, countries\, and musical styles – told through the voices of OBMF’s remarkable instrumentalists and singers. Performers for this concert include returning favorites such as the always popular OBMF Singers\, the Zandieh Trio\, violinist Michelle Stern\, and pianist Maxim Lando. In addition\, making their first appearance at the beautiful space of Congregation L’Dor V’Dor\, will be German violinist Tassilo Probst\, French/Viennese double bassist Marc André\, and American pianist Joshua Mhoon. While Probst is making a strong presence in Europe’s major concert halls\, Marc André is redefining the possibilities of the double bass\, reaching millions of people through social media. The gifted pianist Joshua Mhoon is a Steinway Young Artist and the Silver Medalist at the inaugural Nina Simone Piano Competition in 2023. The music featured will be an exciting and eclectic mix of vocal and instrumental music from the past few hundred years.
URL:https://www.huntingtonarts.org/event/oyster-bay-music-festival-presents-fantasia-a-musical-journey/
LOCATION:Congregation L’Dor V’Dor\, 11 Temple Lane\, Oyster Bay\, 11771\, United States
CATEGORIES:Music
ATTACH;FMTTYPE=image/jpeg:https://www.huntingtonarts.org/wp-content/uploads/2024/06/Bassist-Marc-Andre-and-Pianist-Maxim-Lando-7-scaled.jpg
ORGANIZER;CN="Oyster Bay Music Festival":MAILTO:lbab1flute@gmail.com
END:VEVENT
BEGIN:VEVENT
DTSTART;TZID=America/New_York:20240630T190000
DTEND;TZID=America/New_York:20240630T203000
DTSTAMP:20260422T035003
CREATED:20240626T145146Z
LAST-MODIFIED:20240626T145146Z
UID:10014046-1719774000-1719779400@www.huntingtonarts.org
SUMMARY:Oyster Bay Music Festival presents Natural Emotion
DESCRIPTION:Between June 27 through July 4\, the Oyster Bay Music Festival will present 12 completely different concert programs in 9 charming venues along the Gold Coast of Long Island. Each OBMF concert is a variety show featuring a diverse range of musical repertoire from a performing cast of around 25 musicians – including vocalists\, pianists\, strings and wind players. The talent pool includes world-class musicians with international reputations\, and local classical music stars. Every performance exudes both professionalism and joy\, telling a story uplifted by a genuine love for music felt by everyone in the room. \nSunday\, June 30 7-8:30pm – Natural Emotion at Old Westbury Gardens\nFor the first time Old Westbury Gardens is one of the concert venues for the Oyster Bay Music Festival!\nThe stars of Oyster Bay Music Festival will astound you in this one-of-a-kind evening of music filled with virtuoso instrumentalists\, chamber music masterpieces\, and favorite vocal arias. World-class performers – almost all in their twenties – include National Symphony Orchestra flutist and Long Island native Matthew Ross; French/Viennese bassist Marc-André\, who is redefining the possibilities of the bass and reaching millions of people through his innovative videos; German violinist Tassilo Probst\, who is making musical headlines throughout Europe; virtuoso bassoonist Eleni Katz\, who recently won the prestigious Concert Artist Guild Auditions; Soprano and activist Teddy Siegel\, founder of the infamous bathroom account Got2GoNYC; and celebrated pianist Maxim Lando\, who has been lauded by the New York Times for his “brilliance and infectious exuberance.” The concert will also feature the popular OBMF Singers\, additional prize-winning instrumentalists\, and an appearance from one of the few musical-saw masters remaining in the world\, Dale Stuckenbruck. Music selections will include works by Mozart\, Rachmaninoff\, Wieniawski\, Bizet\, Debussy\, Dubois and much more. This is truly a concert not to be missed.
URL:https://www.huntingtonarts.org/event/oyster-bay-music-festival-presents-natural-emotion/
LOCATION:OLD WESTBURY GARDENS\, 71 Old Westbury Road\, Old Westbury\, NY\, 11568\, United States
CATEGORIES:Music
ATTACH;FMTTYPE=image/jpeg:https://www.huntingtonarts.org/wp-content/uploads/2024/06/Bassist-Marc-Andre-and-Pianist-Maxim-Lando-6-scaled.jpg
ORGANIZER;CN="Oyster Bay Music Festival":MAILTO:lbab1flute@gmail.com
END:VEVENT
BEGIN:VEVENT
DTSTART;TZID=America/New_York:20240630T140000
DTEND;TZID=America/New_York:20240630T160000
DTSTAMP:20260422T035003
CREATED:20240626T145104Z
LAST-MODIFIED:20240626T145104Z
UID:10014045-1719756000-1719763200@www.huntingtonarts.org
SUMMARY:Oyster Bay Music Festival presents Musical Poetry
DESCRIPTION:Between June 27 through July 4\, the Oyster Bay Music Festival will present 12 completely different concert programs in 9 charming venues along the Gold Coast of Long Island. Each OBMF concert is a variety show featuring a diverse range of musical repertoire from a performing cast of around 25 musicians – including vocalists\, pianists\, strings and wind players. The talent pool includes world-class musicians with international reputations\, and local classical music stars. Every performance exudes both professionalism and joy\, telling a story uplifted by a genuine love for music felt by everyone in the room. \nSunday\, June 30 2-4pm – Musical Poetry at Cedarmere Estate\nOne of this season’s most poetic concerts\, in an intimate and atmospheric space – the concert features Debussy’s iconic Prelude to the Afternoon of a Faun in a stunning arrangement for flute and piano\, along with instrumental and vocal music by Paganini\, Ravel\, Poulenc\, Schumann\, Bizet\, and more. A wide variety of OBMF performers will be featured.
URL:https://www.huntingtonarts.org/event/oyster-bay-music-festival-presents-musical-poetry/
LOCATION:Cedarmere Estate\, 225 Bryant Avenue\, Roslyn Harbor\, 11576\, United States
CATEGORIES:Music
ATTACH;FMTTYPE=image/jpeg:https://www.huntingtonarts.org/wp-content/uploads/2024/06/Bassist-Marc-Andre-and-Pianist-Maxim-Lando-5-scaled.jpg
ORGANIZER;CN="Oyster Bay Music Festival":MAILTO:lbab1flute@gmail.com
END:VEVENT
BEGIN:VEVENT
DTSTART;TZID=America/New_York:20240629T190000
DTEND;TZID=America/New_York:20240629T210000
DTSTAMP:20260422T035003
CREATED:20240626T144202Z
LAST-MODIFIED:20240626T144501Z
UID:10014044-1719687600-1719694800@www.huntingtonarts.org
SUMMARY:Oyster Bay Music Festival presents Inspiration and Notation
DESCRIPTION:Between June 27 through July 4\, the Oyster Bay Music Festival will present 12 completely different concert programs in 9 charming venues along the Gold Coast of Long Island. Each OBMF concert is a variety show featuring a diverse range of musical repertoire from a performing cast of around 25 musicians – including vocalists\, pianists\, strings and wind players. The talent pool includes world-class musicians with international reputations\, and local classical music stars. Every performance exudes both professionalism and joy\, telling a story uplifted by a genuine love for music felt by everyone in the room. \nSaturday\, June 29 7-9pm – Inspiration and Notation at St. John’s Cold Spring Harbor\nAn evening of tangos\, crowd pleasers\, and inspiration – concert highlights include Nina Rota’s Trio for flute\, violin and piano; Piazolla Grand Tango for violin; Granados espagnole on double bass; Kurt Weill for soprano and mandolin; a Mendelssohn Concert Piece for clarinet and bassoon; a piano surprise; and much more.
URL:https://www.huntingtonarts.org/event/oyster-bay-music-festival-presents-inspiration-and-notation/
LOCATION:St John’s Church Cold Spring Harbor\, 1670 Rte 25A\, Cold Spring Harbor\, New York\, 11724\, United States
CATEGORIES:Music
ATTACH;FMTTYPE=image/jpeg:https://www.huntingtonarts.org/wp-content/uploads/2024/06/Bassist-Marc-Andre-and-Pianist-Maxim-Lando-4-scaled.jpg
ORGANIZER;CN="Oyster Bay Music Festival":MAILTO:lbab1flute@gmail.com
END:VEVENT
BEGIN:VEVENT
DTSTART;TZID=America/New_York:20240628T200000
DTEND;TZID=America/New_York:20240628T220000
DTSTAMP:20260422T035003
CREATED:20240626T143735Z
LAST-MODIFIED:20240626T144459Z
UID:10014043-1719604800-1719612000@www.huntingtonarts.org
SUMMARY:Oyster Bay Music Festival presents When Nature Calls Hosted by Teddy Siegel
DESCRIPTION:Between June 27 through July 4\, the Oyster Bay Music Festival will present 12 completely different concert programs in 9 charming venues along the Gold Coast of Long Island. Each OBMF concert is a variety show featuring a diverse range of musical repertoire from a performing cast of around 25 musicians – including vocalists\, pianists\, strings and wind players. The talent pool includes world-class musicians with international reputations\, and local classical music stars. Every performance exudes both professionalism and joy\, telling a story uplifted by a genuine love for music felt by everyone in the room. \nFriday\, June 28 8pm – When Nature Calls – Hosted by Teddy Siegel at Hecksher Park\nTeddy Siegel\, dynamic soprano and creator of Got2Go joins with Oyster Bay Music Festival to present a\nconcert like none other. Together with a lineup of star musicians all in their twenties – including virtuoso\npianist Maxim Lando\, celebrated bassoonist Eleni Katz\, and National Symphony Orchestra flutist\nMatthew Ross – Teddy weaves together an evening of bathroom stories\, humor and great music. Featured\non the program will be selections from favorite Broadway musicals\, as well as music by Gershwin\,\nShostakovich\, Dvorak\, Mozart\, Bernstein\, and more.
URL:https://www.huntingtonarts.org/event/oyster-bay-music-festival-presents-when-nature-calls-hosted-by-teddy-siegel/
LOCATION:Heckscher Park\, Main Street\, Huntington\, NY\, 11743\, United States
CATEGORIES:Music
ATTACH;FMTTYPE=image/jpeg:https://www.huntingtonarts.org/wp-content/uploads/2024/06/Bassist-Marc-Andre-and-Pianist-Maxim-Lando-3-scaled.jpg
ORGANIZER;CN="Oyster Bay Music Festival":MAILTO:lbab1flute@gmail.com
GEO:40.8710209;-73.4279699
X-APPLE-STRUCTURED-LOCATION;VALUE=URI;X-ADDRESS=Heckscher Park Main Street Huntington NY 11743 United States;X-APPLE-RADIUS=500;X-TITLE=Main Street:geo:-73.4279699,40.8710209
END:VEVENT
BEGIN:VEVENT
DTSTART;TZID=America/New_York:20240628T130000
DTEND;TZID=America/New_York:20240628T143000
DTSTAMP:20260422T035003
CREATED:20240626T145934Z
LAST-MODIFIED:20240626T145934Z
UID:10014042-1719579600-1719585000@www.huntingtonarts.org
SUMMARY:Oyster Bay Music Festival presents Mid-Day Concert
DESCRIPTION:Between June 27 through July 4\, the Oyster Bay Music Festival will present 12 completely different concert programs in 9 charming venues along the Gold Coast of Long Island. Each OBMF concert is a variety show featuring a diverse range of musical repertoire from a performing cast of around 25 musicians – including vocalists\, pianists\, strings and wind players. The talent pool includes world-class musicians with international reputations\, and local classical music stars. Every performance exudes both professionalism and joy\, telling a story uplifted by a genuine love for music felt by everyone in the room. \nFriday\, June 28 1-2:30pm – Mid-Day Concert at Christ Church Oyster Bay\nA delightful musical treat for the afternoon – passionate instrumental and vocal selections including works by Rachmaninoff\, Kapustin\, Ravel\, Weber\, and much more.
URL:https://www.huntingtonarts.org/event/oyster-bay-music-festival-presents-mid-day-concert/
LOCATION:Christ Church of Oyster Bay\, 61 E Main Street\, Oyster Bay\, New York\, 11771\, United States
CATEGORIES:Music
ATTACH;FMTTYPE=image/jpeg:https://www.huntingtonarts.org/wp-content/uploads/2024/06/Bassist-Marc-Andre-and-Pianist-Maxim-Lando-2-scaled.jpg
ORGANIZER;CN="Oyster Bay Music Festival":MAILTO:lbab1flute@gmail.com
GEO:40.8723109;-73.5278091
X-APPLE-STRUCTURED-LOCATION;VALUE=URI;X-ADDRESS=Christ Church of Oyster Bay 61 E Main Street Oyster Bay New York 11771 United States;X-APPLE-RADIUS=500;X-TITLE=61 E Main Street:geo:-73.5278091,40.8723109
END:VEVENT
BEGIN:VEVENT
DTSTART;TZID=America/New_York:20240627T190000
DTEND;TZID=America/New_York:20240627T210000
DTSTAMP:20260422T035003
CREATED:20240625T205125Z
LAST-MODIFIED:20240625T205125Z
UID:10014041-1719514800-1719522000@www.huntingtonarts.org
SUMMARY:Oyster Bay Music Festival presents The Romantics: Musical Drama for the Ages
DESCRIPTION:Between June 27 through July 4\, the Oyster Bay Music Festival will present 12 completely different concert programs in 9 charming venues along the Gold Coast of Long Island. Each OBMF concert is a variety show featuring a diverse range of musical repertoire from a performing cast of around 25 musicians – including vocalists\, pianists\, strings and wind players. The talent pool includes world-class musicians with international reputations\, and local classical music stars. Every performance exudes both professionalism and joy\, telling a story uplifted by a genuine love for music felt by everyone in the room. \nThursday\, June 27 7-9pm – The Romantics: Musical Drama for the Ages at Unitarian Universalist Congregation at Shelter Rock\nOBMF presents a concert filled with musical drama and unbridled passion of the Romantic Era – with a few hints of a new modern sound to come. The varied program includes Glinka’s emotional Trio Pathétique for bassoon\, clarinet\, and piano; dramatic opera arias from the popular OBMF Singers; music by Brahms\, Schumann\, and Fanny Mendelssohn; the Dutilleux Flute Sonatine; and Kreisler’s Tambourin Chinois played on the erhu.
URL:https://www.huntingtonarts.org/event/oyster-bay-music-festival-presents-the-romantics-musical-drama-for-the-ages/
LOCATION:Unitarian Universalist Congregation at Shelter Rock\, 48 Shelter Rock Road\, Manhasset\, New York\, 11030\, United States
CATEGORIES:Music
ATTACH;FMTTYPE=image/jpeg:https://www.huntingtonarts.org/wp-content/uploads/2024/06/Bassist-Marc-Andre-and-Pianist-Maxim-Lando-1-scaled.jpg
ORGANIZER;CN="Oyster Bay Music Festival":MAILTO:lbab1flute@gmail.com
GEO:40.7825735;-73.6857697
X-APPLE-STRUCTURED-LOCATION;VALUE=URI;X-ADDRESS=Unitarian Universalist Congregation at Shelter Rock 48 Shelter Rock Road Manhasset New York 11030 United States;X-APPLE-RADIUS=500;X-TITLE=48 Shelter Rock Road:geo:-73.6857697,40.7825735
END:VEVENT
BEGIN:VEVENT
DTSTART;TZID=America/New_York:20240627T163000
DTEND;TZID=America/New_York:20240627T173000
DTSTAMP:20260422T035003
CREATED:20240625T201234Z
LAST-MODIFIED:20240625T201234Z
UID:10014040-1719505800-1719509400@www.huntingtonarts.org
SUMMARY:Oyster Bay Music Festival presents Let the Music Begin!
DESCRIPTION:Between June 27 through July 4\, the Oyster Bay Music Festival will present 12 completely different concert programs in 9 charming venues along the Gold Coast of Long Island. Each OBMF concert is a variety show featuring a diverse range of musical repertoire from a performing cast of around 25 musicians – including vocalists\, pianists\, strings and wind players. The talent pool includes world-class musicians with international reputations\, and local classical music stars. Every performance exudes both professionalism and joy\, telling a story uplifted by a genuine love for music felt by everyone in the room. \nThursday\, June 27 4:30-5:30pm – Let the Music Begin at Raynham Hall Museum\nIn the intimate space of Raynham Hall Visitor’s Center\, Oyster Bay Music Festival opens the season with an hour-long teaser concert featuring beautiful vocal repertoire\, solo Bach on the violin\, a Rachmaninoff piano solo\, and the Zandieh Trio (three Juilliard trained brothers) performing a movement from the brilliant Arensky Trio.
URL:https://www.huntingtonarts.org/event/oyster-bay-music-festival-presents-let-the-music-begin/
LOCATION:Raynham Hall Museum\, 30 West Main Street\, Oyster Bay\, NY\, 11771\, United States
CATEGORIES:Music
ATTACH;FMTTYPE=image/jpeg:https://www.huntingtonarts.org/wp-content/uploads/2024/06/Bassist-Marc-Andre-and-Pianist-Maxim-Lando-scaled.jpg
ORGANIZER;CN="Oyster Bay Music Festival":MAILTO:lbab1flute@gmail.com
END:VEVENT
END:VCALENDAR