BEGIN:VCALENDAR
VERSION:2.0
PRODID:-//Huntington Arts Council - ECPv6.15.20//NONSGML v1.0//EN
CALSCALE:GREGORIAN
METHOD:PUBLISH
X-WR-CALNAME:Huntington Arts Council
X-ORIGINAL-URL:https://www.huntingtonarts.org
X-WR-CALDESC:Events for Huntington Arts Council
REFRESH-INTERVAL;VALUE=DURATION:PT1H
X-Robots-Tag:noindex
X-PUBLISHED-TTL:PT1H
BEGIN:VTIMEZONE
TZID:America/New_York
BEGIN:DAYLIGHT
TZOFFSETFROM:-0500
TZOFFSETTO:-0400
TZNAME:EDT
DTSTART:20220313T070000
END:DAYLIGHT
BEGIN:STANDARD
TZOFFSETFROM:-0400
TZOFFSETTO:-0500
TZNAME:EST
DTSTART:20221106T060000
END:STANDARD
BEGIN:DAYLIGHT
TZOFFSETFROM:-0500
TZOFFSETTO:-0400
TZNAME:EDT
DTSTART:20230312T070000
END:DAYLIGHT
BEGIN:STANDARD
TZOFFSETFROM:-0400
TZOFFSETTO:-0500
TZNAME:EST
DTSTART:20231105T060000
END:STANDARD
BEGIN:DAYLIGHT
TZOFFSETFROM:-0500
TZOFFSETTO:-0400
TZNAME:EDT
DTSTART:20240310T070000
END:DAYLIGHT
BEGIN:STANDARD
TZOFFSETFROM:-0400
TZOFFSETTO:-0500
TZNAME:EST
DTSTART:20241103T060000
END:STANDARD
BEGIN:DAYLIGHT
TZOFFSETFROM:-0500
TZOFFSETTO:-0400
TZNAME:EDT
DTSTART:20250309T070000
END:DAYLIGHT
BEGIN:STANDARD
TZOFFSETFROM:-0400
TZOFFSETTO:-0500
TZNAME:EST
DTSTART:20251102T060000
END:STANDARD
BEGIN:DAYLIGHT
TZOFFSETFROM:-0500
TZOFFSETTO:-0400
TZNAME:EDT
DTSTART:20260308T070000
END:DAYLIGHT
BEGIN:STANDARD
TZOFFSETFROM:-0400
TZOFFSETTO:-0500
TZNAME:EST
DTSTART:20261101T060000
END:STANDARD
END:VTIMEZONE
BEGIN:VEVENT
DTSTART;VALUE=DATE:20251005
DTEND;VALUE=DATE:20251011
DTSTAMP:20260422T024219
CREATED:20250505T165914Z
LAST-MODIFIED:20250505T165914Z
UID:10015613-1759622400-1760140799@www.huntingtonarts.org
SUMMARY:Jan Guarino presents Fearless Watercolors Workshop at Omega
DESCRIPTION:Watercolors have a reputation for being difficult. But watercolors can give you something as an artist that other media can’t—they do a great deal of the work for you. Unexpected results that can’t be repeated make each painting unique. You need to know how to control and give up control all at the same time. It should look and feel effortless—yet it takes an understanding of the medium. \nIn this workshop with award-winning artist and educator Jan Guarino\, explore one of the most important aspects of this medium—the element of surprise that happens when you get out of the way and allow the paint to move in water. Jan says that watercolor is all about how the paint flows and what happens in its wake. Deciding to control it or allow it takes time\, patience\, and practice. \nAs you relax and find ease in your body\, mind\, and soul through art\, you learn to: \nUnderstand how your paint will behave by embracing the beauty of watercolors\nControl brush strokes\nUnderstand color theory to avoid muddy results with color wheel\nCreate unique textures\nCorrect a watercolor with many different methods\nHave fun and so much more…. \nThe subjects we paint together will help us focus on the wonders of watercolors—things that we find in nature around the beautiful Omega campus. Enjoy a magical journey by embracing all the wonderful properties that watercolors offer us all.
URL:https://www.huntingtonarts.org/event/jan-guarino-presents-fearless-watercolors-workshop-at-omega/
LOCATION:The Omega Institute\, 150 Lake Drive\, Rhinebeck\, NY\, 12572\, United States
CATEGORIES:Art Demo,Workshop Classes
ATTACH;FMTTYPE=image/jpeg:https://www.huntingtonarts.org/wp-content/uploads/2025/05/Let-It-Be-scaled.jpg
ORGANIZER;CN="Omega":MAILTO:jan@janguarinofineart.com
END:VEVENT
BEGIN:VEVENT
DTSTART;VALUE=DATE:20240630
DTEND;VALUE=DATE:20240706
DTSTAMP:20260422T024219
CREATED:20240425T171333Z
LAST-MODIFIED:20240425T171333Z
UID:10010920-1719705600-1720223999@www.huntingtonarts.org
SUMMARY:Jan Guarino presents Fearless Watercolors at the Omega Institute
DESCRIPTION:Watercolors may feel intimidating at first. To be successful\, you need to know how to control and give up control all at the same time. It should look and feel effortless—yet it takes an understanding of the medium. \nIn this week long workshop with artist and educator Jan Guarino\, explore one of the most important aspects of this medium—the element of surprise that happens when you get out of the way and allow the paint to move in water. Jan says that watercolor is all about how the paint flows and what happens in its wake. Deciding to control it or allow it takes time\, patience\, and practice. \nAs you relax and find ease in your body\, mind\, and soul through art\, you learn to: \nUnderstand how your paint moves by embracing the beauty of watercolors\nand brush strokes\nUse the color wheel to create vibrant art and avoid muddy paintings\nUnderstand the natural properties of watercolors and work with them\nCorrect a watercolor with many different methods and much more \nAs we gain knowledge\, we can move into subjects such as florals\, still lifes\, landscape and waterscape
URL:https://www.huntingtonarts.org/event/jan-guarino-presents-fearless-watercolors-at-the-omega-institute/
LOCATION:The Omega Institute\, 150 Lake Drive\, Rhinebeck\, NY\, 12572\, United States
CATEGORIES:Workshop Classes
ATTACH;FMTTYPE=image/jpeg:https://www.huntingtonarts.org/wp-content/uploads/2024/04/Purple-Hearts-lr.jpg
ORGANIZER;CN="Omega":MAILTO:jan@janguarinofineart.com
END:VEVENT
BEGIN:VEVENT
DTSTART;VALUE=DATE:20230731
DTEND;VALUE=DATE:20230805
DTSTAMP:20260422T024219
CREATED:20220829T210935Z
LAST-MODIFIED:20230613T115213Z
UID:10004800-1690761600-1691193599@www.huntingtonarts.org
SUMMARY:Fearless Watercolors at The Omega Institute
DESCRIPTION:Learn to paint in watercolors without the concern and fear that seems to be associated with this medium. Learn to work with color theory to avoid muddy paintings: understand the natural aspects of watercolors and embrace them instead of trying to control what the paints want to do naturally; know the different types of brush strokes and the timing in which to do it all. Find yourself in this beautiful medium and allow it to be a watercolor by painting different subjects. This workshop takes so many aspects of watercolors and brings them together so that you walk away with a deeper understanding of painting in watercolors. \nOn going In-Person and Zoom classes will continue – go to janguarinofineart.com for updates and details.
URL:https://www.huntingtonarts.org/event/fearless-watercolors-at-the-omega-institute/
LOCATION:The Omega Institute\, 150 Lake Drive\, Rhinebeck\, NY\, 12572\, United States
CATEGORIES:Workshop Classes
ATTACH;FMTTYPE=image/jpeg:https://www.huntingtonarts.org/wp-content/uploads/2022/08/Lilys-Peace-Pads-wm.jpg
ORGANIZER;CN="Omega":MAILTO:jan@janguarinofineart.com
END:VEVENT
END:VCALENDAR