BEGIN:VCALENDAR
VERSION:2.0
PRODID:-//Huntington Arts Council - ECPv6.15.20//NONSGML v1.0//EN
CALSCALE:GREGORIAN
METHOD:PUBLISH
X-WR-CALNAME:Huntington Arts Council
X-ORIGINAL-URL:https://www.huntingtonarts.org
X-WR-CALDESC:Events for Huntington Arts Council
REFRESH-INTERVAL;VALUE=DURATION:PT1H
X-Robots-Tag:noindex
X-PUBLISHED-TTL:PT1H
BEGIN:VTIMEZONE
TZID:America/New_York
BEGIN:DAYLIGHT
TZOFFSETFROM:-0500
TZOFFSETTO:-0400
TZNAME:EDT
DTSTART:20210314T070000
END:DAYLIGHT
BEGIN:STANDARD
TZOFFSETFROM:-0400
TZOFFSETTO:-0500
TZNAME:EST
DTSTART:20211107T060000
END:STANDARD
BEGIN:DAYLIGHT
TZOFFSETFROM:-0500
TZOFFSETTO:-0400
TZNAME:EDT
DTSTART:20220313T070000
END:DAYLIGHT
BEGIN:STANDARD
TZOFFSETFROM:-0400
TZOFFSETTO:-0500
TZNAME:EST
DTSTART:20221106T060000
END:STANDARD
BEGIN:DAYLIGHT
TZOFFSETFROM:-0500
TZOFFSETTO:-0400
TZNAME:EDT
DTSTART:20230312T070000
END:DAYLIGHT
BEGIN:STANDARD
TZOFFSETFROM:-0400
TZOFFSETTO:-0500
TZNAME:EST
DTSTART:20231105T060000
END:STANDARD
BEGIN:DAYLIGHT
TZOFFSETFROM:-0500
TZOFFSETTO:-0400
TZNAME:EDT
DTSTART:20240310T070000
END:DAYLIGHT
BEGIN:STANDARD
TZOFFSETFROM:-0400
TZOFFSETTO:-0500
TZNAME:EST
DTSTART:20241103T060000
END:STANDARD
END:VTIMEZONE
BEGIN:VEVENT
DTSTART;TZID=America/New_York:20231006T200000
DTEND;TZID=America/New_York:20231006T220000
DTSTAMP:20260422T022318
CREATED:20230912T145545Z
LAST-MODIFIED:20230912T145545Z
UID:10006468-1696622400-1696629600@www.huntingtonarts.org
SUMMARY:North Shore Symphony Orchestra Concert "The Many Faces of the Orchestra"
DESCRIPTION:Conductor Harry Marenstein and the North Shore Symphony Orchestra present “The Many Faces of the Orchestra” transforming from Broadway Pit Orchestra to Hollywood Studio Orchestra to Dance Hall Orchestra to a Popular Concert and Television Orchestra of the 40s and 50s. (Imagine Symphony Orchestras being popular on television again!)\nFeaturing music from: Man of La Mancha\, Wicked\, The Hobbit: An unexpected Journey\, E.T.\, The Great Escape\, Cinema Paradiso and popular works by composers: Ernest Gold\, Don Raye and Al Jacobs\, Leroy Anderson\, and Duke Ellington
URL:https://www.huntingtonarts.org/event/north-shore-symphony-orchestra-concert-the-many-faces-of-the-orchestra/
LOCATION:Adelphi University Performing Arts Center\, 1 South Avenue\, Garden City\, NY\, 11530\, United States
CATEGORIES:Children and Family,Music
ATTACH;FMTTYPE=image/jpeg:https://www.huntingtonarts.org/wp-content/uploads/2023/09/NSSO-performance-2.jpg
ORGANIZER;CN="North Shore Symphony Orchestra":MAILTO:nssorchestra@gmail.com
GEO:40.7187729;-73.6518032
X-APPLE-STRUCTURED-LOCATION;VALUE=URI;X-ADDRESS=Adelphi University Performing Arts Center 1 South Avenue Garden City NY 11530 United States;X-APPLE-RADIUS=500;X-TITLE=1 South Avenue:geo:-73.6518032,40.7187729
END:VEVENT
BEGIN:VEVENT
DTSTART;TZID=America/New_York:20221210T200000
DTEND;TZID=America/New_York:20221210T220000
DTSTAMP:20260422T022318
CREATED:20221125T213209Z
LAST-MODIFIED:20221125T213209Z
UID:10004827-1670702400-1670709600@www.huntingtonarts.org
SUMMARY:North Shore Symphony Orchestra Concert and Raffle
DESCRIPTION:WINTER GALA CONCERT & RAFFLE \nPERFORMANCE will include:\nBeethoven’s Die Weihe Des Hauses Overture\nTchaikovsky’s Symphony No.5 in E minor\, Op.64 with a demystifying guided tour by Music Director and Conductor\, Harry Marenstein\nSpecial Guest Performance by Students of the Virtuoso Suzuki Academy\nGrand Finale Audience singing-along of Handle’s Hallelujah Chorus \nRAFFLE/AUCTION will include:\nSports Memorabilia\, Dining Gift Cards\, Show Tickets\, Gift Baskets\, Fine Art and More!
URL:https://www.huntingtonarts.org/event/north-shore-symphony-orchestra-concert-and-raffle/
LOCATION:Adelphi University Performing Arts Center\, 1 South Avenue\, Garden City\, NY\, 11530\, United States
CATEGORIES:Lectures,Music
ATTACH;FMTTYPE=image/jpeg:https://www.huntingtonarts.org/wp-content/uploads/2022/11/NSSO-performance.jpg
ORGANIZER;CN="North Shore Symphony Orchestra":MAILTO:nssorchestra@gmail.com
GEO:40.7187729;-73.6518032
X-APPLE-STRUCTURED-LOCATION;VALUE=URI;X-ADDRESS=Adelphi University Performing Arts Center 1 South Avenue Garden City NY 11530 United States;X-APPLE-RADIUS=500;X-TITLE=1 South Avenue:geo:-73.6518032,40.7187729
END:VEVENT
END:VCALENDAR