BEGIN:VCALENDAR
VERSION:2.0
PRODID:-//Huntington Arts Council - ECPv6.15.20//NONSGML v1.0//EN
CALSCALE:GREGORIAN
METHOD:PUBLISH
X-ORIGINAL-URL:https://www.huntingtonarts.org
X-WR-CALDESC:Events for Huntington Arts Council
REFRESH-INTERVAL;VALUE=DURATION:PT1H
X-Robots-Tag:noindex
X-PUBLISHED-TTL:PT1H
BEGIN:VTIMEZONE
TZID:America/New_York
BEGIN:DAYLIGHT
TZOFFSETFROM:-0500
TZOFFSETTO:-0400
TZNAME:EDT
DTSTART:20230312T070000
END:DAYLIGHT
BEGIN:STANDARD
TZOFFSETFROM:-0400
TZOFFSETTO:-0500
TZNAME:EST
DTSTART:20231105T060000
END:STANDARD
BEGIN:DAYLIGHT
TZOFFSETFROM:-0500
TZOFFSETTO:-0400
TZNAME:EDT
DTSTART:20240310T070000
END:DAYLIGHT
BEGIN:STANDARD
TZOFFSETFROM:-0400
TZOFFSETTO:-0500
TZNAME:EST
DTSTART:20241103T060000
END:STANDARD
BEGIN:DAYLIGHT
TZOFFSETFROM:-0500
TZOFFSETTO:-0400
TZNAME:EDT
DTSTART:20250309T070000
END:DAYLIGHT
BEGIN:STANDARD
TZOFFSETFROM:-0400
TZOFFSETTO:-0500
TZNAME:EST
DTSTART:20251102T060000
END:STANDARD
END:VTIMEZONE
BEGIN:VEVENT
DTSTART;VALUE=DATE:20240816
DTEND;VALUE=DATE:20240915
DTSTAMP:20260422T213035
CREATED:20240829T195318Z
LAST-MODIFIED:20240829T195318Z
UID:10014201-1723766400-1726358399@www.huntingtonarts.org
SUMMARY:Permanent Impermanence: Featuring the work of Mary Ahern
DESCRIPTION:The Massachusetts Chapter of the National Association of Women Artists is proud to present their latest in-person exhibition.\n‘Permanent Impermanence’ is not just a title; it’s a profound theme that our artistic creations embody. We delve into the impermanence of everything\, a concept often overlooked daily. Despite continuous change\, we often invest as if life is fixed and unquestionable\, such as our relationships\, jobs\, income\, and housing. Our exhibition offers a unique opportunity to explore this theme and present your interpretation. There is absolute peace and understanding\, a mindfulness to accept that nothing lasts forever.
URL:https://www.huntingtonarts.org/event/permanent-impermanence-featuring-the-work-of-mary-ahern/
LOCATION:Dartmouth Cultural Center\, 404 Elm Street\, South Dartmouth\, MA\, 02748\, United States
CATEGORIES:Exhibitions
ATTACH;FMTTYPE=image/jpeg:https://www.huntingtonarts.org/wp-content/uploads/2024/08/2024-08-Permanent-Impermanence-Cosmic-Flowers-Mary-Ahern.jpg
ORGANIZER;CN="National Association of Women Artists-Massachusetts Chapter":MAILTO:Chair_PublicRelations@theNAWA.org
END:VEVENT
END:VCALENDAR