BEGIN:VCALENDAR
VERSION:2.0
PRODID:-//Huntington Arts Council - ECPv6.15.20//NONSGML v1.0//EN
CALSCALE:GREGORIAN
METHOD:PUBLISH
X-ORIGINAL-URL:https://www.huntingtonarts.org
X-WR-CALDESC:Events for Huntington Arts Council
REFRESH-INTERVAL;VALUE=DURATION:PT1H
X-Robots-Tag:noindex
X-PUBLISHED-TTL:PT1H
BEGIN:VTIMEZONE
TZID:America/New_York
BEGIN:DAYLIGHT
TZOFFSETFROM:-0500
TZOFFSETTO:-0400
TZNAME:EDT
DTSTART:20250309T070000
END:DAYLIGHT
BEGIN:STANDARD
TZOFFSETFROM:-0400
TZOFFSETTO:-0500
TZNAME:EST
DTSTART:20251102T060000
END:STANDARD
BEGIN:DAYLIGHT
TZOFFSETFROM:-0500
TZOFFSETTO:-0400
TZNAME:EDT
DTSTART:20260308T070000
END:DAYLIGHT
BEGIN:STANDARD
TZOFFSETFROM:-0400
TZOFFSETTO:-0500
TZNAME:EST
DTSTART:20261101T060000
END:STANDARD
BEGIN:DAYLIGHT
TZOFFSETFROM:-0500
TZOFFSETTO:-0400
TZNAME:EDT
DTSTART:20270314T070000
END:DAYLIGHT
BEGIN:STANDARD
TZOFFSETFROM:-0400
TZOFFSETTO:-0500
TZNAME:EST
DTSTART:20271107T060000
END:STANDARD
END:VTIMEZONE
BEGIN:VEVENT
DTSTART;TZID=America/New_York:20260627T100000
DTEND;TZID=America/New_York:20260627T120000
DTSTAMP:20260421T224118
CREATED:20260414T143546Z
LAST-MODIFIED:20260414T143546Z
UID:10023669-1782554400-1782561600@www.huntingtonarts.org
SUMMARY:Artist Member Christie Jones presents Handmade Watercolor Workshop
DESCRIPTION:Saturday\, June 27 | 10 am – 12 pm\nWorkshop with Christie Jones \nDate: Saturday\, June 27th\nTime: 10 am – 12 pm\nSuitable for adults 16+\nLocation: The Manes Art Education Center \n$81 museum members | $90 nonmembers \nJoin us for a hands-on watercolor workshop inspired by the grounds of the Nassau County Museum of Art. Participants will paint using handmade\, sustainable earth pigments while exploring the preserve’s unique colors and textures. \nThe workshop will begin with a live demonstration of the natural paint making process using raw earth and mineral materials. From there we will head outdoors where participants can paint plein air with the handmade watercolor paint. \nTo ensure your creativity continues beyond the museum grounds\, every participant will receive a curated watercolor painting kit to take home. Whether you are a seasoned artist or picking up a brush for the first time\, you will leave with new skills\, a work of art\, and the tools to keep practicing. \nAll art making materials are included. \nPre-registration is required by all. Price includes Museum admission. Click here to become a member. \nFor inquiries about this program\, please email artclasses@nassaumuseum.org
URL:https://www.huntingtonarts.org/event/artist-member-christie-jones-presents-handmade-watercolor-workshop/
LOCATION:The Manes Family Art & Education Center at Nassau County Museum of Art\, 1 Museum Drive\, Roslyn Harbor\, NY\, 11572\, United States
CATEGORIES:Workshop Classes
ATTACH;FMTTYPE=image/jpeg:https://www.huntingtonarts.org/wp-content/uploads/2026/04/christie-jones-studio-paint-making-process-scaled.jpg
ORGANIZER;CN="Nassau County Museum of Art":MAILTO:events@nassaumuseum.org
GEO:40.8081504;-73.6432389
X-APPLE-STRUCTURED-LOCATION;VALUE=URI;X-ADDRESS=The Manes Family Art & Education Center at Nassau County Museum of Art 1 Museum Drive Roslyn Harbor NY 11572 United States;X-APPLE-RADIUS=500;X-TITLE=1 Museum Drive:geo:-73.6432389,40.8081504
END:VEVENT
END:VCALENDAR