BEGIN:VCALENDAR
VERSION:2.0
PRODID:-//Huntington Arts Council - ECPv6.15.20//NONSGML v1.0//EN
CALSCALE:GREGORIAN
METHOD:PUBLISH
X-WR-CALNAME:Huntington Arts Council
X-ORIGINAL-URL:https://www.huntingtonarts.org
X-WR-CALDESC:Events for Huntington Arts Council
REFRESH-INTERVAL;VALUE=DURATION:PT1H
X-Robots-Tag:noindex
X-PUBLISHED-TTL:PT1H
BEGIN:VTIMEZONE
TZID:America/New_York
BEGIN:DAYLIGHT
TZOFFSETFROM:-0500
TZOFFSETTO:-0400
TZNAME:EDT
DTSTART:20230312T070000
END:DAYLIGHT
BEGIN:STANDARD
TZOFFSETFROM:-0400
TZOFFSETTO:-0500
TZNAME:EST
DTSTART:20231105T060000
END:STANDARD
BEGIN:DAYLIGHT
TZOFFSETFROM:-0500
TZOFFSETTO:-0400
TZNAME:EDT
DTSTART:20240310T070000
END:DAYLIGHT
BEGIN:STANDARD
TZOFFSETFROM:-0400
TZOFFSETTO:-0500
TZNAME:EST
DTSTART:20241103T060000
END:STANDARD
BEGIN:DAYLIGHT
TZOFFSETFROM:-0500
TZOFFSETTO:-0400
TZNAME:EDT
DTSTART:20250309T070000
END:DAYLIGHT
BEGIN:STANDARD
TZOFFSETFROM:-0400
TZOFFSETTO:-0500
TZNAME:EST
DTSTART:20251102T060000
END:STANDARD
BEGIN:DAYLIGHT
TZOFFSETFROM:-0500
TZOFFSETTO:-0400
TZNAME:EDT
DTSTART:20260308T070000
END:DAYLIGHT
BEGIN:STANDARD
TZOFFSETFROM:-0400
TZOFFSETTO:-0500
TZNAME:EST
DTSTART:20261101T060000
END:STANDARD
END:VTIMEZONE
BEGIN:VEVENT
DTSTART;VALUE=DATE:20251120
DTEND;VALUE=DATE:20251222
DTSTAMP:20260421T222518
CREATED:20250904T204521Z
LAST-MODIFIED:20250904T204521Z
UID:10016186-1763596800-1766361599@www.huntingtonarts.org
SUMMARY:Long Island Museum – Common Ground
DESCRIPTION:Mary Ahern will be exhibiting her work at the LIM History Museum Main Gallery. The show title\, Common Ground\, is a theme rooted in the appreciation of shared space\, community\, environment\, and culture. Ahern’s large and vivid artwork sparks a vital conversation that reflects the interconnectedness and delicate balance within both the microcosm of the garden and the macrocosm of the cosmos. These identifiable floral Images are glazed and intertwined with abstract underpaintings inspired by the visuals of the universe. \nBy recognizing the delicate balance required for both terrestrial and celestial ecosystems to thrive\, Ahern aims to provide a visual context for understanding the essential balance necessary to sustain life’s intricate harmony across all scales – from the tiniest flower to the grandest galaxy. Through this layered\, evocative imagery\, she invites viewers to pause\, contemplate\, and cultivate a deeper appreciation for the fragile yet resilient web of life that sustains our world and cosmos.
URL:https://www.huntingtonarts.org/event/long-island-museum-common-ground/
LOCATION:Long Island Museum\, 1200 Rte 25A\, Stony Brook\, NY\, 11790\, United States
CATEGORIES:Exhibitions
ATTACH;FMTTYPE=image/jpeg:https://www.huntingtonarts.org/wp-content/uploads/2025/08/241115-My-New-World-Anemone-Redux-36x36-20x72-1.jpg
ORGANIZER;CN="Mary Ahern":MAILTO:mary@MaryAhernArtist.com
GEO:40.9120643;-73.1415192
X-APPLE-STRUCTURED-LOCATION;VALUE=URI;X-ADDRESS=Long Island Museum 1200 Rte 25A Stony Brook NY 11790 United States;X-APPLE-RADIUS=500;X-TITLE=1200 Rte 25A:geo:-73.1415192,40.9120643
END:VEVENT
BEGIN:VEVENT
DTSTART;VALUE=DATE:20250916
DTEND;VALUE=DATE:20251004
DTSTAMP:20260421T222518
CREATED:20250904T204547Z
LAST-MODIFIED:20250904T204547Z
UID:10016188-1757980800-1759535999@www.huntingtonarts.org
SUMMARY:Mary Ahern featured in the 16th Annual Sylvia Glesmann Floral Exhibition-Salmagundi Club\, NYC.
DESCRIPTION:Award-winning Northport artist\, Mary Ahern has her work juried into the Salmagundi Club\, 16th Annual Sylvia Glesmann Floral Exhibition. The title of her work on display is “Sunflower in a Makkum Pot – Homage to van Gogh”. As the first generation of her family born outside the Netherlands since the 1600’s\, Ahern has a deep affinity for the painters from the early golden age of Dutch Floral Painters\, through van Gogh\, up to the present time. Her work also features a vase from her family’s collection of Makkum pottery.
URL:https://www.huntingtonarts.org/event/mary-ahern-featured-in-the-16th-annual-sylvia-glesmann-floral-exhibition-salmagundi-club-nyc/
LOCATION:Salmagundi Center for American Art\, Forty Seven Fifth Ave. New York\, NY 10003   \, New York\, NY\, 11768\, United States
CATEGORIES:Exhibitions
ATTACH;FMTTYPE=image/jpeg:https://www.huntingtonarts.org/wp-content/uploads/2025/08/080503-ahern-sunflowers-in-a-makkum-pot-x72-1.jpg
ORGANIZER;CN="Mary Ahern":MAILTO:mary@MaryAhernArtist.com
GEO:40.7567232;-73.9792546
X-APPLE-STRUCTURED-LOCATION;VALUE=URI;X-ADDRESS=Salmagundi Center for American Art Forty Seven Fifth Ave. New York NY 10003    New York NY 11768 United States;X-APPLE-RADIUS=500;X-TITLE=Forty Seven Fifth Ave. New York\, NY 10003:geo:-73.9792546,40.7567232
END:VEVENT
BEGIN:VEVENT
DTSTART;VALUE=DATE:20250528
DTEND;VALUE=DATE:20250622
DTSTAMP:20260421T222518
CREATED:20250205T194314Z
LAST-MODIFIED:20250205T194314Z
UID:10015267-1748390400-1750550399@www.huntingtonarts.org
SUMMARY:Mary Ahern Exhibition at the renowned Ceres Gallery in Chelsea NYC
DESCRIPTION:The award-winning Northport artist Mary Ahern is now represented by the Ceres Gallery\, a pivotal feminist art space in Chelsea’s vibrant art district. Founded initially through the New York Feminist Art Institute\, the gallery continues to champion women artists and diverse artistic perspectives. Visit the Ceres Gallery to experience Mary Ahern’s compelling work and explore the rich tapestry of contemporary feminist art.\nLink: https://bit.ly/Ceres-Gallery-Mary-Ahern \nAn exhibition of Ceres artists is scheduled for May 28 – June 21\, 2025\nOpening Reception: Thursday\, May 29\, 2025. 6-8 PM \nLink: https://bit.ly/Ceres-Gallery-Mary-Ahern
URL:https://www.huntingtonarts.org/event/mary-ahern-exhibition-at-the-renowned-ceres-gallery-in-chelsea-nyc/
LOCATION:Ceres Gallery\, 547 West 27 St\, New York\, 10001\, United States
CATEGORIES:Exhibitions
ATTACH;FMTTYPE=image/jpeg:https://www.huntingtonarts.org/wp-content/uploads/2025/01/2025-01-24-Ceres-Artist-Page-Graphic-1.jpg
ORGANIZER;CN="Mary Ahern":MAILTO:mary@MaryAhernArtist.com
END:VEVENT
BEGIN:VEVENT
DTSTART;VALUE=DATE:20240414
DTEND;VALUE=DATE:20240601
DTSTAMP:20260421T222518
CREATED:20240122T144616Z
LAST-MODIFIED:20240122T144616Z
UID:10009617-1713052800-1717199999@www.huntingtonarts.org
SUMMARY:Mary Ahern Presents Not Just Another Pretty Flower
DESCRIPTION:Solo Exhibition of the work of the artist Mary Ahern at The Atelier at Flowerfield\, in St. James NY. April 14 – May 31\, 2024. Reception TBA.\nARTIST STATEMENT:\nAs a passionate gardener\, my art is as intricately entwined as the gardens surrounding my studio. The lessons learned from the garden permeate my work. \nWith boldness in color & scale my art summons\, with seeming simplicity\, the complex questions of existence and purpose. These flowers represent a microcosm of the universe in their families and community as well as their quest for survival\, eventual senescence and rebirth. \nThe interconnectedness and balance\, whether of the cosmos in which we exist here on earth or that of an ephemeral flower flirting with a butterfly in the midst of a garden\, call our attention to the fragility and interdependency of our existence. With a duality of macro and micro vision\, my flowers invite the viewer to see\, larger than life\, the intricacy and purpose of their existence. And in their boldness\, I suggest a contemplation of their relevance and ours in the social order of our universe.
URL:https://www.huntingtonarts.org/event/mary-ahern-presents-not-just-another-pretty-flower/
LOCATION:The Atelier at Flowerfield\, 2 Flowerfield\, St. James\, NY\, 11780\, United States
CATEGORIES:Exhibitions
ATTACH;FMTTYPE=image/jpeg:https://www.huntingtonarts.org/wp-content/uploads/2024/01/2022-08-25-Ahern-Profile-IMG_5049-20x72-1.jpg
ORGANIZER;CN="The Atelier at Flowerfiled":MAILTO:mary@MaryAhernArtist.com
END:VEVENT
END:VCALENDAR