BEGIN:VCALENDAR
VERSION:2.0
PRODID:-//Huntington Arts Council - ECPv6.15.20//NONSGML v1.0//EN
CALSCALE:GREGORIAN
METHOD:PUBLISH
X-WR-CALNAME:Huntington Arts Council
X-ORIGINAL-URL:https://www.huntingtonarts.org
X-WR-CALDESC:Events for Huntington Arts Council
REFRESH-INTERVAL;VALUE=DURATION:PT1H
X-Robots-Tag:noindex
X-PUBLISHED-TTL:PT1H
BEGIN:VTIMEZONE
TZID:America/New_York
BEGIN:DAYLIGHT
TZOFFSETFROM:-0500
TZOFFSETTO:-0400
TZNAME:EDT
DTSTART:20250309T070000
END:DAYLIGHT
BEGIN:STANDARD
TZOFFSETFROM:-0400
TZOFFSETTO:-0500
TZNAME:EST
DTSTART:20251102T060000
END:STANDARD
BEGIN:DAYLIGHT
TZOFFSETFROM:-0500
TZOFFSETTO:-0400
TZNAME:EDT
DTSTART:20260308T070000
END:DAYLIGHT
BEGIN:STANDARD
TZOFFSETFROM:-0400
TZOFFSETTO:-0500
TZNAME:EST
DTSTART:20261101T060000
END:STANDARD
BEGIN:DAYLIGHT
TZOFFSETFROM:-0500
TZOFFSETTO:-0400
TZNAME:EDT
DTSTART:20270314T070000
END:DAYLIGHT
BEGIN:STANDARD
TZOFFSETFROM:-0400
TZOFFSETTO:-0500
TZNAME:EST
DTSTART:20271107T060000
END:STANDARD
END:VTIMEZONE
BEGIN:VEVENT
DTSTART;TZID=America/New_York:20260331T080000
DTEND;TZID=America/New_York:20260417T000000
DTSTAMP:20260422T194353
CREATED:20260316T190706Z
LAST-MODIFIED:20260316T190706Z
UID:10022831-1774944000-1776384000@www.huntingtonarts.org
SUMMARY:Call to Artists-The Long Island Fine Art Invitational
DESCRIPTION:The Long Island Fine Art Invitational invites artists to submit work for its juried inaugural exhibition celebrating outstanding fine art from across the region. Award-winning artists from participating art leagues will be featured alongside individually juried artists in a curated exhibition culminating in an Awards Reception recognizing artistic excellence. Submissions open on March 31st and close at 11:59pm on April 17th
URL:https://www.huntingtonarts.org/event/call-to-artists-the-long-island-fine-art-invitational/
LOCATION:Matinecock National Association Community Room\, 170 Buckram Road\, Locust Valley\, 11560\, United States
CATEGORIES:Exhibitions
ORGANIZER;CN="Marilou Arcuri":MAILTO:marilouarcuri@gmail.com
END:VEVENT
END:VCALENDAR