BEGIN:VCALENDAR
VERSION:2.0
PRODID:-//Huntington Arts Council - ECPv6.15.20//NONSGML v1.0//EN
CALSCALE:GREGORIAN
METHOD:PUBLISH
X-ORIGINAL-URL:https://www.huntingtonarts.org
X-WR-CALDESC:Events for Huntington Arts Council
REFRESH-INTERVAL;VALUE=DURATION:PT1H
X-Robots-Tag:noindex
X-PUBLISHED-TTL:PT1H
BEGIN:VTIMEZONE
TZID:America/New_York
BEGIN:DAYLIGHT
TZOFFSETFROM:-0500
TZOFFSETTO:-0400
TZNAME:EDT
DTSTART:20210314T070000
END:DAYLIGHT
BEGIN:STANDARD
TZOFFSETFROM:-0400
TZOFFSETTO:-0500
TZNAME:EST
DTSTART:20211107T060000
END:STANDARD
BEGIN:DAYLIGHT
TZOFFSETFROM:-0500
TZOFFSETTO:-0400
TZNAME:EDT
DTSTART:20220313T070000
END:DAYLIGHT
BEGIN:STANDARD
TZOFFSETFROM:-0400
TZOFFSETTO:-0500
TZNAME:EST
DTSTART:20221106T060000
END:STANDARD
BEGIN:DAYLIGHT
TZOFFSETFROM:-0500
TZOFFSETTO:-0400
TZNAME:EDT
DTSTART:20230312T070000
END:DAYLIGHT
BEGIN:STANDARD
TZOFFSETFROM:-0400
TZOFFSETTO:-0500
TZNAME:EST
DTSTART:20231105T060000
END:STANDARD
BEGIN:DAYLIGHT
TZOFFSETFROM:-0500
TZOFFSETTO:-0400
TZNAME:EDT
DTSTART:20240310T070000
END:DAYLIGHT
BEGIN:STANDARD
TZOFFSETFROM:-0400
TZOFFSETTO:-0500
TZNAME:EST
DTSTART:20241103T060000
END:STANDARD
BEGIN:DAYLIGHT
TZOFFSETFROM:-0500
TZOFFSETTO:-0400
TZNAME:EDT
DTSTART:20250309T070000
END:DAYLIGHT
BEGIN:STANDARD
TZOFFSETFROM:-0400
TZOFFSETTO:-0500
TZNAME:EST
DTSTART:20251102T060000
END:STANDARD
BEGIN:DAYLIGHT
TZOFFSETFROM:-0500
TZOFFSETTO:-0400
TZNAME:EDT
DTSTART:20260308T070000
END:DAYLIGHT
BEGIN:STANDARD
TZOFFSETFROM:-0400
TZOFFSETTO:-0500
TZNAME:EST
DTSTART:20261101T060000
END:STANDARD
END:VTIMEZONE
BEGIN:VEVENT
DTSTART;TZID=America/New_York:20251109T160000
DTEND;TZID=America/New_York:20251109T183000
DTSTAMP:20260422T032828
CREATED:20250903T142441Z
LAST-MODIFIED:20250903T142441Z
UID:10016182-1762704000-1762713000@www.huntingtonarts.org
SUMMARY:Long Island Choral Society presents Let's go to the Movies
DESCRIPTION:Join us for a celebration of music written originally for the silver screen. \nPerformed by Long Island’s longest continually performing Arts organization \nas it begins its 97th season of excellence. We hope to see you all there.
URL:https://www.huntingtonarts.org/event/long-island-choral-society-presents-lets-go-to-the-movies/
LOCATION:Our Redeemer Lutheran Church\, 2025 Washington Ave.\, Seaford\, 11783\, United States
CATEGORIES:Music
ATTACH;FMTTYPE=image/jpeg:https://www.huntingtonarts.org/wp-content/uploads/2025/08/LICS-logo-22.jpg
ORGANIZER;CN="Long Island Choral Society":MAILTO:Midnightgall@yahoo.com
END:VEVENT
BEGIN:VEVENT
DTSTART;TZID=America/New_York:20241207T190000
DTEND;TZID=America/New_York:20241207T210000
DTSTAMP:20260422T032828
CREATED:20240906T152910Z
LAST-MODIFIED:20240906T152910Z
UID:10014244-1733598000-1733605200@www.huntingtonarts.org
SUMMARY:Long Island Choral Society presents G.F. Handel: Messiah Part l and highlights from Parts ll & lll
DESCRIPTION:The Long Island Choral Society performs Handel’s Messiah Part l and Highlights from Parts ll and lll with professional soloists and orchestra. Under the direction of Michael C. Haigler this has been a Long Island tradition for close to a century.
URL:https://www.huntingtonarts.org/event/long-island-choral-society-presents-g-f-handel-messiah-part-l-and-highlights-from-parts-ll-lll/
LOCATION:Garden CityCommunity Church\, 245 Stewart Ave.\, Garden City\, NY - New York\, 11530
CATEGORIES:Music
ATTACH;FMTTYPE=image/jpeg:https://www.huntingtonarts.org/wp-content/uploads/2024/09/LICS-Logo-1.jpg
ORGANIZER;CN="Long Island Choral Society":MAILTO:Midnightgall@yahoo.com
END:VEVENT
BEGIN:VEVENT
DTSTART;TZID=America/New_York:20241103T160000
DTEND;TZID=America/New_York:20241103T180000
DTSTAMP:20260422T032828
CREATED:20240906T152114Z
LAST-MODIFIED:20240906T152114Z
UID:10014243-1730649600-1730656800@www.huntingtonarts.org
SUMMARY:Long Island Choral Society presents A Celebration of Americana
DESCRIPTION:A Celebration of Americana featuring works by Randall Thompson\, Andre Thomas and George Gershwin as well as a variety of Anthems and Patriotic Favorites performed by the Long Island Choral Society under the direction of Michael C. Haigler. The Long Island Choral Society of New York’s longest continually performing art organization as it begins its 96 season.
URL:https://www.huntingtonarts.org/event/long-island-choral-society-presents-a-celebration-of-americana/
LOCATION:Garden CityCommunity Church\, 245 Stewart Ave.\, Garden City\, NY - New York\, 11530
CATEGORIES:Music
ATTACH;FMTTYPE=image/jpeg:https://www.huntingtonarts.org/wp-content/uploads/2024/09/LICS-Logo.jpg
ORGANIZER;CN="Long Island Choral Society":MAILTO:Midnightgall@yahoo.com
END:VEVENT
BEGIN:VEVENT
DTSTART;TZID=America/New_York:20221211T160000
DTEND;TZID=America/New_York:20221211T180000
DTSTAMP:20260422T032828
CREATED:20220811T204243Z
LAST-MODIFIED:20220811T204243Z
UID:10004824-1670774400-1670781600@www.huntingtonarts.org
SUMMARY:Long Island Choral Society Presents Long Island's Messiah
DESCRIPTION:The Long Island Choral Society continues a 90 year tradition as it presents G.F. Handel’s MESSIAH\, Part 1 with Hallelujah. Presented with professional Solists and Orchestra this is an essential part of the Holidays on Long Island. Please join in the celebration.
URL:https://www.huntingtonarts.org/event/long-island-choral-society-presents-long-islands-messiah/
LOCATION:TBD Please consult our website lics.org for updates on the venue
CATEGORIES:Music
ATTACH;FMTTYPE=image/jpeg:https://www.huntingtonarts.org/wp-content/uploads/2022/08/LICS-Logo-4.jpg
ORGANIZER;CN="Long Island Choral Society":MAILTO:Midnightgall@yahoo.com
END:VEVENT
BEGIN:VEVENT
DTSTART;TZID=America/New_York:20221113T160000
DTEND;TZID=America/New_York:20221113T180000
DTSTAMP:20260422T032828
CREATED:20220811T203912Z
LAST-MODIFIED:20220811T203912Z
UID:10004840-1668355200-1668362400@www.huntingtonarts.org
SUMMARY:Long Island Choral Society Presents Mendelssohn and Remembrance
DESCRIPTION:The Long Island Choral Society presents excerpts from Mendelssohn’s Elijah and a Tribute to to American Military Veterans
URL:https://www.huntingtonarts.org/event/long-island-choral-society-presents-mendelssohn-and-remembrance/
LOCATION:Our Redeemer Lutheran Church\, 2025 Washington Ave.\, Seaford\, 11783\, United States
CATEGORIES:Music
ATTACH;FMTTYPE=image/jpeg:https://www.huntingtonarts.org/wp-content/uploads/2022/08/LICS-Logo-3.jpg
ORGANIZER;CN="Long Island Choral Society":MAILTO:Midnightgall@yahoo.com
END:VEVENT
END:VCALENDAR