BEGIN:VCALENDAR
VERSION:2.0
PRODID:-//Huntington Arts Council - ECPv6.15.20//NONSGML v1.0//EN
CALSCALE:GREGORIAN
METHOD:PUBLISH
X-ORIGINAL-URL:https://www.huntingtonarts.org
X-WR-CALDESC:Events for Huntington Arts Council
REFRESH-INTERVAL;VALUE=DURATION:PT1H
X-Robots-Tag:noindex
X-PUBLISHED-TTL:PT1H
BEGIN:VTIMEZONE
TZID:America/New_York
BEGIN:DAYLIGHT
TZOFFSETFROM:-0500
TZOFFSETTO:-0400
TZNAME:EDT
DTSTART:20240310T070000
END:DAYLIGHT
BEGIN:STANDARD
TZOFFSETFROM:-0400
TZOFFSETTO:-0500
TZNAME:EST
DTSTART:20241103T060000
END:STANDARD
BEGIN:DAYLIGHT
TZOFFSETFROM:-0500
TZOFFSETTO:-0400
TZNAME:EDT
DTSTART:20250309T070000
END:DAYLIGHT
BEGIN:STANDARD
TZOFFSETFROM:-0400
TZOFFSETTO:-0500
TZNAME:EST
DTSTART:20251102T060000
END:STANDARD
BEGIN:DAYLIGHT
TZOFFSETFROM:-0500
TZOFFSETTO:-0400
TZNAME:EDT
DTSTART:20260308T070000
END:DAYLIGHT
BEGIN:STANDARD
TZOFFSETFROM:-0400
TZOFFSETTO:-0500
TZNAME:EST
DTSTART:20261101T060000
END:STANDARD
END:VTIMEZONE
BEGIN:VEVENT
DTSTART;TZID=America/New_York:20250316T160000
DTEND;TZID=America/New_York:20250316T173000
DTSTAMP:20260422T055541
CREATED:20250112T225646Z
LAST-MODIFIED:20250313T011422Z
UID:10015076-1742140800-1742146200@www.huntingtonarts.org
SUMMARY:Chamber Music at Caroline Episcopal Church: Emotional Landscapes
DESCRIPTION:Join us for a joyful evening of chamber music at Caroline Episcopal Church on March 16th at 4:00PM! \nMusicians:\nGergana Haralampieva\, violin\nChelsea Wang\, piano \nProgram:\nStill\, Suite for Violin and Piano\nDavidson\, Blue Curve of the Earth\nBeethoven\, Sonata No. 5 “Spring”\nBrahms\, Violin Sonata No. 3 \nAbout the program: \nEmotional Landscapes is a captivating musical journey with pieces by Beethoven\, Brahms\, Davidson\, and Still. This concert brings together a diverse selection of works for violin and piano that explore a spectrum of human emotions and natural beauty. Inspired by sculptures from his contemporaries from the Harlem Renaissance\, William Grant Still’s Suite for Violin and Piano intertwines classical and African-American musical traditions to evoke rich emotional and cultural narratives. The second piece on the program is “Blue Curve of the Earth\,” by Tina Davidson. This contemporary piece explores the composer’s observation and emotional response to the beauty of nature’s grandeur. \nBeethoven’s “Spring Sonata” is a classical masterpiece that embodies the joy and renewal of spring\, bridging the emotional landscapes of the earlier pieces with its lightness and lyrical grace. The evening concludes with Brahms’ Sonata No. 3\, a profound work of deep expressiveness that ties together the themes of the concert. Set in the elegant Great Hall of the Main House\, this performance offers a seamless blend of historical and contemporary influences\, inviting you to take part in a rich dialogue between past and present interpretations of the human experience. \nAbout Long Island Chamber Music:\nLong Island Chamber Music (LICM) is a classical music non-profit organization founded with the mission of making professional classical music of the highest caliber accessible to Long Island audiences. \nLICM musicians are all drawn from Carnegie Hall’s Ensemble Connect\, the New York Philharmonic\, Boston Symphony Orchestra\, Concert Artist Guild\, and several other of the country’s most prominent musical institutions. In addition to being leaders in their art form\, LICM musicians are teaching artists\, entrepreneurs\, and socially-minded advocates for classical music.
URL:https://www.huntingtonarts.org/event/chamber-music-at-setauket-presbyterian-presents-emotional-landscapes/
LOCATION:Caroline Episcopal Church\, 1 Dyke Road\, Setauket\, 11733\, United States
CATEGORIES:Music
ATTACH;FMTTYPE=image/jpeg:https://www.huntingtonarts.org/wp-content/uploads/2025/01/DSC0269-1-1-1.jpg
ORGANIZER;CN="Long Island Chamber Music":MAILTO:lichambermusic@gmail.com
END:VEVENT
END:VCALENDAR