BEGIN:VCALENDAR
VERSION:2.0
PRODID:-//Huntington Arts Council - ECPv6.15.20//NONSGML v1.0//EN
CALSCALE:GREGORIAN
METHOD:PUBLISH
X-ORIGINAL-URL:https://www.huntingtonarts.org
X-WR-CALDESC:Events for Huntington Arts Council
REFRESH-INTERVAL;VALUE=DURATION:PT1H
X-Robots-Tag:noindex
X-PUBLISHED-TTL:PT1H
BEGIN:VTIMEZONE
TZID:America/New_York
BEGIN:DAYLIGHT
TZOFFSETFROM:-0500
TZOFFSETTO:-0400
TZNAME:EDT
DTSTART:20240310T070000
END:DAYLIGHT
BEGIN:STANDARD
TZOFFSETFROM:-0400
TZOFFSETTO:-0500
TZNAME:EST
DTSTART:20241103T060000
END:STANDARD
BEGIN:DAYLIGHT
TZOFFSETFROM:-0500
TZOFFSETTO:-0400
TZNAME:EDT
DTSTART:20250309T070000
END:DAYLIGHT
BEGIN:STANDARD
TZOFFSETFROM:-0400
TZOFFSETTO:-0500
TZNAME:EST
DTSTART:20251102T060000
END:STANDARD
BEGIN:DAYLIGHT
TZOFFSETFROM:-0500
TZOFFSETTO:-0400
TZNAME:EDT
DTSTART:20260308T070000
END:DAYLIGHT
BEGIN:STANDARD
TZOFFSETFROM:-0400
TZOFFSETTO:-0500
TZNAME:EST
DTSTART:20261101T060000
END:STANDARD
END:VTIMEZONE
BEGIN:VEVENT
DTSTART;TZID=America/New_York:20251011T130000
DTEND;TZID=America/New_York:20251011T150000
DTSTAMP:20260421T184011
CREATED:20250924T181824Z
LAST-MODIFIED:20250924T181824Z
UID:10017013-1760187600-1760194800@www.huntingtonarts.org
SUMMARY:Lifestage\, Inc presents MAKE AN IMPACT: How To Take Your True Story From The Page To The Stage
DESCRIPTION:This online workshop will teach how to find the stories in your actual life experiences and discuss the fundamentals of telling them with humor and heart.\nThe skills to tell a great story can elevate the impact of a professional presentation\, make our talk the one everyone remembers\, take a wedding toast\, or a personal tribute to an emotional high note. Through a well-told story\, information and facts flow\, and listeners are carried along with fascination and feeling. Learning to craft an authentic experience into a story meant to be told out loud is empowering\, useful\, and most importantly – fun! In this workshop\, we will engage in “story mining” exercises that help us view life experiences through a storytelling lens and identify experiences we wish to bring from the page to the stage. We will also learn the fundamental techniques for crafting a story that transports the listener and makes our story powerful and memorable. \nThis event will be held on zoom. The link will be emailed to all registered participants prior to the workshop.
URL:https://www.huntingtonarts.org/event/lifestage-inc-presents-make-an-impact-how-to-take-your-true-story-from-the-page-to-the-stage/
LOCATION:Zoom
CATEGORIES:Workshop Classes
ATTACH;FMTTYPE=image/jpeg:https://www.huntingtonarts.org/wp-content/uploads/2025/09/Storytelling-page-banner-1-scaled.jpg
ORGANIZER;CN="Lifestage%2C Inc":MAILTO:lifestageco@gmail.com
END:VEVENT
END:VCALENDAR