BEGIN:VCALENDAR
VERSION:2.0
PRODID:-//Huntington Arts Council - ECPv6.15.20//NONSGML v1.0//EN
CALSCALE:GREGORIAN
METHOD:PUBLISH
X-WR-CALNAME:Huntington Arts Council
X-ORIGINAL-URL:https://www.huntingtonarts.org
X-WR-CALDESC:Events for Huntington Arts Council
REFRESH-INTERVAL;VALUE=DURATION:PT1H
X-Robots-Tag:noindex
X-PUBLISHED-TTL:PT1H
BEGIN:VTIMEZONE
TZID:America/New_York
BEGIN:DAYLIGHT
TZOFFSETFROM:-0500
TZOFFSETTO:-0400
TZNAME:EDT
DTSTART:20230312T070000
END:DAYLIGHT
BEGIN:STANDARD
TZOFFSETFROM:-0400
TZOFFSETTO:-0500
TZNAME:EST
DTSTART:20231105T060000
END:STANDARD
BEGIN:DAYLIGHT
TZOFFSETFROM:-0500
TZOFFSETTO:-0400
TZNAME:EDT
DTSTART:20240310T070000
END:DAYLIGHT
BEGIN:STANDARD
TZOFFSETFROM:-0400
TZOFFSETTO:-0500
TZNAME:EST
DTSTART:20241103T060000
END:STANDARD
BEGIN:DAYLIGHT
TZOFFSETFROM:-0500
TZOFFSETTO:-0400
TZNAME:EDT
DTSTART:20250309T070000
END:DAYLIGHT
BEGIN:STANDARD
TZOFFSETFROM:-0400
TZOFFSETTO:-0500
TZNAME:EST
DTSTART:20251102T060000
END:STANDARD
END:VTIMEZONE
BEGIN:VEVENT
DTSTART;TZID=America/New_York:20240211T140000
DTEND;TZID=America/New_York:20240211T153000
DTSTAMP:20260421T222530
CREATED:20240122T144946Z
LAST-MODIFIED:20240122T144946Z
UID:10009622-1707660000-1707665400@www.huntingtonarts.org
SUMMARY:Dance Visions NY presents "From a Distant Past"
DESCRIPTION:From a Distant Past is a reworking of our theatrical dance piece\, based on an original lyrical and symbolic poem by Kyra Jucovy. Depicting a journey\, following a river from its source in caves all the way to the mouth of the ocean\, the poem symbolizes eternal cycles. This intimate performance piece consists of recorded text from the poem\, spoken by actor Tzena Nicole over background music\, live dance with our company of 5 dance artists\, and projected imagery. \nThe work has rich and varied dynamics and includes beautiful and eerie depictions of nature through words\, movement\, costumes and imagery. Key themes include destruction leading to creation\, darkness to light\, endings to beginnings. This timeless and timely work continuously seems to address the world’s current issues. Included is Isadora Duncan repertory in Grecian tunics\, adding to the mythic overtones.\nWith discussion of the poem and the performance work afterwards.\nThe company will also present Forging the Elements\, based on artwork of Susan Ruth Cohen\,\nRegistration recommended for this free program. call 516 935 6790
URL:https://www.huntingtonarts.org/event/dance-visions-ny-presents-from-a-distant-past-3/
LOCATION:Jericho Public Library\, 1 Merry Ln\, Jericho\, NY\, 11753\, United States
CATEGORIES:Dance
ATTACH;FMTTYPE=image/jpeg:https://www.huntingtonarts.org/wp-content/uploads/2024/01/DP-Abby-Leap.jpg
ORGANIZER;CN="Dance Visions NY":MAILTO:dancevisions.ny@gmail.com
GEO:40.7935972;-73.535124
X-APPLE-STRUCTURED-LOCATION;VALUE=URI;X-ADDRESS=Jericho Public Library 1 Merry Ln Jericho NY 11753 United States;X-APPLE-RADIUS=500;X-TITLE=1 Merry Ln:geo:-73.535124,40.7935972
END:VEVENT
END:VCALENDAR