BEGIN:VCALENDAR
VERSION:2.0
PRODID:-//Huntington Arts Council - ECPv6.15.20//NONSGML v1.0//EN
CALSCALE:GREGORIAN
METHOD:PUBLISH
X-WR-CALNAME:Huntington Arts Council
X-ORIGINAL-URL:https://www.huntingtonarts.org
X-WR-CALDESC:Events for Huntington Arts Council
REFRESH-INTERVAL;VALUE=DURATION:PT1H
X-Robots-Tag:noindex
X-PUBLISHED-TTL:PT1H
BEGIN:VTIMEZONE
TZID:America/New_York
BEGIN:DAYLIGHT
TZOFFSETFROM:-0500
TZOFFSETTO:-0400
TZNAME:EDT
DTSTART:20220313T070000
END:DAYLIGHT
BEGIN:STANDARD
TZOFFSETFROM:-0400
TZOFFSETTO:-0500
TZNAME:EST
DTSTART:20221106T060000
END:STANDARD
BEGIN:DAYLIGHT
TZOFFSETFROM:-0500
TZOFFSETTO:-0400
TZNAME:EDT
DTSTART:20230312T070000
END:DAYLIGHT
BEGIN:STANDARD
TZOFFSETFROM:-0400
TZOFFSETTO:-0500
TZNAME:EST
DTSTART:20231105T060000
END:STANDARD
BEGIN:DAYLIGHT
TZOFFSETFROM:-0500
TZOFFSETTO:-0400
TZNAME:EDT
DTSTART:20240310T070000
END:DAYLIGHT
BEGIN:STANDARD
TZOFFSETFROM:-0400
TZOFFSETTO:-0500
TZNAME:EST
DTSTART:20241103T060000
END:STANDARD
BEGIN:DAYLIGHT
TZOFFSETFROM:-0500
TZOFFSETTO:-0400
TZNAME:EDT
DTSTART:20250309T070000
END:DAYLIGHT
BEGIN:STANDARD
TZOFFSETFROM:-0400
TZOFFSETTO:-0500
TZNAME:EST
DTSTART:20251102T060000
END:STANDARD
BEGIN:DAYLIGHT
TZOFFSETFROM:-0500
TZOFFSETTO:-0400
TZNAME:EDT
DTSTART:20260308T070000
END:DAYLIGHT
BEGIN:STANDARD
TZOFFSETFROM:-0400
TZOFFSETTO:-0500
TZNAME:EST
DTSTART:20261101T060000
END:STANDARD
END:VTIMEZONE
BEGIN:VEVENT
DTSTART;TZID=America/New_York:20251206T200000
DTEND;TZID=America/New_York:20251206T223000
DTSTAMP:20260422T032945
CREATED:20250826T180256Z
LAST-MODIFIED:20250826T180256Z
UID:10015817-1765051200-1765060200@www.huntingtonarts.org
SUMMARY:Huntington Choral Society presents Winter Concert
DESCRIPTION:Join the Huntington Choral Society for our Winter concert on Saturday\, December 6th @8pm at Huntington High School.
URL:https://www.huntingtonarts.org/event/huntington-choral-society-presents-winter-concert/
LOCATION:Huntington High School\, 188 Oakwood Road\, Huntington\, NY\, 11743\, United States
CATEGORIES:Music
ATTACH;FMTTYPE=image/jpeg:https://www.huntingtonarts.org/wp-content/uploads/2025/08/IMG_6813-1.jpeg
ORGANIZER;CN="Huntington Choral Society":MAILTO:hcs@huntingtonchoralsociety.org
GEO:40.8567604;-73.4247981
X-APPLE-STRUCTURED-LOCATION;VALUE=URI;X-ADDRESS=Huntington High School 188 Oakwood Road Huntington NY 11743 United States;X-APPLE-RADIUS=500;X-TITLE=188 Oakwood Road:geo:-73.4247981,40.8567604
END:VEVENT
BEGIN:VEVENT
DTSTART;TZID=America/New_York:20250503T200000
DTEND;TZID=America/New_York:20250503T220000
DTSTAMP:20260422T032945
CREATED:20250409T203419Z
LAST-MODIFIED:20250409T203419Z
UID:10015310-1746302400-1746309600@www.huntingtonarts.org
SUMMARY:Huntington Choral Society Presents: Considering Matthew Shepard
DESCRIPTION:Join the Huntington Choral Society\, under the direction of Dr. Jennifer Miceli\, for a powerful performance of Considering Matthew Shepard\, a moving fusion oratorio by Craig Hella Johnson that reflects on the life and legacy of Matthew Shepard. We are honored to be joined by special guests—the Suffolk Singers from Suffolk County Community College\, led by Director Alice Cavanaugh. Don’t miss this evening of profound music and community reflection.
URL:https://www.huntingtonarts.org/event/huntington-choral-society-presents-considering-matthew-shepard-2/
LOCATION:Huntington High School\, McKay & Oakwood Rd\, Huntington\, NY\, 11743\, United States
CATEGORIES:Music
ATTACH;FMTTYPE=image/jpeg:https://www.huntingtonarts.org/wp-content/uploads/2025/04/CMS-Flyer.jpg
ORGANIZER;CN="Huntington Choral Society":MAILTO:hcs@huntingtonchoralsociety.org
GEO:40.8562768;-73.429177
X-APPLE-STRUCTURED-LOCATION;VALUE=URI;X-ADDRESS=Huntington High School McKay & Oakwood Rd Huntington NY 11743 United States;X-APPLE-RADIUS=500;X-TITLE=McKay & Oakwood Rd:geo:-73.429177,40.8562768
END:VEVENT
BEGIN:VEVENT
DTSTART;TZID=America/New_York:20250503T200000
DTEND;TZID=America/New_York:20250503T220000
DTSTAMP:20260422T032945
CREATED:20250409T203321Z
LAST-MODIFIED:20250409T203321Z
UID:10015309-1746302400-1746309600@www.huntingtonarts.org
SUMMARY:Huntington Choral Society Presents: Considering Matthew Shepard
DESCRIPTION:Join the Huntington Choral Society\, under the direction of Dr. Jennifer Miceli\, for a powerful performance of Considering Matthew Shepard\, a moving fusion oratorio by Craig Hella Johnson that reflects on the life and legacy of Matthew Shepard. We are honored to be joined by special guests—the Suffolk Singers from Suffolk County Community College\, led by Director Alice Cavanaugh. Don’t miss this evening of profound music and community reflection.
URL:https://www.huntingtonarts.org/event/huntington-choral-society-presents-considering-matthew-shepard/
LOCATION:Huntington High School\, McKay & Oakwood Rd\, Huntington\, NY\, 11743\, United States
CATEGORIES:Music
ORGANIZER;CN="Huntington Choral Society":MAILTO:hcs@huntingtonchoralsociety.org
GEO:40.8562768;-73.429177
X-APPLE-STRUCTURED-LOCATION;VALUE=URI;X-ADDRESS=Huntington High School McKay & Oakwood Rd Huntington NY 11743 United States;X-APPLE-RADIUS=500;X-TITLE=McKay & Oakwood Rd:geo:-73.429177,40.8562768
END:VEVENT
BEGIN:VEVENT
DTSTART;TZID=America/New_York:20241207T200000
DTEND;TZID=America/New_York:20241207T220000
DTSTAMP:20260422T032945
CREATED:20241121T173923Z
LAST-MODIFIED:20241121T173923Z
UID:10014867-1733601600-1733608800@www.huntingtonarts.org
SUMMARY:Huntington Choral Society Presents From Sea to Shining Sea: A Celebration of Freedom!
DESCRIPTION:Join us for an inspiring evening as Huntington Choral Society presents “From Sea to Shining Sea: A Celebration of Freedom.” This concert brings together cherished American composers like Copland\, Thompson\, Hanson\, Paulus\, and Johnson Reagon\, alongside beautifully arranged traditional American songs. We invite you to celebrate the spirit of freedom and unity that spans our nation. Don’t miss this unforgettable musical journey!
URL:https://www.huntingtonarts.org/event/huntington-choral-society-presents-from-sea-to-shining-sea-a-celebration-of-freedom/
LOCATION:Huntington High School\, McKay & Oakwood Rd\, Huntington\, NY\, 11743\, United States
CATEGORIES:Music
ORGANIZER;CN="Huntington Choral Society":MAILTO:hcs@huntingtonchoralsociety.org
GEO:40.8562768;-73.429177
X-APPLE-STRUCTURED-LOCATION;VALUE=URI;X-ADDRESS=Huntington High School McKay & Oakwood Rd Huntington NY 11743 United States;X-APPLE-RADIUS=500;X-TITLE=McKay & Oakwood Rd:geo:-73.429177,40.8562768
END:VEVENT
BEGIN:VEVENT
DTSTART;TZID=America/New_York:20240511T200000
DTEND;TZID=America/New_York:20240511T220000
DTSTAMP:20260422T032945
CREATED:20240501T174137Z
LAST-MODIFIED:20240501T174137Z
UID:10011766-1715457600-1715464800@www.huntingtonarts.org
SUMMARY:Huntington Choral Society Presents: Songs of Love from Brahms to Jazz
DESCRIPTION:Join Huntington Choral Society and guest musicians as we present Songs of Love from Brahms to Jazz. Perfect for date night!\nOur program includes:\nLiebeslieder Waltzer\, Brahms\nSongs for Women’s Voices\, Walker\nO Love\, Hagenberg\nSongs of Love\, Todd
URL:https://www.huntingtonarts.org/event/huntington-choral-society-presents-songs-of-love-from-brahms-to-jazz/
LOCATION:Huntington High School\, McKay & Oakwood Rd\, Huntington\, NY\, 11743\, United States
CATEGORIES:Music
ATTACH;FMTTYPE=image/png:https://www.huntingtonarts.org/wp-content/uploads/2024/04/Screen-Shot-2024-04-30-at-7.22.21-PM.png
ORGANIZER;CN="Huntington Choral Society":MAILTO:hcs@huntingtonchoralsociety.org
GEO:40.8562768;-73.429177
X-APPLE-STRUCTURED-LOCATION;VALUE=URI;X-ADDRESS=Huntington High School McKay & Oakwood Rd Huntington NY 11743 United States;X-APPLE-RADIUS=500;X-TITLE=McKay & Oakwood Rd:geo:-73.429177,40.8562768
END:VEVENT
BEGIN:VEVENT
DTSTART;TZID=America/New_York:20231216T200000
DTEND;TZID=America/New_York:20231216T220000
DTSTAMP:20260422T032945
CREATED:20231206T173032Z
LAST-MODIFIED:20231206T173032Z
UID:10006520-1702756800-1702764000@www.huntingtonarts.org
SUMMARY:Huntington Choral Society Presents: Winter Reflections
DESCRIPTION:Join Huntington Choral Society as we travel on a musical journey that transcends borders and celebrates the beautify of winter. Featuring music of Hagenberg\, Kaulia\, Levine\, Gjeilo and more!
URL:https://www.huntingtonarts.org/event/huntington-choral-society-presents-winter-reflections/
LOCATION:Huntington High School\, McKay & Oakwood Rd\, Huntington\, NY\, 11743\, United States
ATTACH;FMTTYPE=image/png:https://www.huntingtonarts.org/wp-content/uploads/2023/11/Screen-Shot-2023-11-14-at-6.39.57-PM.png
ORGANIZER;CN="Huntington Choral Society":MAILTO:hcs@huntingtonchoralsociety.org
GEO:40.8562768;-73.429177
X-APPLE-STRUCTURED-LOCATION;VALUE=URI;X-ADDRESS=Huntington High School McKay & Oakwood Rd Huntington NY 11743 United States;X-APPLE-RADIUS=500;X-TITLE=McKay & Oakwood Rd:geo:-73.429177,40.8562768
END:VEVENT
END:VCALENDAR