BEGIN:VCALENDAR
VERSION:2.0
PRODID:-//Huntington Arts Council - ECPv6.15.20//NONSGML v1.0//EN
CALSCALE:GREGORIAN
METHOD:PUBLISH
X-WR-CALNAME:Huntington Arts Council
X-ORIGINAL-URL:https://www.huntingtonarts.org
X-WR-CALDESC:Events for Huntington Arts Council
REFRESH-INTERVAL;VALUE=DURATION:PT1H
X-Robots-Tag:noindex
X-PUBLISHED-TTL:PT1H
BEGIN:VTIMEZONE
TZID:America/New_York
BEGIN:DAYLIGHT
TZOFFSETFROM:-0500
TZOFFSETTO:-0400
TZNAME:EDT
DTSTART:20250309T070000
END:DAYLIGHT
BEGIN:STANDARD
TZOFFSETFROM:-0400
TZOFFSETTO:-0500
TZNAME:EST
DTSTART:20251102T060000
END:STANDARD
BEGIN:DAYLIGHT
TZOFFSETFROM:-0500
TZOFFSETTO:-0400
TZNAME:EDT
DTSTART:20260308T070000
END:DAYLIGHT
BEGIN:STANDARD
TZOFFSETFROM:-0400
TZOFFSETTO:-0500
TZNAME:EST
DTSTART:20261101T060000
END:STANDARD
BEGIN:DAYLIGHT
TZOFFSETFROM:-0500
TZOFFSETTO:-0400
TZNAME:EDT
DTSTART:20270314T070000
END:DAYLIGHT
BEGIN:STANDARD
TZOFFSETFROM:-0400
TZOFFSETTO:-0500
TZNAME:EST
DTSTART:20271107T060000
END:STANDARD
END:VTIMEZONE
BEGIN:VEVENT
DTSTART;TZID=America/New_York:20260414T193000
DTEND;TZID=America/New_York:20260414T210000
DTSTAMP:20260421T133951
CREATED:20251209T154512Z
LAST-MODIFIED:20251209T154512Z
UID:10017545-1776195000-1776200400@www.huntingtonarts.org
SUMMARY:Huntington Camera Club
DESCRIPTION:We are a camera club that meets every Tuesday evening at the Huntington Public Library. We are 100 members and have a passion to learn\, discuss and share all things photography. Our club’s motto is to organize\, educate\, learn\, inspire and have fun with photography.
URL:https://www.huntingtonarts.org/event/huntington-camera-club-2/2026-04-14/
LOCATION:Huntington Public Library\, 338 Main Street\, Huntington\, 11743\, United States
CATEGORIES:Film/Media
ATTACH;FMTTYPE=image/jpeg:https://www.huntingtonarts.org/wp-content/uploads/2025/12/HCC-logo.jpg
ORGANIZER;CN="Huntington Camera Club":MAILTO:HotTunaHarry@hotmail.com
GEO:40.8705011;-73.4300972
X-APPLE-STRUCTURED-LOCATION;VALUE=URI;X-ADDRESS=Huntington Public Library 338 Main Street Huntington 11743 United States;X-APPLE-RADIUS=500;X-TITLE=338 Main Street:geo:-73.4300972,40.8705011
END:VEVENT
BEGIN:VEVENT
DTSTART;TZID=America/New_York:20260414T193000
DTEND;TZID=America/New_York:20260414T210000
DTSTAMP:20260421T133951
CREATED:20250910T202400Z
LAST-MODIFIED:20250910T202400Z
UID:10016108-1776195000-1776200400@www.huntingtonarts.org
SUMMARY:Huntington Camera Club
DESCRIPTION:Huntington Camera Club meets every Tuesday 7:30pm to 9pm. Check the website for specific topics including education\, inspiration\, organization and just plain fun photography related events.
URL:https://www.huntingtonarts.org/event/huntington-camera-club/2026-04-14/
LOCATION:Huntington Public Library\, 338 Main Street\, Huntington\, 11743\, United States
CATEGORIES:Film/Media
ATTACH;FMTTYPE=image/jpeg:https://www.huntingtonarts.org/wp-content/uploads/2025/08/HCC-logo.jpg
ORGANIZER;CN="Huntington Camera Club":MAILTO:HotTunaHarry@hotmail.com
GEO:40.8705011;-73.4300972
X-APPLE-STRUCTURED-LOCATION;VALUE=URI;X-ADDRESS=Huntington Public Library 338 Main Street Huntington 11743 United States;X-APPLE-RADIUS=500;X-TITLE=338 Main Street:geo:-73.4300972,40.8705011
END:VEVENT
BEGIN:VEVENT
DTSTART;TZID=America/New_York:20260331T193000
DTEND;TZID=America/New_York:20260331T210000
DTSTAMP:20260421T133951
CREATED:20260114T154054Z
LAST-MODIFIED:20260114T154054Z
UID:10019231-1774985400-1774990800@www.huntingtonarts.org
SUMMARY:Huntington Camera Club presents Student Opportunities: Annual Roberta Strent Memorial Award
DESCRIPTION:March 31 – Annual Roberta Strent Memorial Award\nThe Strent Award is a contest that recognizes not just the photo\, but the students’ desire to uphold excellence in this art form. The photo gets our attention; the student essay solidifies our understanding of the student’s commitment … and teacher recommendations round out our final decisions.\nAs local passionate photographers ourselves\, we truly embrace shining a light on young aspiring photographic artists.\nThe Strent family has established an annual $1\,000 award in honor and memory of Roberta Strent\, a beloved mother\, photographer\, and member of the Huntington Camera Club. The award will be made to a high school student who has demonstrated a superior aptitude and continuing interest in photography. This is not a photo contest: the quality of the applicant’s photography will be only one factor in the selection of the winner.
URL:https://www.huntingtonarts.org/event/huntington-camera-club-presents-student-opportunities-annual-roberta-strent-memorial-award/
LOCATION:Huntington Public Library\, 338 Main Street\, Huntington\, 11743\, United States
CATEGORIES:Miscellaneous
ATTACH;FMTTYPE=image/jpeg:https://www.huntingtonarts.org/wp-content/uploads/2026/01/Raven-Sanchex-Strent-Winner.jpg
ORGANIZER;CN="Huntington Camera Club":MAILTO:HotTunaHarry@hotmail.com
GEO:40.8705011;-73.4300972
X-APPLE-STRUCTURED-LOCATION;VALUE=URI;X-ADDRESS=Huntington Public Library 338 Main Street Huntington 11743 United States;X-APPLE-RADIUS=500;X-TITLE=338 Main Street:geo:-73.4300972,40.8705011
END:VEVENT
END:VCALENDAR