BEGIN:VCALENDAR
VERSION:2.0
PRODID:-//Huntington Arts Council - ECPv6.15.20//NONSGML v1.0//EN
CALSCALE:GREGORIAN
METHOD:PUBLISH
X-ORIGINAL-URL:https://www.huntingtonarts.org
X-WR-CALDESC:Events for Huntington Arts Council
REFRESH-INTERVAL;VALUE=DURATION:PT1H
X-Robots-Tag:noindex
X-PUBLISHED-TTL:PT1H
BEGIN:VTIMEZONE
TZID:America/New_York
BEGIN:DAYLIGHT
TZOFFSETFROM:-0500
TZOFFSETTO:-0400
TZNAME:EDT
DTSTART:20250309T070000
END:DAYLIGHT
BEGIN:STANDARD
TZOFFSETFROM:-0400
TZOFFSETTO:-0500
TZNAME:EST
DTSTART:20251102T060000
END:STANDARD
BEGIN:DAYLIGHT
TZOFFSETFROM:-0500
TZOFFSETTO:-0400
TZNAME:EDT
DTSTART:20260308T070000
END:DAYLIGHT
BEGIN:STANDARD
TZOFFSETFROM:-0400
TZOFFSETTO:-0500
TZNAME:EST
DTSTART:20261101T060000
END:STANDARD
BEGIN:DAYLIGHT
TZOFFSETFROM:-0500
TZOFFSETTO:-0400
TZNAME:EDT
DTSTART:20270314T070000
END:DAYLIGHT
BEGIN:STANDARD
TZOFFSETFROM:-0400
TZOFFSETTO:-0500
TZNAME:EST
DTSTART:20271107T060000
END:STANDARD
END:VTIMEZONE
BEGIN:VEVENT
DTSTART;TZID=America/New_York:20261017T110000
DTEND;TZID=America/New_York:20261017T160000
DTSTAMP:20260422T003956
CREATED:20260415T151644Z
LAST-MODIFIED:20260415T151644Z
UID:10023680-1792234800-1792252800@www.huntingtonarts.org
SUMMARY:Huntington Arts Council presents Second Chance Supply Sale
DESCRIPTION:HAC’s Second Chance Supplies Sale provides accessibility to affordable creative materials donated for this program\, while recognizing the need to upcycle and reuse materials to benefit the\nenvironment.
URL:https://www.huntingtonarts.org/event/huntington-arts-council-presents-second-chance-supply-sale/2026-10-17/2/
LOCATION:Huntington Arts Council\, 213 Main Street\, Huntington\, NY\, 11743\, United States
CATEGORIES:Children and Family,Exhibitions,Miscellaneous
ATTACH;FMTTYPE=image/png:https://www.huntingtonarts.org/wp-content/uploads/2026/04/Second-Chance-Art-fall-2026-logo-with-dates-condensed-layout.png
ORGANIZER;CN="Huntington Arts Council%2C Inc.":MAILTO:info@huntingtonarts.org
GEO:40.8721784;-73.4243051
X-APPLE-STRUCTURED-LOCATION;VALUE=URI;X-ADDRESS=Huntington Arts Council 213 Main Street Huntington NY 11743 United States;X-APPLE-RADIUS=500;X-TITLE=213 Main Street:geo:-73.4243051,40.8721784
END:VEVENT
END:VCALENDAR