BEGIN:VCALENDAR
VERSION:2.0
PRODID:-//Huntington Arts Council - ECPv6.15.20//NONSGML v1.0//EN
CALSCALE:GREGORIAN
METHOD:PUBLISH
X-ORIGINAL-URL:https://www.huntingtonarts.org
X-WR-CALDESC:Events for Huntington Arts Council
REFRESH-INTERVAL;VALUE=DURATION:PT1H
X-Robots-Tag:noindex
X-PUBLISHED-TTL:PT1H
BEGIN:VTIMEZONE
TZID:America/New_York
BEGIN:DAYLIGHT
TZOFFSETFROM:-0500
TZOFFSETTO:-0400
TZNAME:EDT
DTSTART:20220313T070000
END:DAYLIGHT
BEGIN:STANDARD
TZOFFSETFROM:-0400
TZOFFSETTO:-0500
TZNAME:EST
DTSTART:20221106T060000
END:STANDARD
BEGIN:DAYLIGHT
TZOFFSETFROM:-0500
TZOFFSETTO:-0400
TZNAME:EDT
DTSTART:20230312T070000
END:DAYLIGHT
BEGIN:STANDARD
TZOFFSETFROM:-0400
TZOFFSETTO:-0500
TZNAME:EST
DTSTART:20231105T060000
END:STANDARD
BEGIN:DAYLIGHT
TZOFFSETFROM:-0500
TZOFFSETTO:-0400
TZNAME:EDT
DTSTART:20240310T070000
END:DAYLIGHT
BEGIN:STANDARD
TZOFFSETFROM:-0400
TZOFFSETTO:-0500
TZNAME:EST
DTSTART:20241103T060000
END:STANDARD
BEGIN:DAYLIGHT
TZOFFSETFROM:-0500
TZOFFSETTO:-0400
TZNAME:EDT
DTSTART:20250309T070000
END:DAYLIGHT
BEGIN:STANDARD
TZOFFSETFROM:-0400
TZOFFSETTO:-0500
TZNAME:EST
DTSTART:20251102T060000
END:STANDARD
BEGIN:DAYLIGHT
TZOFFSETFROM:-0500
TZOFFSETTO:-0400
TZNAME:EDT
DTSTART:20260308T070000
END:DAYLIGHT
BEGIN:STANDARD
TZOFFSETFROM:-0400
TZOFFSETTO:-0500
TZNAME:EST
DTSTART:20261101T060000
END:STANDARD
BEGIN:DAYLIGHT
TZOFFSETFROM:-0500
TZOFFSETTO:-0400
TZNAME:EDT
DTSTART:20270314T070000
END:DAYLIGHT
BEGIN:STANDARD
TZOFFSETFROM:-0400
TZOFFSETTO:-0500
TZNAME:EST
DTSTART:20271107T060000
END:STANDARD
END:VTIMEZONE
BEGIN:VEVENT
DTSTART;TZID=America/New_York:20260314T180000
DTEND;TZID=America/New_York:20260314T200000
DTSTAMP:20260422T020528
CREATED:20260227T195529Z
LAST-MODIFIED:20260227T195700Z
UID:10022440-1773511200-1773518400@www.huntingtonarts.org
SUMMARY:Huntington Arts Council\, Long Island Grants for the Arts Artist Fellows Filmmaker Spotlight at the Reboli Center
DESCRIPTION:As part of our Artist Fellowship Experience\,  join us for an engaging evening of independent film with LI Grants for the Arts Artist Fellows Lauren Gotard and John Testa. Each filmmaker will present a screening of one of their short films\, offering audiences a unique look into their creative vision\, storytelling approach\, and cinematic craft. Q&A to follow. Free by R.S.V.P only. Reserve your spot at ReboliCenter.org
URL:https://www.huntingtonarts.org/event/huntington-art-council-long-island-grants-for-the-arts-artist-fellows-filmmaker-spotlight-at-the-reboli-center/
LOCATION:The Reboli Center for Art and History\, 64 Main Street\, Stony Brook\, 11709\, United States
CATEGORIES:Film/Media
ATTACH;FMTTYPE=image/png:https://www.huntingtonarts.org/wp-content/uploads/2026/02/unnamed.png
ORGANIZER;CN="Huntington Arts Council%2C Inc.":MAILTO:info@huntingtonarts.org
END:VEVENT
BEGIN:VEVENT
DTSTART;TZID=America/New_York:20260308T100000
DTEND;TZID=America/New_York:20260308T120000
DTSTAMP:20260422T020528
CREATED:20260227T195457Z
LAST-MODIFIED:20260227T195656Z
UID:10022439-1772964000-1772971200@www.huntingtonarts.org
SUMMARY:Huntington Arts Council\, Long Island Grants for the Arts Artist Fellowship Performer Spotlight Celebrating International Women’s Day at the Reboli Center
DESCRIPTION:As part of our Artist Fellowship Experience\, The Reboli Center will host a special International Women’s Day celebration honoring the creativity\, strength\, and artistic excellence of women in the arts. This inspiring morning program features performances by LI Grants for the Arts\, Artist Fellows Jessica Payes\, Michelle La Porte\, and Margarita Espada\, three dynamic artists whose work reflects the power and diversity of women’s voices. Through spoken word\, music\, and performance\, they will share artistry that is bold\, expressive\, and impactful. Free to attend by R.S.V.P only. Reserve your spot at ReboliCenter.org
URL:https://www.huntingtonarts.org/event/huntington-art-council-long-island-grants-for-the-arts-artist-fellowship-performer-spotlight-celebrating-international-womens-day-at-the-reboli-center/
LOCATION:The Reboli Center for Art and History\, 64 Main Street\, Stony Brook\, 11709\, United States
CATEGORIES:Dance,Music,Poetry
ATTACH;FMTTYPE=image/png:https://www.huntingtonarts.org/wp-content/uploads/2026/02/PERFORMER-SPOTLIGHT-1.png
ORGANIZER;CN="Huntington Arts Council%2C Inc.":MAILTO:info@huntingtonarts.org
END:VEVENT
BEGIN:VEVENT
DTSTART;TZID=America/New_York:20251024T080000
DTEND;TZID=America/New_York:20251024T170000
DTSTAMP:20260422T020528
CREATED:20251024T171706Z
LAST-MODIFIED:20251024T171706Z
UID:10017206-1761292800-1761325200@www.huntingtonarts.org
SUMMARY:Huntington Arts Council presents CALL TO ARTISTS: Essence of Form
DESCRIPTION:The Huntington Arts Council invites artists to participate in Essence of Form\, juried by Edward Acosta. Essence of Form explores how abstract shapes\, colors\, and lines can convey deep\, often unspoken meanings. The exhibition invites viewers to move beyond the tangible and engage with the intangible\, discovering how even the most minimal forms can evoke powerful emotions and thoughts. All visual media are welcome. \nSubmission deadline: January 8th\, 2026  | To submit go to\, www.huntingtonarts.org \nAbout the Juror: Edward Acosta (b. 1982\, Puerto Rico) is a New York-based visual artist with family roots in the Dominican Republic. Acosta is celebrated for his distinctive artistic voice\, which blends a perfectionist’s touch in his intricate line work with a bold and masterful command of color. His unique style reflects his meticulous attention to detail and commitment to pushing the boundaries of visual expression. \nFrom a young age\, Acosta has been captivated by art’s power to transcend language and culture\, drawing on Pop Art\, Street Art\, Graffiti\, Geometric Abstraction\, and Abstract Expressionism in his work. He is known for bold\, vibrant acrylic paintings that feature precise linework\, layered organic forms\, and themes of nature\, movement\, and emotional tension. \nAcosta lives and works in Commack\, NY\, and has exhibited in major institutions including the Heckscher Museum\, Long Island Museum\, and Gallery North. His solo show Contours & Currents premiered at Gallery North. He also creates art installations in luxury real estate and speaks at art events.
URL:https://www.huntingtonarts.org/event/huntington-arts-council-presents-call-to-artists-essence-of-form/
ATTACH;FMTTYPE=image/jpeg:https://www.huntingtonarts.org/wp-content/uploads/2025/10/Call-to-Artist-Website-Tile-2.jpg
ORGANIZER;CN="Huntington Arts Council%2C Inc.":MAILTO:info@huntingtonarts.org
END:VEVENT
BEGIN:VEVENT
DTSTART;TZID=America/New_York:20250610T080000
DTEND;TZID=America/New_York:20250713T170000
DTSTAMP:20260422T020528
CREATED:20250507T180053Z
LAST-MODIFIED:20250507T180053Z
UID:10015620-1749542400-1752426000@www.huntingtonarts.org
SUMMARY:The Huntington Arts Council presents Member's Showcase
DESCRIPTION:“Member’s Showcase” is the 2025 Huntington Arts Council Artist Member Show. This annual exhibit is an opportunity exclusively for our artist members to showcase a piece of their work in our gallery\, alongside their member peers. \nMember’s Showcase opens June 10th and will be on display through July 13th. \nThe Huntington Arts Council is open Tuesday – Friday\, 11:00 – 4:00PM\, some weekends. Please call 631-271-8423 \n  \n 
URL:https://www.huntingtonarts.org/event/the-huntington-arts-council-presents-members-showcase/
LOCATION:Huntington Arts Council\, 213 Main Street\, Huntington\, NY\, 11743\, United States
CATEGORIES:Exhibitions
ORGANIZER;CN="Huntington Arts Council%2C Inc.":MAILTO:info@huntingtonarts.org
GEO:40.8721784;-73.4243051
X-APPLE-STRUCTURED-LOCATION;VALUE=URI;X-ADDRESS=Huntington Arts Council 213 Main Street Huntington NY 11743 United States;X-APPLE-RADIUS=500;X-TITLE=213 Main Street:geo:-73.4243051,40.8721784
END:VEVENT
BEGIN:VEVENT
DTSTART;TZID=America/New_York:20250507T080000
DTEND;TZID=America/New_York:20250603T170000
DTSTAMP:20260422T020528
CREATED:20250507T180525Z
LAST-MODIFIED:20250507T180525Z
UID:10015621-1746604800-1748970000@www.huntingtonarts.org
SUMMARY:The Huntington Arts Council presents CALL TO ARTIST: Rooted in Verse
DESCRIPTION:The Huntington Arts Council\, in collaboration with our friends\, The Walt Whitman Birthplace Association\, invite artists to participate in Rooted in Verse. Entries will draw inspiration directly from one chosen poem (per work) of the three selected by the Walt Whitman Birthplace Association from Whitman’s Leaves of Grass. To view the poems go to our website\, www.huntingtonarts.org \nEntry deadline: June 4th\, 2025
URL:https://www.huntingtonarts.org/event/the-huntington-arts-council-presents-call-to-artist-rooted-in-verse/
CATEGORIES:Exhibitions
ATTACH;FMTTYPE=image/jpeg:https://www.huntingtonarts.org/wp-content/uploads/2025/05/promo-and-webtile-graphci-scaled.jpg
ORGANIZER;CN="Huntington Arts Council%2C Inc.":MAILTO:info@huntingtonarts.org
END:VEVENT
BEGIN:VEVENT
DTSTART;TZID=America/New_York:20250211T080000
DTEND;TZID=America/New_York:20250316T170000
DTSTAMP:20260422T020528
CREATED:20250127T214944Z
LAST-MODIFIED:20250127T214944Z
UID:10015257-1739260800-1742144400@www.huntingtonarts.org
SUMMARY:Huntington Arts Council presents Iconography
DESCRIPTION:The show explores how “traditional symbols and imagery can be reimagined through contemporary practices”. \nThe reception is scheduled for Feb 21st from 5-8 pm.
URL:https://www.huntingtonarts.org/event/huntington-arts-council-presents-iconography/
CATEGORIES:Exhibitions
ATTACH;FMTTYPE=image/jpeg:https://www.huntingtonarts.org/wp-content/uploads/2025/01/RED-LIPSTICK-sml-1.jpg
ORGANIZER;CN="Huntington Arts Council%2C Inc.":MAILTO:info@huntingtonarts.org
END:VEVENT
BEGIN:VEVENT
DTSTART;TZID=America/New_York:20240611T080000
DTEND;TZID=America/New_York:20240714T170000
DTSTAMP:20260422T020528
CREATED:20240314T161323Z
LAST-MODIFIED:20240314T162508Z
UID:10010657-1718092800-1720976400@www.huntingtonarts.org
SUMMARY:Huntington Arts Council presents Members Showcase 2024
DESCRIPTION:“Members Showcase” is the 2024 Huntington Arts Council Artist Member Show. This annual exhibit is an opportunity exclusively for our artist members to showcase a piece of their work in our Gallery along with their member peers. Submissions are due April 23\, 2024. For more information go to www.huntingtonarts.org
URL:https://www.huntingtonarts.org/event/huntington-arts-council-presents-members-showcase-2024/
LOCATION:Huntington Arts Council\, 213 Main Street\, Huntington\, NY\, 11743\, United States
CATEGORIES:Exhibitions
ORGANIZER;CN="Huntington Arts Council%2C Inc.":MAILTO:info@huntingtonarts.org
GEO:40.8721784;-73.4243051
X-APPLE-STRUCTURED-LOCATION;VALUE=URI;X-ADDRESS=Huntington Arts Council 213 Main Street Huntington NY 11743 United States;X-APPLE-RADIUS=500;X-TITLE=213 Main Street:geo:-73.4243051,40.8721784
END:VEVENT
BEGIN:VEVENT
DTSTART;TZID=America/New_York:20240603T080000
DTEND;TZID=America/New_York:20240603T170000
DTSTAMP:20260422T020528
CREATED:20240402T193157Z
LAST-MODIFIED:20240402T194105Z
UID:10010681-1717401600-1717434000@www.huntingtonarts.org
SUMMARY:Huntington Arts Council CALL TO ARTISTS: Assemblage
DESCRIPTION:The Huntington Arts Council invites artists to participate in Assemblage. In this exhibition\, juried by Po Zhang\, artists are encouraged to submit artwork created on a defined base with 3D elements coming out of or from it. The use of found objects is welcomed but not required. Work can be free-standing or wall-hanging. Submissions due June 3rd. For more information\, go to huntingtonarts.org
URL:https://www.huntingtonarts.org/event/huntington-arts-council-call-to-artists-assemblage/
LOCATION:Huntington Arts Council\, 213 Main Street\, Huntington\, NY\, 11743\, United States
CATEGORIES:Exhibitions
ATTACH;FMTTYPE=image/jpeg:https://www.huntingtonarts.org/wp-content/uploads/2024/04/IMG_1953_3_3-scaled.jpg
ORGANIZER;CN="Huntington Arts Council%2C Inc.":MAILTO:info@huntingtonarts.org
GEO:40.8721784;-73.4243051
X-APPLE-STRUCTURED-LOCATION;VALUE=URI;X-ADDRESS=Huntington Arts Council 213 Main Street Huntington NY 11743 United States;X-APPLE-RADIUS=500;X-TITLE=213 Main Street:geo:-73.4243051,40.8721784
END:VEVENT
BEGIN:VEVENT
DTSTART;TZID=America/New_York:20240529T160000
DTEND;TZID=America/New_York:20240529T180000
DTSTAMP:20260422T020528
CREATED:20240521T145931Z
LAST-MODIFIED:20240521T145931Z
UID:10013153-1716998400-1717005600@www.huntingtonarts.org
SUMMARY:Huntington Arts Council Professional Development Series: Storytelling for Communication
DESCRIPTION:Join Huntington Arts Council’s Assistant Director\, Maureen Starr\, and Board Member & Artist\, AJ Spencer\, for a presentation on how to use storytelling as a relatable and engaging way to communicate. The techniques discussed will apply to both individual artists and arts organizations. Wednesday May 29th\, 4:00 – 6:00pm. Choose between in person\, online\, or receive a recording. Registration is required. For more information\, visit huntingtonarts.org \nFree.
URL:https://www.huntingtonarts.org/event/huntington-arts-council-professional-development-series-storytelling-for-communication/
LOCATION:Huntington Arts Council\, 213 Main Street\, Huntington\, NY\, 11743\, United States
CATEGORIES:Workshop Classes
ATTACH;FMTTYPE=image/png:https://www.huntingtonarts.org/wp-content/uploads/2024/05/AJ-Maureen-Social-Media.png
ORGANIZER;CN="Huntington Arts Council%2C Inc.":MAILTO:info@huntingtonarts.org
GEO:40.8721784;-73.4243051
X-APPLE-STRUCTURED-LOCATION;VALUE=URI;X-ADDRESS=Huntington Arts Council 213 Main Street Huntington NY 11743 United States;X-APPLE-RADIUS=500;X-TITLE=213 Main Street:geo:-73.4243051,40.8721784
END:VEVENT
BEGIN:VEVENT
DTSTART;TZID=America/New_York:20240415T180000
DTEND;TZID=America/New_York:20240415T220000
DTSTAMP:20260422T020528
CREATED:20240402T154022Z
LAST-MODIFIED:20240402T154022Z
UID:10010680-1713204000-1713218400@www.huntingtonarts.org
SUMMARY:Huntington Arts Council presents The 2024 Chapin Awards
DESCRIPTION:Please join us for the Chapin Awards 2024 as we celebrate our 61st Anniversary. The Huntington Arts Council will be recognizing two outstanding community leaders\, each of whom are acclaimed in their own right for their dedication to the arts. The multimedia celebration will encompass the presentation of Chapin Awards\, honorees\, distinguished guests\, live performances\, and raffle prizes. \nFollowing the VIP cocktail hour\, we will welcome our general admission audience to open the event. Each honoree will be celebrated with a personalized\, not-to-missed performance\, that honors their dedication to the arts and humanities. \nPlease join us for this very special evening celebrating our 61st anniversary and these amazing individuals at the Chapin Awards 2024. \nFor more information please visit our website huntingtonarts.org
URL:https://www.huntingtonarts.org/event/huntington-arts-council-presents-the-2024-chapin-awards/
LOCATION:The John W. Engeman Theater\, 250 Main Street\, Northport\, 11768\, United States
ATTACH;FMTTYPE=image/jpeg:https://www.huntingtonarts.org/wp-content/uploads/2024/04/1_31-REVISED-2024-HAC-ANNUAL-BENEFIT-AD-scaled.jpg
ORGANIZER;CN="Huntington Arts Council%2C Inc.":MAILTO:info@huntingtonarts.org
END:VEVENT
BEGIN:VEVENT
DTSTART;TZID=America/New_York:20240405T110000
DTEND;TZID=America/New_York:20240405T140000
DTSTAMP:20260422T020528
CREATED:20240402T194022Z
LAST-MODIFIED:20240402T194022Z
UID:10010682-1712314800-1712325600@www.huntingtonarts.org
SUMMARY:Huntington Arts Council presents Free Pro Bono Legal Clinic
DESCRIPTION:HAC is proud to collaborate again this year with the New York State Bar Association’s Entertainment\, Arts & Sports Law and Intellectual Property Sections and coordinating attorneys Elissa Hecker\, Debra Resnick\, and Rosemarie Tully. Offering confidential\, individual consultations with arts and entertainment attorneys\, the Clinic’s volunteer attorneys are prepared to discuss legal issues concerning entertainment\, intellectual property (i.e. copyright and trademarks)\, licensing\, corporation/incorporation\, and collaboration agreements\, organizational and corporate policies\, among other issues.\n\nIncome-qualifying applicants will be taken on a first come first served basis. Consulting sessions will be 30 minutes in duration and will take place April 5th\, 2024 from 11am – 2pm at The Agency\, 299 Main Street Huntington\, NY 11743. Appointment slots are limited and will be available on a first-come-first-serve basis by registration only. For more information\, go to huntingtonarts.org
URL:https://www.huntingtonarts.org/event/huntington-arts-council-presents-free-pro-bono-legal-clinic/
LOCATION:The Agency\, 299 Main St\, Huntington\, 11743\, United States
CATEGORIES:Workshop Classes
ATTACH;FMTTYPE=image/jpeg:https://www.huntingtonarts.org/wp-content/uploads/2024/04/Pro-Bono-Clinics-Flyer.jpg
ORGANIZER;CN="Huntington Arts Council%2C Inc.":MAILTO:info@huntingtonarts.org
END:VEVENT
BEGIN:VEVENT
DTSTART;TZID=America/New_York:20240326T100000
DTEND;TZID=America/New_York:20240421T160000
DTSTAMP:20260422T020528
CREATED:20240314T155101Z
LAST-MODIFIED:20240314T155101Z
UID:10010655-1711447200-1713715200@www.huntingtonarts.org
SUMMARY:Huntington Arts Council presents High Arts Showcase
DESCRIPTION:The High Arts Showcase is a component of the JOURNEY Arts in Education Program. This exhibition features the work of our 8 partner districts high school students. This opportunity enables students to gain experience in presenting their talents and interacting with the arts community. The 8 districts are: Cold Spring Harbor CSD\, Commack UFSD\, Harborfields CSD\, Huntington UFSD\, Kings Park CSD\, Northport-East Northport UFSD\, Plainview-Old Bethpage Central School District and South Huntington UFSD. Thank you to Blick for sponsoring High Arts Showcase. \nThe Huntington Arts Council is open Tuesday-Friday\, 10-4pm.
URL:https://www.huntingtonarts.org/event/huntington-arts-council-presents-high-arts-showcase/
LOCATION:Huntington Arts Council\, 213 Main Street\, Huntington\, NY\, 11743\, United States
ORGANIZER;CN="Huntington Arts Council%2C Inc.":MAILTO:info@huntingtonarts.org
GEO:40.8721784;-73.4243051
X-APPLE-STRUCTURED-LOCATION;VALUE=URI;X-ADDRESS=Huntington Arts Council 213 Main Street Huntington NY 11743 United States;X-APPLE-RADIUS=500;X-TITLE=213 Main Street:geo:-73.4243051,40.8721784
END:VEVENT
BEGIN:VEVENT
DTSTART;TZID=America/New_York:20240314T080000
DTEND;TZID=America/New_York:20240501T170000
DTSTAMP:20260422T020528
CREATED:20240314T162306Z
LAST-MODIFIED:20240314T165110Z
UID:10010658-1710403200-1714582800@www.huntingtonarts.org
SUMMARY:Huntington Arts Council Member Opportunity: Cover Call for the Arts Cultural Magazine
DESCRIPTION:Current Artist Circle members and students from JOURNEY partner schools are invited to participate in this exclusive opportunity to create original art work for the cover of the Summer 2024 issue of Arts Cultural Magazine. The focus of the Summer issue is the 59th Huntington Summer Arts Festival. This mainstay event brings the community together to experience live music\, theatre and dance at the Chapin Rainbow Stage in Heckscher Park\, Huntington. \nEntries should be work that has been inspired by\, and represents the energy and excitement of the live performance based Huntington Summer Arts Festival. One work will be chosen out of all the entries for the cover of the magazine and a stipend of $250 will be awarded to the artist. Work NOT chosen for the cover will be evaluated for use in our “Visual Arts Experience” in the park\, featuring artwork and bios on printed banners surrounding the perimeter of the festival enclosure. \nDeadline: May 1st\, 2024\nContact KJohnson@huntingtonarts.org to make sure your membership is current or go to www.huntingtonarts.org to sign up for your Artist Circle membership today!
URL:https://www.huntingtonarts.org/event/huntington-arts-council-call-to-artists-cover-call-for-the-arts-cultural-magazine/
LOCATION:Huntington Arts Council\, 213 Main Street\, Huntington\, NY\, 11743\, United States
CATEGORIES:Exhibitions,Miscellaneous
ORGANIZER;CN="Huntington Arts Council%2C Inc.":MAILTO:info@huntingtonarts.org
GEO:40.8721784;-73.4243051
X-APPLE-STRUCTURED-LOCATION;VALUE=URI;X-ADDRESS=Huntington Arts Council 213 Main Street Huntington NY 11743 United States;X-APPLE-RADIUS=500;X-TITLE=213 Main Street:geo:-73.4243051,40.8721784
END:VEVENT
BEGIN:VEVENT
DTSTART;TZID=America/New_York:20240301T080000
DTEND;TZID=America/New_York:20240321T170000
DTSTAMP:20260422T020528
CREATED:20240314T160557Z
LAST-MODIFIED:20240314T162642Z
UID:10010656-1709280000-1711040400@www.huntingtonarts.org
SUMMARY:Huntington Arts Council CALL TO ARTISTS\, "The Evolution of Style: Wearable 3.0"
DESCRIPTION:The Huntington Arts Council invites artists to participate in The Evolution of Style: Wearable 3.0. Entries should meet at the intersection of fashion and fine art through design\, costume\, or culture. Submissions should be representative of the creative inspiration found in garments\, accessories\, and representational work. Items should be either modified or created from scratch. Submissions are due 3/21. For more information\, go to Huntingtonarts.org
URL:https://www.huntingtonarts.org/event/huntington-arts-council-call-to-artists-the-evolution-of-style-wearable-3-0/
CATEGORIES:Exhibitions
ORGANIZER;CN="Huntington Arts Council%2C Inc.":MAILTO:info@huntingtonarts.org
END:VEVENT
BEGIN:VEVENT
DTSTART;TZID=America/New_York:20230722T123000
DTEND;TZID=America/New_York:20230722T220000
DTSTAMP:20260422T020528
CREATED:20230413T203929Z
LAST-MODIFIED:20230613T115418Z
UID:10005875-1690029000-1690063200@www.huntingtonarts.org
SUMMARY:Folk Music Society of Huntington co-presents Huntington Folk Festival
DESCRIPTION:The 17th annual Huntington Folk Festival is set for Saturday\, July 22\, at Heckscher Park\, located off Main Street (Route 25A) and Prime Avenue\, in Huntington. Extending from 12:30 -10 p.m.\, with a dinner break from 6-7:15 p.m.\, the free event is co-presented by the Huntington Arts Council\, Folk Music Society of Huntington and AcousticMusicScene.com as part of the 58th Huntington Summer Arts Festival produced by the Town of Huntington. An evening concert featuring internationally touring singer-songwriters Lucy Kaplansky and Cliff Eberhardt will be preceded by a series of amplified song swaps and an open mic during the afternoon. \nPrior to the evening concert on the park’s [Harry] Chapin Rainbow Stage\, Michael Kornfeld\, president of the Folk Music Society of Huntington and editor & publisher of AcousticMusicScene.com (an online publication for the folk\, roots and singer-songwriter communities)\, conducts an on-stage conversational interview with the evening’s featured artists at 7:15 p.m. He also emcees a series of amplified song swaps from 1:30-4 p.m. near a canopy tent on the upper lawn area overlooking the stage and from 4-6 p.m. on-stage. These will be preceded by an hour-long open mic hosted by singer-songwriter Toby Tobias\, who co-hosts the NorthShore Original Open Mic (NOOM) that is co-presented by FMSH and the Cinema Arts Centre in the Cinema’s Sky Room on three Wednesday nights each month.
URL:https://www.huntingtonarts.org/event/folk-music-society-of-huntington-co-presents-huntington-folk-festival/
LOCATION:Heckscher Park\, Route 25A\, Huntington\, NY\, 11743\, United States
CATEGORIES:Music
ORGANIZER;CN="Huntington Arts Council%2C Inc.":MAILTO:info@huntingtonarts.org
GEO:40.87574;-73.413945
X-APPLE-STRUCTURED-LOCATION;VALUE=URI;X-ADDRESS=Heckscher Park Route 25A Huntington NY 11743 United States;X-APPLE-RADIUS=500;X-TITLE=Route 25A:geo:-73.413945,40.87574
END:VEVENT
BEGIN:VEVENT
DTSTART;TZID=America/New_York:20230720T200000
DTEND;TZID=America/New_York:20230720T213000
DTSTAMP:20260422T020528
CREATED:20230403T171205Z
LAST-MODIFIED:20230613T115428Z
UID:10005879-1689883200-1689888600@www.huntingtonarts.org
SUMMARY:North Shore Pops Concert Band
DESCRIPTION:Summertime evening with “Long Island’s Favorite Concert Band.” \nCome hear an entertaining performance from our wide repertoire. Light classics\, patriotic marches\, Broadway hits\, and other toe-tapping favorites. \nWe Love People Who Love Music!
URL:https://www.huntingtonarts.org/event/north-shore-pops-concert-band-2/
LOCATION:Heckscher Park\, Huntington\, 164 Main St. \, Huntington\, NY\, 11743\, United States
CATEGORIES:Music
ORGANIZER;CN="Huntington Arts Council%2C Inc.":MAILTO:info@huntingtonarts.org
GEO:40.8728839;-73.4222998
X-APPLE-STRUCTURED-LOCATION;VALUE=URI;X-ADDRESS=Heckscher Park Huntington 164 Main St.  Huntington NY 11743 United States;X-APPLE-RADIUS=500;X-TITLE=164 Main St.:geo:-73.4222998,40.8728839
END:VEVENT
END:VCALENDAR