BEGIN:VCALENDAR
VERSION:2.0
PRODID:-//Huntington Arts Council - ECPv6.15.20//NONSGML v1.0//EN
CALSCALE:GREGORIAN
METHOD:PUBLISH
X-WR-CALNAME:Huntington Arts Council
X-ORIGINAL-URL:https://www.huntingtonarts.org
X-WR-CALDESC:Events for Huntington Arts Council
REFRESH-INTERVAL;VALUE=DURATION:PT1H
X-Robots-Tag:noindex
X-PUBLISHED-TTL:PT1H
BEGIN:VTIMEZONE
TZID:America/New_York
BEGIN:DAYLIGHT
TZOFFSETFROM:-0500
TZOFFSETTO:-0400
TZNAME:EDT
DTSTART:20250309T070000
END:DAYLIGHT
BEGIN:STANDARD
TZOFFSETFROM:-0400
TZOFFSETTO:-0500
TZNAME:EST
DTSTART:20251102T060000
END:STANDARD
BEGIN:DAYLIGHT
TZOFFSETFROM:-0500
TZOFFSETTO:-0400
TZNAME:EDT
DTSTART:20260308T070000
END:DAYLIGHT
BEGIN:STANDARD
TZOFFSETFROM:-0400
TZOFFSETTO:-0500
TZNAME:EST
DTSTART:20261101T060000
END:STANDARD
BEGIN:DAYLIGHT
TZOFFSETFROM:-0500
TZOFFSETTO:-0400
TZNAME:EDT
DTSTART:20270314T070000
END:DAYLIGHT
BEGIN:STANDARD
TZOFFSETFROM:-0400
TZOFFSETTO:-0500
TZNAME:EST
DTSTART:20271107T060000
END:STANDARD
END:VTIMEZONE
BEGIN:VEVENT
DTSTART;TZID=America/New_York:20260511T100000
DTEND;TZID=America/New_York:20260511T120000
DTSTAMP:20260422T205629
CREATED:20260105T172516Z
LAST-MODIFIED:20260114T162447Z
UID:10018833-1778493600-1778500800@www.huntingtonarts.org
SUMMARY:Artist Member Helen Murdock-Prep presents Watercolor Classes at Cold Spring Harbor Library
DESCRIPTION:Come join artist Helen Murdock-Prep to learn all about the wonderful world of watercolor. These in-person classes are taught at the Cold Spring Harbor Library year round. Call the library at 631-692-6820 for more information and to register. Beginners and all levels welcome!
URL:https://www.huntingtonarts.org/event/artist-member-helen-murdock-prep-presents-watercolor-classes-at-cold-spring-harbor-library/
LOCATION:Cold Spring Harbor Library & Environmental Center\, 95 Harbor Rd.\, Cold Spring Harbor\, NY\, 11724\, United States
ATTACH;FMTTYPE=image/jpeg:https://www.huntingtonarts.org/wp-content/uploads/2025/12/IMG_7938.jpeg
ORGANIZER;CN="Helen Murdock-Prep":MAILTO:hmurdock@optonline.net
GEO:40.866;-73.46107
X-APPLE-STRUCTURED-LOCATION;VALUE=URI;X-ADDRESS=Cold Spring Harbor Library & Environmental Center 95 Harbor Rd. Cold Spring Harbor NY 11724 United States;X-APPLE-RADIUS=500;X-TITLE=95 Harbor Rd.:geo:-73.46107,40.866
END:VEVENT
END:VCALENDAR