BEGIN:VCALENDAR
VERSION:2.0
PRODID:-//Huntington Arts Council - ECPv6.15.20//NONSGML v1.0//EN
CALSCALE:GREGORIAN
METHOD:PUBLISH
X-ORIGINAL-URL:https://www.huntingtonarts.org
X-WR-CALDESC:Events for Huntington Arts Council
REFRESH-INTERVAL;VALUE=DURATION:PT1H
X-Robots-Tag:noindex
X-PUBLISHED-TTL:PT1H
BEGIN:VTIMEZONE
TZID:America/New_York
BEGIN:DAYLIGHT
TZOFFSETFROM:-0500
TZOFFSETTO:-0400
TZNAME:EDT
DTSTART:20250309T070000
END:DAYLIGHT
BEGIN:STANDARD
TZOFFSETFROM:-0400
TZOFFSETTO:-0500
TZNAME:EST
DTSTART:20251102T060000
END:STANDARD
BEGIN:DAYLIGHT
TZOFFSETFROM:-0500
TZOFFSETTO:-0400
TZNAME:EDT
DTSTART:20260308T070000
END:DAYLIGHT
BEGIN:STANDARD
TZOFFSETFROM:-0400
TZOFFSETTO:-0500
TZNAME:EST
DTSTART:20261101T060000
END:STANDARD
BEGIN:DAYLIGHT
TZOFFSETFROM:-0500
TZOFFSETTO:-0400
TZNAME:EDT
DTSTART:20270314T070000
END:DAYLIGHT
BEGIN:STANDARD
TZOFFSETFROM:-0400
TZOFFSETTO:-0500
TZNAME:EST
DTSTART:20271107T060000
END:STANDARD
END:VTIMEZONE
BEGIN:VEVENT
DTSTART;TZID=America/New_York:20260422T190000
DTEND;TZID=America/New_York:20260422T200000
DTSTAMP:20260421T121318
CREATED:20260407T182007Z
LAST-MODIFIED:20260407T182007Z
UID:10023434-1776884400-1776888000@www.huntingtonarts.org
SUMMARY:Harborfields Library presents: Harborfields High School  Annual Young Artists' Exhibition  Art Reception
DESCRIPTION:Stop by the library this month to view a collection of outstanding artwork created by students in grades 9–12. The display highlights the creativity and talent of our high school artists and showcases a variety of unique pieces. Poster designed by Karleen Melleby.
URL:https://www.huntingtonarts.org/event/harborfields-library-presents-harborfields-high-school-annual-young-artists-exhibition-art-reception/
LOCATION:Harborfields Library\, 31 Broadway\, Greenlawn\, NY\, 11740\, United States
CATEGORIES:Exhibitions
ATTACH;FMTTYPE=image/png:https://www.huntingtonarts.org/wp-content/uploads/2026/03/young-artists-exhibition-1.png
ORGANIZER;CN="Harborfields Public Library Program Department":MAILTO:programs@harborfieldslibrary.org
END:VEVENT
END:VCALENDAR