BEGIN:VCALENDAR
VERSION:2.0
PRODID:-//Huntington Arts Council - ECPv6.15.20//NONSGML v1.0//EN
CALSCALE:GREGORIAN
METHOD:PUBLISH
X-ORIGINAL-URL:https://www.huntingtonarts.org
X-WR-CALDESC:Events for Huntington Arts Council
REFRESH-INTERVAL;VALUE=DURATION:PT1H
X-Robots-Tag:noindex
X-PUBLISHED-TTL:PT1H
BEGIN:VTIMEZONE
TZID:America/New_York
BEGIN:DAYLIGHT
TZOFFSETFROM:-0500
TZOFFSETTO:-0400
TZNAME:EDT
DTSTART:20250309T070000
END:DAYLIGHT
BEGIN:STANDARD
TZOFFSETFROM:-0400
TZOFFSETTO:-0500
TZNAME:EST
DTSTART:20251102T060000
END:STANDARD
BEGIN:DAYLIGHT
TZOFFSETFROM:-0500
TZOFFSETTO:-0400
TZNAME:EDT
DTSTART:20260308T070000
END:DAYLIGHT
BEGIN:STANDARD
TZOFFSETFROM:-0400
TZOFFSETTO:-0500
TZNAME:EST
DTSTART:20261101T060000
END:STANDARD
BEGIN:DAYLIGHT
TZOFFSETFROM:-0500
TZOFFSETTO:-0400
TZNAME:EDT
DTSTART:20270314T070000
END:DAYLIGHT
BEGIN:STANDARD
TZOFFSETFROM:-0400
TZOFFSETTO:-0500
TZNAME:EST
DTSTART:20271107T060000
END:STANDARD
END:VTIMEZONE
BEGIN:VEVENT
DTSTART;VALUE=DATE:20260716
DTEND;VALUE=DATE:20260824
DTSTAMP:20260421T222630
CREATED:20260421T165253Z
LAST-MODIFIED:20260421T165253Z
UID:10024199-1784160000-1787529599@www.huntingtonarts.org
SUMMARY:Artist Member William Low presents Light Remembered at Gallery North\, Setauket
DESCRIPTION:Exhibition Dates\nJuly 16 – August 23\, 2026\nOpening Reception\nThursday\, July 16\, 2026\n6:00 PM – 8:00 PM \nExperience Light Remembered\, William Low’s first solo exhibition at Gallery North\, featuring\nrecent paintings that capture the beauty of atmosphere\, shifting light\, and familiar landscapes in a\nspecific time. Exploring both architecture and the natural world\, Low’s work reflects the spaces\nwe move through\, inhabit\, and remember. \nLow’s paintings have been exhibited at Salmagundi Club\, The Heckscher Museum of Art’s Long\nIsland Biennial\, and Museum of the City of New York. His work is held in the collections of\nReading Public Museum and Rosewood Hong Kong. Commissions include United States Postal\nService stamp designs and public art projects for MTA Arts & Design in the Bronx and Deer\nPark\, New York.
URL:https://www.huntingtonarts.org/event/artist-member-william-low-presents-light-remembered-at-gallery-north-setauket/
LOCATION:Gallery North\, 90 North Country Road\, Setauket\, NY\, 11733\, United States
CATEGORIES:Exhibitions
ATTACH;FMTTYPE=image/jpeg:https://www.huntingtonarts.org/wp-content/uploads/2026/04/Yellow-House-Sunrise-scaled.jpg
ORGANIZER;CN="William Low":MAILTO:info@williamlow.com
GEO:40.9331717;-73.1182087
X-APPLE-STRUCTURED-LOCATION;VALUE=URI;X-ADDRESS=Gallery North 90 North Country Road Setauket NY 11733 United States;X-APPLE-RADIUS=500;X-TITLE=90 North Country Road:geo:-73.1182087,40.9331717
END:VEVENT
END:VCALENDAR