BEGIN:VCALENDAR
VERSION:2.0
PRODID:-//Huntington Arts Council - ECPv6.15.20//NONSGML v1.0//EN
CALSCALE:GREGORIAN
METHOD:PUBLISH
X-ORIGINAL-URL:https://www.huntingtonarts.org
X-WR-CALDESC:Events for Huntington Arts Council
REFRESH-INTERVAL;VALUE=DURATION:PT1H
X-Robots-Tag:noindex
X-PUBLISHED-TTL:PT1H
BEGIN:VTIMEZONE
TZID:America/New_York
BEGIN:DAYLIGHT
TZOFFSETFROM:-0500
TZOFFSETTO:-0400
TZNAME:EDT
DTSTART:20250309T070000
END:DAYLIGHT
BEGIN:STANDARD
TZOFFSETFROM:-0400
TZOFFSETTO:-0500
TZNAME:EST
DTSTART:20251102T060000
END:STANDARD
BEGIN:DAYLIGHT
TZOFFSETFROM:-0500
TZOFFSETTO:-0400
TZNAME:EDT
DTSTART:20260308T070000
END:DAYLIGHT
BEGIN:STANDARD
TZOFFSETFROM:-0400
TZOFFSETTO:-0500
TZNAME:EST
DTSTART:20261101T060000
END:STANDARD
BEGIN:DAYLIGHT
TZOFFSETFROM:-0500
TZOFFSETTO:-0400
TZNAME:EDT
DTSTART:20270314T070000
END:DAYLIGHT
BEGIN:STANDARD
TZOFFSETFROM:-0400
TZOFFSETTO:-0500
TZNAME:EST
DTSTART:20271107T060000
END:STANDARD
END:VTIMEZONE
BEGIN:VEVENT
DTSTART;TZID=America/New_York:20260207T120000
DTEND;TZID=America/New_York:20260208T150000
DTSTAMP:20260421T211735
CREATED:20260120T191818Z
LAST-MODIFIED:20260120T191818Z
UID:10021855-1770465600-1770562800@www.huntingtonarts.org
SUMMARY:BAFFA Gallery and Eastern Suffolk BOCES presents Art from the Heart
DESCRIPTION:Eastern Suffolk BOCES presents Art from the Heart: An Artistic Journey\, featuring artwork from the students of Sayville Elementary School and Brookhaven Learning Center\, at the BAFFA Art Gallery. The show is curated by Loriann Christian and Kristina Testani. The public is invited to view the exhibit on Saturday\, February 7th\, and Sunday\, February 8th\, from Noon to 3:00 PM\, with a reception on Sunday from 12:00 to 3:00. The BAFFA Art Gallery is located in the historic Gillette House at 47 Gillette Avenue in Sayville. For further information: www.baffa.org.
URL:https://www.huntingtonarts.org/event/baffa-gallery-and-eastern-suffolk-boces-presents-art-from-the-heart/
LOCATION:BAFFA Gallery\, 47 Gillette Avenue\, Sayville\, NY\, 11782\, United States
CATEGORIES:Exhibitions
ATTACH;FMTTYPE=image/jpeg:https://www.huntingtonarts.org/wp-content/uploads/2026/01/Art-from-the-Heart.jpg
ORGANIZER;CN="Bay Area Friends of the Fine Arts (BAFFA)":MAILTO:baffaoffice@gmail.com
GEO:40.7343766;-73.0814701
X-APPLE-STRUCTURED-LOCATION;VALUE=URI;X-ADDRESS=BAFFA Gallery 47 Gillette Avenue Sayville NY 11782 United States;X-APPLE-RADIUS=500;X-TITLE=47 Gillette Avenue:geo:-73.0814701,40.7343766
END:VEVENT
END:VCALENDAR