BEGIN:VCALENDAR
VERSION:2.0
PRODID:-//Huntington Arts Council - ECPv6.15.20//NONSGML v1.0//EN
CALSCALE:GREGORIAN
METHOD:PUBLISH
X-ORIGINAL-URL:https://www.huntingtonarts.org
X-WR-CALDESC:Events for Huntington Arts Council
REFRESH-INTERVAL;VALUE=DURATION:PT1H
X-Robots-Tag:noindex
X-PUBLISHED-TTL:PT1H
BEGIN:VTIMEZONE
TZID:America/New_York
BEGIN:DAYLIGHT
TZOFFSETFROM:-0500
TZOFFSETTO:-0400
TZNAME:EDT
DTSTART:20220313T070000
END:DAYLIGHT
BEGIN:STANDARD
TZOFFSETFROM:-0400
TZOFFSETTO:-0500
TZNAME:EST
DTSTART:20221106T060000
END:STANDARD
BEGIN:DAYLIGHT
TZOFFSETFROM:-0500
TZOFFSETTO:-0400
TZNAME:EDT
DTSTART:20230312T070000
END:DAYLIGHT
BEGIN:STANDARD
TZOFFSETFROM:-0400
TZOFFSETTO:-0500
TZNAME:EST
DTSTART:20231105T060000
END:STANDARD
BEGIN:DAYLIGHT
TZOFFSETFROM:-0500
TZOFFSETTO:-0400
TZNAME:EDT
DTSTART:20240310T070000
END:DAYLIGHT
BEGIN:STANDARD
TZOFFSETFROM:-0400
TZOFFSETTO:-0500
TZNAME:EST
DTSTART:20241103T060000
END:STANDARD
END:VTIMEZONE
BEGIN:VEVENT
DTSTART;TZID=America/New_York:20230628T193000
DTEND;TZID=America/New_York:20230628T210000
DTSTAMP:20260421T233741
CREATED:20230410T234354Z
LAST-MODIFIED:20230613T115557Z
UID:10005903-1687980600-1687986000@www.huntingtonarts.org
SUMMARY:Dance Visions NY presents “Forging the Elements” for a program by Creative Performances
DESCRIPTION:“Forging the Elements\,” is a stand-alone revision taken from the company’s pivotal work\, “Through the Portals”. The piece depicts worlds of color and relationships. The colors (as dancers) also represent the elements of fire\, water\, air and earth as well as personality traits. The colors develop individual traits and interact\, and identity is tested and strengthened through these interactions. Artwork from Susan Ruth Cohen’s “Finding the Song” which was created along with the choreography\, serves as the background and taking off point for the various scenes in the work. This piece will be presented along with 7 other works by emerging and established choreographers as part of the series “8 in a Show” curated and presented by “Creative Performances.”
URL:https://www.huntingtonarts.org/event/dance-visions-ny-presents-forging-the-elements-for-a-program-by-creative-performances/
LOCATION:Dixon Place\, 161A Chrystie St.\, New York\, NY\, 10002\, United States
CATEGORIES:Dance
ORGANIZER;CN="Creative Perfromances":MAILTO:stylepointenyc@gmail.com
END:VEVENT
END:VCALENDAR