BEGIN:VCALENDAR
VERSION:2.0
PRODID:-//Huntington Arts Council - ECPv6.15.20//NONSGML v1.0//EN
CALSCALE:GREGORIAN
METHOD:PUBLISH
X-WR-CALNAME:Huntington Arts Council
X-ORIGINAL-URL:https://www.huntingtonarts.org
X-WR-CALDESC:Events for Huntington Arts Council
REFRESH-INTERVAL;VALUE=DURATION:PT1H
X-Robots-Tag:noindex
X-PUBLISHED-TTL:PT1H
BEGIN:VTIMEZONE
TZID:America/New_York
BEGIN:DAYLIGHT
TZOFFSETFROM:-0500
TZOFFSETTO:-0400
TZNAME:EDT
DTSTART:20230312T070000
END:DAYLIGHT
BEGIN:STANDARD
TZOFFSETFROM:-0400
TZOFFSETTO:-0500
TZNAME:EST
DTSTART:20231105T060000
END:STANDARD
BEGIN:DAYLIGHT
TZOFFSETFROM:-0500
TZOFFSETTO:-0400
TZNAME:EDT
DTSTART:20240310T070000
END:DAYLIGHT
BEGIN:STANDARD
TZOFFSETFROM:-0400
TZOFFSETTO:-0500
TZNAME:EST
DTSTART:20241103T060000
END:STANDARD
BEGIN:DAYLIGHT
TZOFFSETFROM:-0500
TZOFFSETTO:-0400
TZNAME:EDT
DTSTART:20250309T070000
END:DAYLIGHT
BEGIN:STANDARD
TZOFFSETFROM:-0400
TZOFFSETTO:-0500
TZNAME:EST
DTSTART:20251102T060000
END:STANDARD
END:VTIMEZONE
BEGIN:VEVENT
DTSTART;TZID=America/New_York:20240915T133000
DTEND;TZID=America/New_York:20240915T153000
DTSTAMP:20260422T205944
CREATED:20240221T190704Z
LAST-MODIFIED:20240221T190704Z
UID:10010143-1726407000-1726414200@www.huntingtonarts.org
SUMMARY:Clemente Ettrick in Collaboration with TrashBata Present Dance Reception: Two Artists Focus the Community on Environmental Awareness
DESCRIPTION:Clemente Ettrick is pleased to introduce Long Island’s North Shore to his latest collection of oil and pastel paintings which are based on a collaboration with New York City choreographer Bárbara Martínez and TrashBata\, her flamenco-style dance designed to increase the public’s concern about the environment. Clemente’s TrashBata collection will be exhibited alongside his Pasión: Spanish Dance collection. This extensive pair of collections will be on display at Great Neck’s main library throughout the month of April. At the opening reception\, members of the public will be able to see both collections\, watch Bárbara perform TrashBata\, and talk with both artists about their collaboration and work. Full-sized giclée reproductions of the paintings will be available for order.
URL:https://www.huntingtonarts.org/event/clemente-ettrick-in-collaboration-with-trashbata-present-dance-reception-two-artists-focus-the-community-on-environmental-awareness/
LOCATION:Great Neck Library Main Building\, 59 Bayview Ave.\, Great Neck\, NY\, 11023\, United States
CATEGORIES:Exhibitions
GEO:40.7871154;-73.7396874
X-APPLE-STRUCTURED-LOCATION;VALUE=URI;X-ADDRESS=Great Neck Library Main Building 59 Bayview Ave. Great Neck NY 11023 United States;X-APPLE-RADIUS=500;X-TITLE=59 Bayview Ave.:geo:-73.7396874,40.7871154
END:VEVENT
BEGIN:VEVENT
DTSTART;VALUE=DATE:20240905
DTEND;VALUE=DATE:20240927
DTSTAMP:20260422T205944
CREATED:20240122T150754Z
LAST-MODIFIED:20240220T222016Z
UID:10010144-1725494400-1727395199@www.huntingtonarts.org
SUMMARY:Clemente Ettrick Presents TrashBata Art Collection: Month-long Exhibition Draws Public’s Awareness to Care for the Environment
DESCRIPTION:Clemente Ettrick is pleased to introduce Long Island’s North Shore to his latest collection of oil and pastel paintings which are based on a collaboration with New York City choreographer Bárbara Martínez and TrashBata\, her flamenco-style dance designed to increase the public’s awareness about plastic pollution. Clemente’s TrashBata collection will be exhibited alongside his Pasión: Spanish Dance collection. These extensive collections of artwork will be on display at Great Neck’s main library throughout the month of April. Full-sized giclée reproductions of the paintings will be available for order.
URL:https://www.huntingtonarts.org/event/clemente-ettrick-presents-trashbata-art-collection-month-long-exhibition-draws-publics-awareness-to-care-for-the-environment/
LOCATION:Great Neck Library Main Building\, 59 Bayview Ave.\, Great Neck\, NY\, 11023\, United States
CATEGORIES:Exhibitions
ATTACH;FMTTYPE=image/jpeg:https://www.huntingtonarts.org/wp-content/uploads/2024/01/Clemente-Ettrick-ECHOES-OF-LIGHT.jpg
GEO:40.7871154;-73.7396874
X-APPLE-STRUCTURED-LOCATION;VALUE=URI;X-ADDRESS=Great Neck Library Main Building 59 Bayview Ave. Great Neck NY 11023 United States;X-APPLE-RADIUS=500;X-TITLE=59 Bayview Ave.:geo:-73.7396874,40.7871154
END:VEVENT
END:VCALENDAR