BEGIN:VCALENDAR
VERSION:2.0
PRODID:-//Huntington Arts Council - ECPv6.15.20//NONSGML v1.0//EN
CALSCALE:GREGORIAN
METHOD:PUBLISH
X-ORIGINAL-URL:https://www.huntingtonarts.org
X-WR-CALDESC:Events for Huntington Arts Council
REFRESH-INTERVAL;VALUE=DURATION:PT1H
X-Robots-Tag:noindex
X-PUBLISHED-TTL:PT1H
BEGIN:VTIMEZONE
TZID:America/New_York
BEGIN:DAYLIGHT
TZOFFSETFROM:-0500
TZOFFSETTO:-0400
TZNAME:EDT
DTSTART:20210314T070000
END:DAYLIGHT
BEGIN:STANDARD
TZOFFSETFROM:-0400
TZOFFSETTO:-0500
TZNAME:EST
DTSTART:20211107T060000
END:STANDARD
BEGIN:DAYLIGHT
TZOFFSETFROM:-0500
TZOFFSETTO:-0400
TZNAME:EDT
DTSTART:20220313T070000
END:DAYLIGHT
BEGIN:STANDARD
TZOFFSETFROM:-0400
TZOFFSETTO:-0500
TZNAME:EST
DTSTART:20221106T060000
END:STANDARD
BEGIN:DAYLIGHT
TZOFFSETFROM:-0500
TZOFFSETTO:-0400
TZNAME:EDT
DTSTART:20230312T070000
END:DAYLIGHT
BEGIN:STANDARD
TZOFFSETFROM:-0400
TZOFFSETTO:-0500
TZNAME:EST
DTSTART:20231105T060000
END:STANDARD
END:VTIMEZONE
BEGIN:VEVENT
DTSTART;TZID=America/New_York:20221221T190000
DTEND;TZID=America/New_York:20221221T220000
DTSTAMP:20260422T150254
CREATED:20220823T151241Z
LAST-MODIFIED:20220823T151241Z
UID:10004817-1671649200-1671660000@www.huntingtonarts.org
SUMMARY:Folk Music Society of Huntington presents Hard Luck Cafe
DESCRIPTION:Monthly concert series co-presented by the Folk Music Society of Huntington and the Cinema Arts Centre in the Cinema’s Sky Room on the third Wednesday of each month. Featured artist/artists (tba) preceded by an open mic.
URL:https://www.huntingtonarts.org/event/folk-music-society-of-huntington-presents-hard-luck-cafe-4/
LOCATION:United States
CATEGORIES:Music
ORGANIZER;CN="Folk Music Society of Huntington":MAILTO:info@fmsh.org
END:VEVENT
END:VCALENDAR