BEGIN:VCALENDAR
VERSION:2.0
PRODID:-//Huntington Arts Council - ECPv6.15.20//NONSGML v1.0//EN
CALSCALE:GREGORIAN
METHOD:PUBLISH
X-WR-CALNAME:Huntington Arts Council
X-ORIGINAL-URL:https://www.huntingtonarts.org
X-WR-CALDESC:Events for Huntington Arts Council
REFRESH-INTERVAL;VALUE=DURATION:PT1H
X-Robots-Tag:noindex
X-PUBLISHED-TTL:PT1H
BEGIN:VTIMEZONE
TZID:America/New_York
BEGIN:DAYLIGHT
TZOFFSETFROM:-0500
TZOFFSETTO:-0400
TZNAME:EDT
DTSTART:20210314T070000
END:DAYLIGHT
BEGIN:STANDARD
TZOFFSETFROM:-0400
TZOFFSETTO:-0500
TZNAME:EST
DTSTART:20211107T060000
END:STANDARD
BEGIN:DAYLIGHT
TZOFFSETFROM:-0500
TZOFFSETTO:-0400
TZNAME:EDT
DTSTART:20220313T070000
END:DAYLIGHT
BEGIN:STANDARD
TZOFFSETFROM:-0400
TZOFFSETTO:-0500
TZNAME:EST
DTSTART:20221106T060000
END:STANDARD
BEGIN:DAYLIGHT
TZOFFSETFROM:-0500
TZOFFSETTO:-0400
TZNAME:EDT
DTSTART:20230312T070000
END:DAYLIGHT
BEGIN:STANDARD
TZOFFSETFROM:-0400
TZOFFSETTO:-0500
TZNAME:EST
DTSTART:20231105T060000
END:STANDARD
BEGIN:DAYLIGHT
TZOFFSETFROM:-0500
TZOFFSETTO:-0400
TZNAME:EDT
DTSTART:20240310T070000
END:DAYLIGHT
BEGIN:STANDARD
TZOFFSETFROM:-0400
TZOFFSETTO:-0500
TZNAME:EST
DTSTART:20241103T060000
END:STANDARD
END:VTIMEZONE
BEGIN:VEVENT
DTSTART;TZID=America/New_York:20230927T190000
DTEND;TZID=America/New_York:20230927T220000
DTSTAMP:20260422T120616
CREATED:20230413T204127Z
LAST-MODIFIED:20230613T114937Z
UID:10005811-1695841200-1695852000@www.huntingtonarts.org
SUMMARY:Folk Music Society of Huntington and the Cinema Arts Centre Presents NorthShore Original Open Mic (NOOM)
DESCRIPTION:Co-presented by the Folk Music Society of Huntington and the Cinema Arts Centre in the Cinema’s Sky Room\, the all-originals open mic runs from 7-10 p.m.\, with a featured artist performing a 30-minute set beginning around 8:15/8:30 p.m. Sign-up starts at 6:30 p.m. Although NOOM is free to attend\, donations will be gratefully accepted. Dave Rowe is this evening’s featured performing songwriter.
URL:https://www.huntingtonarts.org/event/folk-music-society-of-huntington-and-the-cinema-arts-centre-presents-northshore-original-open-mic-noom/
LOCATION:Cinema Arts Centre\,  423 Park Ave.\, Huntington\, NY\, 11743\, United States
CATEGORIES:Music
ORGANIZER;CN="Folk Music Society of Huntington":MAILTO:info@fmsh.org
GEO:40.8742058;-73.4132585
X-APPLE-STRUCTURED-LOCATION;VALUE=URI;X-ADDRESS=Cinema Arts Centre  423 Park Ave. Huntington NY 11743 United States;X-APPLE-RADIUS=500;X-TITLE=423 Park Ave.:geo:-73.4132585,40.8742058
END:VEVENT
BEGIN:VEVENT
DTSTART;TZID=America/New_York:20230621T190000
DTEND;TZID=America/New_York:20230621T220000
DTSTAMP:20260422T120616
CREATED:20230412T141137Z
LAST-MODIFIED:20230613T115605Z
UID:10005907-1687374000-1687384800@www.huntingtonarts.org
SUMMARY:Cinema Arts Centre Presents Hard Luck Cafe Concert Series Features Toby Walker
DESCRIPTION:Acclaimed roots music fingerstyle guitarist Toby Walker\, a past winner of the International Blues Challenge\, will be the featured artist during the monthly Hard Luck Cafe concert series co-presented by the Folk Music Society of Huntington and the Cinema Arts Centre (423 Park Avenue\, Huntington) in the Cinema’s Sky Room on Wednesday\, May 17\, from 7-10 p.m. An open mic precedes the concert. Tickets are $25 ($20 for Cinema Arts Centre/FMSH members) and can be purchased on line at https://cinemaartscentre.org or at the box office now through the evening of the event.
URL:https://www.huntingtonarts.org/event/cinema-arts-centre-presents-hard-luck-cafe-concert-series-features-toby-walker/
LOCATION:Cinema Arts Centre\,  423 Park Ave.\, Huntington\, NY\, 11743\, United States
CATEGORIES:Music
ORGANIZER;CN="Folk Music Society of Huntington":MAILTO:info@fmsh.org
GEO:40.8742058;-73.4132585
X-APPLE-STRUCTURED-LOCATION;VALUE=URI;X-ADDRESS=Cinema Arts Centre  423 Park Ave. Huntington NY 11743 United States;X-APPLE-RADIUS=500;X-TITLE=423 Park Ave.:geo:-73.4132585,40.8742058
END:VEVENT
BEGIN:VEVENT
DTSTART;TZID=America/New_York:20230607T190000
DTEND;TZID=America/New_York:20230607T220000
DTSTAMP:20260422T120616
CREATED:20230413T202733Z
LAST-MODIFIED:20230613T115731Z
UID:10005956-1686164400-1686175200@www.huntingtonarts.org
SUMMARY:Folk Music Society of Huntington & the Cinema Arts Centre Present Northshore Original Open Mic (NOOM)
DESCRIPTION:Co-presented by the Folk Music Society of Huntington and the Cinema Arts Centre in the Cinema’s Sky Room\, the all-originals open mic runs from 7-10 p.m.\, with a featured artist performing a 30-minute set beginning around 8:15/8:30 p.m. Sign-up starts at 6:30 p.m. Although NOOM is free to attend\, donations will be gratefully accepted. Martha Trachtenberg is the featured performing songwriter this evening.
URL:https://www.huntingtonarts.org/event/folk-music-society-of-huntington-the-cinema-arts-centre-present-original-open-mic-noom-6/
LOCATION:United States
CATEGORIES:Music
ORGANIZER;CN="Folk Music Society of Huntington":MAILTO:info@fmsh.org
END:VEVENT
BEGIN:VEVENT
DTSTART;TZID=America/New_York:20221116T190000
DTEND;TZID=America/New_York:20221116T220000
DTSTAMP:20260422T120616
CREATED:20220823T151155Z
LAST-MODIFIED:20220823T151155Z
UID:10004839-1668625200-1668636000@www.huntingtonarts.org
SUMMARY:Folk Music Society of Huntington presents Hard Luck Cafe
DESCRIPTION:Monthly concert series co-presented by the Folk Music Society of Huntington and the Cinema Arts Centre in the Cinema’s Sky Room on the third Wednesday of each month. Featured artist/artists (tba) preceded by an open mic.
URL:https://www.huntingtonarts.org/event/folk-music-society-of-huntington-presents-hard-luck-cafe-3/
LOCATION:Cinema Arts Centre\, 423 Park Avenue\, Huntington\, NY\, 11743\, United States
CATEGORIES:Music
ORGANIZER;CN="Folk Music Society of Huntington":MAILTO:info@fmsh.org
GEO:40.873335;-73.415251
X-APPLE-STRUCTURED-LOCATION;VALUE=URI;X-ADDRESS=Cinema Arts Centre 423 Park Avenue Huntington NY 11743 United States;X-APPLE-RADIUS=500;X-TITLE=423 Park Avenue:geo:-73.415251,40.873335
END:VEVENT
END:VCALENDAR