BEGIN:VCALENDAR
VERSION:2.0
PRODID:-//Huntington Arts Council - ECPv6.15.20//NONSGML v1.0//EN
CALSCALE:GREGORIAN
METHOD:PUBLISH
X-ORIGINAL-URL:https://www.huntingtonarts.org
X-WR-CALDESC:Events for Huntington Arts Council
REFRESH-INTERVAL;VALUE=DURATION:PT1H
X-Robots-Tag:noindex
X-PUBLISHED-TTL:PT1H
BEGIN:VTIMEZONE
TZID:America/New_York
BEGIN:DAYLIGHT
TZOFFSETFROM:-0500
TZOFFSETTO:-0400
TZNAME:EDT
DTSTART:20240310T070000
END:DAYLIGHT
BEGIN:STANDARD
TZOFFSETFROM:-0400
TZOFFSETTO:-0500
TZNAME:EST
DTSTART:20241103T060000
END:STANDARD
BEGIN:DAYLIGHT
TZOFFSETFROM:-0500
TZOFFSETTO:-0400
TZNAME:EDT
DTSTART:20250309T070000
END:DAYLIGHT
BEGIN:STANDARD
TZOFFSETFROM:-0400
TZOFFSETTO:-0500
TZNAME:EST
DTSTART:20251102T060000
END:STANDARD
BEGIN:DAYLIGHT
TZOFFSETFROM:-0500
TZOFFSETTO:-0400
TZNAME:EDT
DTSTART:20260308T070000
END:DAYLIGHT
BEGIN:STANDARD
TZOFFSETFROM:-0400
TZOFFSETTO:-0500
TZNAME:EST
DTSTART:20261101T060000
END:STANDARD
END:VTIMEZONE
BEGIN:VEVENT
DTSTART;TZID=America/New_York:20251005T140000
DTEND;TZID=America/New_York:20251005T153000
DTSTAMP:20260422T045625
CREATED:20250924T181634Z
LAST-MODIFIED:20250924T181936Z
UID:10017011-1759672800-1759678200@www.huntingtonarts.org
SUMMARY:Lifestage\, Inc presents (mostly) TRUE THINGS Storytelling Show
DESCRIPTION:(mostly) TRUE THINGS is a game wrapped in a storytelling show\, featuring true stories told by comedy-wrangling\, heartstrings-pulling storytellers from all walks of life\, who range from experienced award-winning performers to many who are entirely new to the experience of sharing a story onstage.\nThe theme of these stories is SECOND CHANCES and features stories by: \nRita Rigano (Generation Women\, The Story Collider\, TALE)\nAnoush Froundjian (The Moth podcast\, Stories From The Stage)\nWayne Robins (Substack\, former rock music critic for Newsday\, LI Rock Music Hall of Fame)\nWill Clegg (Awkward Teenage Years\, Moth slam winner\, solo writer/performer)\nJean Candiotte (Emmy-nominated Creative Television Executive\, improviser)\nJude Treder-Wolff (host\, The Story Collider\, Generation Women\, RISK! live show and podcast\, Story District)\nThe game is this: all but one of the storytellers include carefully-crafted\, subtle little lies into their story. In Act 2\, the audience gets to question the storytellers – who can improvise their responses – then votes for the person they think told their story with no lies. Some improvised\, story-inspired music and songs written for the show by host/creator Jude Treder-Wolff are additional ingredients for a high-energy\, often hilarious\, emotion-packed and entertaining show. There are prizes involved\, if you can believe a thing like that.
URL:https://www.huntingtonarts.org/event/mostly-true-things-storytelling-show-2/
LOCATION:Bryant Library\, 2 Papermill Rd\, Roslyn\, NY\, 11576\, United States
CATEGORIES:Miscellaneous,Theater
ATTACH;FMTTYPE=image/png:https://www.huntingtonarts.org/wp-content/uploads/2025/09/Oct-5-flyer-from-Library.png
ORGANIZER;CN="Bryant Library":MAILTO:abernocco@bryantlibrary.org
GEO:40.7982499;-73.6466666
X-APPLE-STRUCTURED-LOCATION;VALUE=URI;X-ADDRESS=Bryant Library 2 Papermill Rd Roslyn NY 11576 United States;X-APPLE-RADIUS=500;X-TITLE=2 Papermill Rd:geo:-73.6466666,40.7982499
END:VEVENT
END:VCALENDAR