BEGIN:VCALENDAR
VERSION:2.0
PRODID:-//Huntington Arts Council - ECPv6.15.20//NONSGML v1.0//EN
CALSCALE:GREGORIAN
METHOD:PUBLISH
X-WR-CALNAME:Huntington Arts Council
X-ORIGINAL-URL:https://www.huntingtonarts.org
X-WR-CALDESC:Events for Huntington Arts Council
REFRESH-INTERVAL;VALUE=DURATION:PT1H
X-Robots-Tag:noindex
X-PUBLISHED-TTL:PT1H
BEGIN:VTIMEZONE
TZID:America/New_York
BEGIN:DAYLIGHT
TZOFFSETFROM:-0500
TZOFFSETTO:-0400
TZNAME:EDT
DTSTART:20220313T070000
END:DAYLIGHT
BEGIN:STANDARD
TZOFFSETFROM:-0400
TZOFFSETTO:-0500
TZNAME:EST
DTSTART:20221106T060000
END:STANDARD
BEGIN:DAYLIGHT
TZOFFSETFROM:-0500
TZOFFSETTO:-0400
TZNAME:EDT
DTSTART:20230312T070000
END:DAYLIGHT
BEGIN:STANDARD
TZOFFSETFROM:-0400
TZOFFSETTO:-0500
TZNAME:EST
DTSTART:20231105T060000
END:STANDARD
BEGIN:DAYLIGHT
TZOFFSETFROM:-0500
TZOFFSETTO:-0400
TZNAME:EDT
DTSTART:20240310T070000
END:DAYLIGHT
BEGIN:STANDARD
TZOFFSETFROM:-0400
TZOFFSETTO:-0500
TZNAME:EST
DTSTART:20241103T060000
END:STANDARD
BEGIN:DAYLIGHT
TZOFFSETFROM:-0500
TZOFFSETTO:-0400
TZNAME:EDT
DTSTART:20250309T070000
END:DAYLIGHT
BEGIN:STANDARD
TZOFFSETFROM:-0400
TZOFFSETTO:-0500
TZNAME:EST
DTSTART:20251102T060000
END:STANDARD
END:VTIMEZONE
BEGIN:VEVENT
DTSTART;TZID=America/New_York:20240222T183000
DTEND;TZID=America/New_York:20240222T203000
DTSTAMP:20260422T224728
CREATED:20240129T132911Z
LAST-MODIFIED:20240129T132911Z
UID:10010204-1708626600-1708633800@www.huntingtonarts.org
SUMMARY:BAFFA Presents Snowflake Suncatchers Workshop
DESCRIPTION:The BAFFA Art Gallery invites to join Jeanette Leonard\, of Blue Harbor Jewelry\, at a Snowflake Suncatcher Workshop at the Gallery on February 22\, from 6:30 to 8:30 PM. Learn how to create a beautiful\, beaded Snowflake Suncatcher. Take home your completed suncatcher at the end of the evening. The cost for the workshop is $25.00 for BAFFA members and $30.00 for non-members. Pre-registration and payment are required. Register at https://givebutter.com/baffasnowflake. The BAFFA Art Gallery is located in the Gillette House at 47 Gillette Avenue in Sayville. \nFor further information: (631)589-7343 or www.baffa.org.
URL:https://www.huntingtonarts.org/event/baffa-presents-snowflake-suncatchers-workshop/
LOCATION:BAFFA Gallery\, 47 Gillette Avenue\, Sayville\, NY\, 11782\, United States
CATEGORIES:Workshop Classes
ATTACH;FMTTYPE=image/jpeg:https://www.huntingtonarts.org/wp-content/uploads/2024/01/Snowflake-Suncatcher.jpg
ORGANIZER;CN="Bay Area Friends of the Fine Arts (BAFFA)":MAILTO:baffaoffice@gmail.com
GEO:40.7343766;-73.0814701
X-APPLE-STRUCTURED-LOCATION;VALUE=URI;X-ADDRESS=BAFFA Gallery 47 Gillette Avenue Sayville NY 11782 United States;X-APPLE-RADIUS=500;X-TITLE=47 Gillette Avenue:geo:-73.0814701,40.7343766
END:VEVENT
BEGIN:VEVENT
DTSTART;TZID=America/New_York:20240113T180000
DTEND;TZID=America/New_York:20240129T150000
DTSTAMP:20260422T224729
CREATED:20231220T211226Z
LAST-MODIFIED:20231220T211226Z
UID:10008404-1705168800-1706540400@www.huntingtonarts.org
SUMMARY:BAFFA Presents Hartman Studio 44 Retrospective
DESCRIPTION:Hartman Studio 44 Retrospective will be on view at The BAFFA Art Gallery on January 13\, 14\, 20\, and 21 with an opening reception on Friday\, January 16 from 6 to 9 PM.\nThe show is a collaboration of two artists’ individual works; a combination of wood and metal tables and watercolors by Scott Hartman\, and wall fiber art and acrylics by Linda Harman.\nThe BAFFA Art Gallery is in the Gillette House at 47 Gillette Avenue in Sayville. Exhibit hours are 1 to 4 PM on both weekends. For further information: (631)589-7343\, www.baffa.org\, or on Facebook BAFFAofLI.
URL:https://www.huntingtonarts.org/event/baffa-presents-hartman-studio-44-retrospective/2024-01-13/2/
LOCATION:BAFFA Gallery\, 47 Gillette Avenue\, Sayville\, NY\, 11782\, United States
CATEGORIES:Exhibitions
ATTACH;FMTTYPE=image/png:https://www.huntingtonarts.org/wp-content/uploads/2023/12/Hartman-Studio-44-Retrospective-January-2023.png
ORGANIZER;CN="Bay Area Friends of the Fine Arts (BAFFA)":MAILTO:baffaoffice@gmail.com
GEO:40.7343766;-73.0814701
X-APPLE-STRUCTURED-LOCATION;VALUE=URI;X-ADDRESS=BAFFA Gallery 47 Gillette Avenue Sayville NY 11782 United States;X-APPLE-RADIUS=500;X-TITLE=47 Gillette Avenue:geo:-73.0814701,40.7343766
END:VEVENT
BEGIN:VEVENT
DTSTART;TZID=America/New_York:20231216T120000
DTEND;TZID=America/New_York:20231217T160000
DTSTAMP:20260422T224729
CREATED:20231206T174138Z
LAST-MODIFIED:20231206T174138Z
UID:10008397-1702728000-1702828800@www.huntingtonarts.org
SUMMARY:Bay Area Friends of the Fine Arts (BAFFA) Presents Holiday Pop-Up Artisan Show
DESCRIPTION:The Bay Area Friends of the Fine Arts (BAFFA) invites you to its first-ever Holiday Pop-Up Artisan Show on Saturday and Sunday\, December 16th and 17th from noon to 4:00 PM. The Pop-Up Show features artwork by local artisans that sells for $100.00 or less. Also featured will be BAFFA’s Victorian Carolers and a sing-a-long\, and a live reading of Silver Packages\, a Christmas story\, on Saturday afternoon. Sunday afternoon will feature holiday favorites by pianist\, Maurice Kemp\, and a live reading of Snowmen at Night. Children are invited to color a coloring book page\, created by local artists\, that will be displayed in the BAFFA Art Gallery. There will be a raffle to win two free tickets to any Main Stage performance at the CM Performing Arts Center.\nThe show will be held at the BAFFA Art Gallery in the Gillette House at 47 Gillette Avenue in Sayville. For more information: (631)589-7343\, www.baffa.org\, or our Facebook page: BAFFAofLI.
URL:https://www.huntingtonarts.org/event/bay-area-friends-of-the-fine-arts-baffa-presents-holiday-pop-up-artisan-show/
LOCATION:Gillette House\, 47 Gillette Avenue\, Sayville\, NY\, 11782\, United States
CATEGORIES:Exhibitions
ATTACH;FMTTYPE=image/jpeg:https://www.huntingtonarts.org/wp-content/uploads/2023/12/Holiday-Pop-Up-Artisan-Show-2.jpg
ORGANIZER;CN="Bay Area Friends of the Fine Arts (BAFFA)":MAILTO:baffaoffice@gmail.com
END:VEVENT
BEGIN:VEVENT
DTSTART;TZID=America/New_York:20231210T120000
DTEND;TZID=America/New_York:20231210T160000
DTSTAMP:20260422T224729
CREATED:20231206T173410Z
LAST-MODIFIED:20231206T173410Z
UID:10006525-1702209600-1702224000@www.huntingtonarts.org
SUMMARY:Bay Area Friends of the Fine Arts (BAFFA) Presents Paint and Colors of Long Island
DESCRIPTION:PALS Plein Air Limner Society presents Paint and Colors of Long Island\, their 14 Annual Art Exhibit\, at the BAFFA Art Gallery on December 9 and 10. The exhibit features paintings from local artists who have created their works in Plein Air\, outdoors\, on the spot\, featuring the amazing beauty of Long Island. The exhibit can be viewed on both days from noon to 4 PM. The BAFFA Art Gallery is located in the Gillette House at 47 Gillette Avenue in Sayville. For further information about the exhibit\, (631)589-7343\, www.baffa.org\, on Facebook at BAFFAofLI.
URL:https://www.huntingtonarts.org/event/bay-area-friends-of-the-fine-arts-baffa-presents-paint-and-colors-of-long-island/2023-12-10/
LOCATION:BAFFA Gallery\, 47 Gillette Avenue\, Sayville\, NY\, 11782\, United States
CATEGORIES:Exhibitions
ATTACH;FMTTYPE=image/jpeg:https://www.huntingtonarts.org/wp-content/uploads/2023/11/PALS-FLYER.jpg
ORGANIZER;CN="Bay Area Friends of the Fine Arts (BAFFA)":MAILTO:baffaoffice@gmail.com
GEO:40.7343766;-73.0814701
X-APPLE-STRUCTURED-LOCATION;VALUE=URI;X-ADDRESS=BAFFA Gallery 47 Gillette Avenue Sayville NY 11782 United States;X-APPLE-RADIUS=500;X-TITLE=47 Gillette Avenue:geo:-73.0814701,40.7343766
END:VEVENT
BEGIN:VEVENT
DTSTART;TZID=America/New_York:20231209T140000
DTEND;TZID=America/New_York:20231209T163000
DTSTAMP:20260422T224729
CREATED:20231206T173506Z
LAST-MODIFIED:20231206T173506Z
UID:10006526-1702130400-1702139400@www.huntingtonarts.org
SUMMARY:Bay Area Friends of the Fine Arts (BAFFA) Presents Classically Czech-ing Out the Winter Season
DESCRIPTION:The Bay Area Symphony Orchestra of BAFFA under the direction of Bradley S. Hartman\, presents its first concert of the season at the Sayville Middle School on Saturday\, December 9\, at 2 PM. “Classically Czech-ing Out the Winter Season” features the music of Mozart\, Dvorak\, Anderson\, and Tchaikovsky. The concert is open to the public and free but a small donation is welcome. The Sayville Middle School is located at 291 Johnson Avenue in Sayville. For further information: (631)589-7343\, www.baffa.org\, or on Facebook at BAFFAofLI.
URL:https://www.huntingtonarts.org/event/bay-area-friends-of-the-fine-arts-baffa-presents-classically-czech-ing-out-the-winter-season/
LOCATION:Sayville Middle School\, 291 Johnson Avenue\, Sayville\, New York\, NY\, 11782\, United States
CATEGORIES:Music
ATTACH;FMTTYPE=image/jpeg:https://www.huntingtonarts.org/wp-content/uploads/2023/11/47ADE3E7-85EF-43C3-A1C7-3AB4C96E8F3B-1.jpg
ORGANIZER;CN="Bay Area Friends of the Fine Arts (BAFFA)":MAILTO:baffaoffice@gmail.com
GEO:40.7593021;-73.0887284
X-APPLE-STRUCTURED-LOCATION;VALUE=URI;X-ADDRESS=Sayville Middle School 291 Johnson Avenue Sayville New York NY 11782 United States;X-APPLE-RADIUS=500;X-TITLE=291 Johnson Avenue:geo:-73.0887284,40.7593021
END:VEVENT
BEGIN:VEVENT
DTSTART;TZID=America/New_York:20231203T160000
DTEND;TZID=America/New_York:20231203T170000
DTSTAMP:20260422T224729
CREATED:20231206T173342Z
LAST-MODIFIED:20231206T173342Z
UID:10006523-1701619200-1701622800@www.huntingtonarts.org
SUMMARY:Bay Area Friends of the Fine Arts (BAFFA) Presents "Tis the Season
DESCRIPTION:The Bay Area Chorus of BAFFA presents ‘Tis the Season featuring music of the holidays plus an audience sing-a-long on December 3rd at Patchogue United Methodist Church. The concert features The Pergoles Magnificat plus seasonal carols and songs for the holidays. The concert will begin at 4:00 PM and is free though a small donation is requested. Patchogue United Methodist Church is located at 10 Church Street in Patchogue. For further information: 631-589-7343\, www.baffa.org\, or on Facebook at BAFFAofLI.
URL:https://www.huntingtonarts.org/event/bay-area-friends-of-the-fine-arts-baffa-presents-tis-the-season/
LOCATION:Patchogue United Methodist Church\, 10 Church Street\, Patchogue\, New York\, NY\, 11772\, United States
CATEGORIES:Music
ATTACH;FMTTYPE=image/png:https://www.huntingtonarts.org/wp-content/uploads/2023/11/ChorusConcertDec23Square-1.png
ORGANIZER;CN="Bay Area Friends of the Fine Arts (BAFFA)":MAILTO:baffaoffice@gmail.com
GEO:40.764119;-73.014971
X-APPLE-STRUCTURED-LOCATION;VALUE=URI;X-ADDRESS=Patchogue United Methodist Church 10 Church Street Patchogue New York NY 11772 United States;X-APPLE-RADIUS=500;X-TITLE=10 Church Street:geo:-73.014971,40.764119
END:VEVENT
BEGIN:VEVENT
DTSTART;TZID=America/New_York:20231126T130000
DTEND;TZID=America/New_York:20231218T170000
DTSTAMP:20260422T224729
CREATED:20231107T161906Z
LAST-MODIFIED:20231107T161906Z
UID:10006510-1701003600-1702918800@www.huntingtonarts.org
SUMMARY:Bay Area Friends of the Fine Arts Presents Gatherings
DESCRIPTION:Please join us at the BAFFA Art Gallery as the Bell Street Artists return to the gallery with their newest exhibit. Gatherings is a mixed-media exhibit by this talented group of nine artists.\nBell Street\, formed in 1979 in Bellport\, meets monthly to socialize and share their latest projects. The group also encourages young artists by providing scholarships for graduating seniors who plan to pursue art studies in college.\nArtists exhibiting this year are Pat Ballan\, Anne Baum\, Bernice Corbin\, Nancy Maia\, Peter Montemuro\, Doris Rueger\, Nancy Ruth Cronin\, Will Ryder\, and John Young.\nGatherings can be viewed at the Gallery on weekends November 4 through November 26\, from 1-4 PM. There will be an artists’ reception on Sunday\, November 5\, from 1 to 4 PM.\nThe BAFFA Art Gallery is located in the Gillette House\, 47 Gillette Avenue in Sayville. For further information: (631)589-7343\, www.baffa.org\, facebook.com/BAFFAOFLI.
URL:https://www.huntingtonarts.org/event/bay-area-friends-of-the-fine-arts-presents-gatherings/2023-11-26/
LOCATION:BAFFA Gallery\, 47 Gillette Avenue\, Sayville\, NY\, 11782\, United States
CATEGORIES:Exhibitions
ATTACH;FMTTYPE=image/png:https://www.huntingtonarts.org/wp-content/uploads/2023/10/BSA-November-2023-BAFFA-Flyer.png
ORGANIZER;CN="Bay Area Friends of the Fine Arts (BAFFA)":MAILTO:baffaoffice@gmail.com
GEO:40.7343766;-73.0814701
X-APPLE-STRUCTURED-LOCATION;VALUE=URI;X-ADDRESS=BAFFA Gallery 47 Gillette Avenue Sayville NY 11782 United States;X-APPLE-RADIUS=500;X-TITLE=47 Gillette Avenue:geo:-73.0814701,40.7343766
END:VEVENT
BEGIN:VEVENT
DTSTART;TZID=America/New_York:20231021T130000
DTEND;TZID=America/New_York:20231022T160000
DTSTAMP:20260422T224729
CREATED:20231107T155122Z
LAST-MODIFIED:20231107T155122Z
UID:10006497-1697893200-1697990400@www.huntingtonarts.org
SUMMARY:Bay Area Friends of the Fine Arts Presents The Image of a Loved One
DESCRIPTION:Bay Area Friends of the Fine Arts (BAFFA)\n47 Gillette Avenue\nSayville\, New York 11782\nOctober 5\, 2023 \nFOR IMMEDIATE RELEASE\nThe Image of a Loved One: an exhibition of portraits\, landscapes\, and still life\, is the featured exhibit at the BAFFA Art Gallery in Sayville on October 21 and 22. The artist\, Catherine Rezin\, after a career as a textile designer\, turned to painting landscapes and portraits after retirement. She especially loves painting “portraits commissioned by families to memorialize moments in time or lost loved ones. Her desire is to give back to those brave and dedicated people who serve us in so many ways…”. Raffle tickets will be sold at the exhibition to win a portrait of your loved one who lives or gave their life in service (military\, law enforcement\, healthcare\, etc.) Proceeds of the raffle will be donated to BAFFA. Exhibit hours are 1 to 4 PM on October 21 and 22. An artist’s reception will be held on the 21st from 1-4 PM. The exhibit is free and open to the public. A small donation to the Gallery is requested.\nThe BAFFA Art Gallery is located in the Gillette House at 47 Gillette Avenue in Sayville. For additional information: (631)589-7343\, www.baffa.org\, or https://www.facebook.com/baffalongisland.
URL:https://www.huntingtonarts.org/event/bay-area-friends-of-the-fine-arts-presents-the-image-of-a-loved-one/
LOCATION:BAFFA Gallery\, 47 Gillette Avenue\, Sayville\, NY\, 11782\, United States
CATEGORIES:Exhibitions
ATTACH;FMTTYPE=image/png:https://www.huntingtonarts.org/wp-content/uploads/2023/10/CatherineRezinPoster.png
ORGANIZER;CN="Bay Area Friends of the Fine Arts (BAFFA)":MAILTO:baffaoffice@gmail.com
GEO:40.7343766;-73.0814701
X-APPLE-STRUCTURED-LOCATION;VALUE=URI;X-ADDRESS=BAFFA Gallery 47 Gillette Avenue Sayville NY 11782 United States;X-APPLE-RADIUS=500;X-TITLE=47 Gillette Avenue:geo:-73.0814701,40.7343766
END:VEVENT
BEGIN:VEVENT
DTSTART;TZID=America/New_York:20231007T130000
DTEND;TZID=America/New_York:20231015T150000
DTSTAMP:20260422T224729
CREATED:20231002T140506Z
LAST-MODIFIED:20231002T140506Z
UID:10006496-1696683600-1697382000@www.huntingtonarts.org
SUMMARY:BAFFA Gallery Presents Lost Memories
DESCRIPTION:Lost Memories\, drawings\, paintings\, and mixed-media sculptures by James Schultz\, will be the featured exhibit at the BAFFA Gallery in early October. The artist finds “his greatest inspiration in the endless variety of myths and legends throughout the course of human history.” The Blue Point artist and art teacher says he “often places heroes\, gods\, and monsters in environments far from their origins.”
URL:https://www.huntingtonarts.org/event/baffa-gallery-presents-lost-memories/
LOCATION:BAFFA Gallery\, 47 Gillette Avenue\, Sayville\, NY\, 11782\, United States
CATEGORIES:Exhibitions
ATTACH;FMTTYPE=image/png:https://www.huntingtonarts.org/wp-content/uploads/2023/09/Lost-Memories.png
ORGANIZER;CN="Bay Area Friends of the Fine Arts (BAFFA)":MAILTO:baffaoffice@gmail.com
GEO:40.7343766;-73.0814701
X-APPLE-STRUCTURED-LOCATION;VALUE=URI;X-ADDRESS=BAFFA Gallery 47 Gillette Avenue Sayville NY 11782 United States;X-APPLE-RADIUS=500;X-TITLE=47 Gillette Avenue:geo:-73.0814701,40.7343766
END:VEVENT
END:VCALENDAR