BEGIN:VCALENDAR
VERSION:2.0
PRODID:-//Huntington Arts Council - ECPv6.15.20//NONSGML v1.0//EN
CALSCALE:GREGORIAN
METHOD:PUBLISH
X-WR-CALNAME:Huntington Arts Council
X-ORIGINAL-URL:https://www.huntingtonarts.org
X-WR-CALDESC:Events for Huntington Arts Council
REFRESH-INTERVAL;VALUE=DURATION:PT1H
X-Robots-Tag:noindex
X-PUBLISHED-TTL:PT1H
BEGIN:VTIMEZONE
TZID:America/New_York
BEGIN:DAYLIGHT
TZOFFSETFROM:-0500
TZOFFSETTO:-0400
TZNAME:EDT
DTSTART:20210314T070000
END:DAYLIGHT
BEGIN:STANDARD
TZOFFSETFROM:-0400
TZOFFSETTO:-0500
TZNAME:EST
DTSTART:20211107T060000
END:STANDARD
BEGIN:DAYLIGHT
TZOFFSETFROM:-0500
TZOFFSETTO:-0400
TZNAME:EDT
DTSTART:20220313T070000
END:DAYLIGHT
BEGIN:STANDARD
TZOFFSETFROM:-0400
TZOFFSETTO:-0500
TZNAME:EST
DTSTART:20221106T060000
END:STANDARD
BEGIN:DAYLIGHT
TZOFFSETFROM:-0500
TZOFFSETTO:-0400
TZNAME:EDT
DTSTART:20230312T070000
END:DAYLIGHT
BEGIN:STANDARD
TZOFFSETFROM:-0400
TZOFFSETTO:-0500
TZNAME:EST
DTSTART:20231105T060000
END:STANDARD
END:VTIMEZONE
BEGIN:VEVENT
DTSTART;TZID=America/New_York:20221110T190000
DTEND;TZID=America/New_York:20221110T200000
DTSTAMP:20260421T234131
CREATED:20220926T151343Z
LAST-MODIFIED:20220926T151343Z
UID:10004844-1668106800-1668110400@www.huntingtonarts.org
SUMMARY:Art League of Long Island Presents Artist Couples: An Art Talk with Debbie Wells of Artful Circle
DESCRIPTION:In the Jeanie Tengelsen Gallery\nThursday\, Nov 10 | 7:00PM – 8:00PM\nAdmission is free\, register in advance to reserve your seat! \nLet Debbie Wells of Artful Circle (www.artfulcircle.com) bring the fascinating personal relationships of artists (both famous and less well-known) to life. \nWhat attracts artists to each other…is it love\, sex\, secrets\, similarities in cultural background or artistic styles? Does one serve as muse to the other? Do they support each other equally or is there an imbalance? Does money and fame drive the relationship? In this presentation\, we will cover husband and wife artist couples with mainstream values to those marriages that preferred a more bohemian lifestyle. There are also artist teams of parent/child\, siblings\, mentor/student and unconventional friendship. \nNo matter the relationship\, these artists are permanently intertwined in their place in art history making their private lives as intriguing as the art they created. \nDebbie Wells is a museum curator\, photographer\, graphic artist\, and Past President of the Art League of Long Island. Wells is a graduate of Parsons School of Design and active Artist Member of the historic Salmagundi Club in New York City. She is the co-founder of Artful Circle\, which provides educational artful virtual and in-person lectures and activities. Join the Artful Circle mailing list at www.artfulcircle.com and learn about Artful Circle programs and receive a free daily Fun Art Fact of the Day e-newsletter.
URL:https://www.huntingtonarts.org/event/art-league-of-long-island-presents-artist-couples-an-art-talk-with-debbie-wells-of-artful-circle/
LOCATION:Art League of Long Island\, 107 East Deer Park Road\, Dix Hills\, NY\, 11746\, United States
CATEGORIES:Lectures
ATTACH;FMTTYPE=image/jpeg:https://www.huntingtonarts.org/wp-content/uploads/2022/09/Artist-Couples-Image-Collage.jpg
END:VEVENT
END:VCALENDAR