BEGIN:VCALENDAR
VERSION:2.0
PRODID:-//Huntington Arts Council - ECPv6.15.20//NONSGML v1.0//EN
CALSCALE:GREGORIAN
METHOD:PUBLISH
X-ORIGINAL-URL:https://www.huntingtonarts.org
X-WR-CALDESC:Events for Huntington Arts Council
REFRESH-INTERVAL;VALUE=DURATION:PT1H
X-Robots-Tag:noindex
X-PUBLISHED-TTL:PT1H
BEGIN:VTIMEZONE
TZID:America/New_York
BEGIN:DAYLIGHT
TZOFFSETFROM:-0500
TZOFFSETTO:-0400
TZNAME:EDT
DTSTART:20250309T070000
END:DAYLIGHT
BEGIN:STANDARD
TZOFFSETFROM:-0400
TZOFFSETTO:-0500
TZNAME:EST
DTSTART:20251102T060000
END:STANDARD
BEGIN:DAYLIGHT
TZOFFSETFROM:-0500
TZOFFSETTO:-0400
TZNAME:EDT
DTSTART:20260308T070000
END:DAYLIGHT
BEGIN:STANDARD
TZOFFSETFROM:-0400
TZOFFSETTO:-0500
TZNAME:EST
DTSTART:20261101T060000
END:STANDARD
BEGIN:DAYLIGHT
TZOFFSETFROM:-0500
TZOFFSETTO:-0400
TZNAME:EDT
DTSTART:20270314T070000
END:DAYLIGHT
BEGIN:STANDARD
TZOFFSETFROM:-0400
TZOFFSETTO:-0500
TZNAME:EST
DTSTART:20271107T060000
END:STANDARD
END:VTIMEZONE
BEGIN:VEVENT
DTSTART;TZID=America/New_York:20260421T110000
DTEND;TZID=America/New_York:20260421T133000
DTSTAMP:20260421T121251
CREATED:20260107T150332Z
LAST-MODIFIED:20260107T150332Z
UID:10018963-1776769200-1776778200@www.huntingtonarts.org
SUMMARY:Jan Guarino presents Fearless watercolors On-Line Zoom Classes
DESCRIPTION:Have you always loved to paint but were afraid to try watercolors? Or tried watercolors and wasn’t successful? Well get ready to learn techniques that will allow you to feel free while holding onto detail\, gain control\, make corrections and have fun. AND we’ll be getting ready to paint scenes for our holiday cards too! \nIn these classes you will learn: 1) to use color wheel and avoid muddy paintings: 2) how to let watercolor paint do the work for you: 3) how to bridge the palette and why its so important; 4) to integrate your own style and creativity; 5) utilize the right colors to achieve movement & granulation; 6) to trust your instincts and allow blossoms\, drips and splatters to work for you … and the proper order in which to do it all. \nYou will receive my reference photo\, my contour drawing\, a live critique\, a recording of the class and my final painting to help you along. This is an interactive class\, not a webinar. You are able to ask questions and interact with me ~ it’s as close as we can get without being together.
URL:https://www.huntingtonarts.org/event/jan-guarino-presents-fearless-watercolors-on-line-zoom-classes/2026-04-21/
LOCATION:Zoom
CATEGORIES:Workshop Classes
ATTACH;FMTTYPE=image/jpeg:https://www.huntingtonarts.org/wp-content/uploads/2026/01/The-View-wm.jpg
ORGANIZER;CN="Jan Guarino":MAILTO:jan@janguarinofineart.com
END:VEVENT
BEGIN:VEVENT
DTSTART;TZID=America/New_York:20260421T130000
DTEND;TZID=America/New_York:20260421T150000
DTSTAMP:20260421T121251
CREATED:20240119T204145Z
LAST-MODIFIED:20240119T204145Z
UID:10008527-1776776400-1776783600@www.huntingtonarts.org
SUMMARY:Fearless Watercolor On-Line Zoom Classes with Jan Guarino
DESCRIPTION:Each week meet me on Zoom for a 2+hr comprehensive class to learn how we paint landscapes\, lighthouses\, animals\, still lifes and florals in watercolors. Learn new techniques and build skills that allow you to enjoy the freedom of watercolors while adding details\, gain control and have fun with beautiful medium. You will receive the photo reference and a contour drawing before the class\, complete instruction and a critique in the class and the recording with my painting after the class.
URL:https://www.huntingtonarts.org/event/fearless-watercolor-on-line-zoom-classes-with-jan-guarino-2/2026-04-21/
LOCATION:Zoom
CATEGORIES:Workshop Classes
ATTACH;FMTTYPE=image/jpeg:https://www.huntingtonarts.org/wp-content/uploads/2023/12/Looking-at-Jupiter-wm.jpg
ORGANIZER;CN="Jan Guarino":MAILTO:jan@janguarinofineart.com
END:VEVENT
BEGIN:VEVENT
DTSTART;TZID=America/New_York:20260421T183000
DTEND;TZID=America/New_York:20260421T200000
DTSTAMP:20260421T121251
CREATED:20251010T151121Z
LAST-MODIFIED:20251010T151121Z
UID:10017127-1776796200-1776801600@www.huntingtonarts.org
SUMMARY:4-Day Workshop: Enhance Your Understanding of Music Theory
DESCRIPTION:4-Day Workshop- offered online or on-site\nRegardless of the option you chose\, the 4-day workshop is designed to enhance your understanding of music theory\, to fill in the gaps\, and provide enlightening “aha” moments\, leading to a deeper connection with how music works. Furthermore\, this course aims to maximize your investment of time\, money\, and effort while cultivating the skills and understanding needed for improvisation and composition. \nThe workshop consists of 4 sessions\, each lasting approximately 1.5 hours. During these sessions\, I will guide you through the material and demonstrate key concepts. \nWorkshop Includes- \nFull access to the Online Video 4-Day Workshop. This will allow you to review the material before and after the workshop\nAlso Includes 3 Bonus eBooks- ($90 Value) \nHistory of Music Genres\nHistory of Note Names\nHistory of Music Notation\nThe First Session will take place on Thursday\, November 6\, at 6:30 p.m. Following that\, each following session will be offered on Tuesdays and Thursdays at 6:30 p.m.\, allowing you to choose the day and time that works best for you. \nSpace is limited\, so join today at- \nhttps://www.beforeyoulearn.com/musictheory \nand schedule your sessions using our online calendar once you’ve determined which days’ work best for you. \nThe cost is $220. \nWe are looking forward to seeing you there!
URL:https://www.huntingtonarts.org/event/4-day-workshop-enhance-your-understanding-of-music-theory/2026-04-21/
LOCATION:Please CHOOSE or add your venue!\, NY\, United States
CATEGORIES:Lectures,Miscellaneous,Music,Workshop Classes
ATTACH;FMTTYPE=image/png:https://www.huntingtonarts.org/wp-content/uploads/2025/10/camille.png
GEO:40.7127837;-74.0059413
END:VEVENT
BEGIN:VEVENT
DTSTART;TZID=America/New_York:20260421T190000
DTEND;TZID=America/New_York:20260421T210000
DTSTAMP:20260421T121251
CREATED:20250827T001021Z
LAST-MODIFIED:20250827T001021Z
UID:10015848-1776798000-1776805200@www.huntingtonarts.org
SUMMARY:Helen Murdock-Prep presents Adult Acting Classes
DESCRIPTION:Come join theater educator Helen Murdock-Prep to learn about the wonderful world of Acting! Theater Games\, Improv\, Monologues and Scene Study. Tuesday’s @7pm at the Huntington Arts Council.\nAdults 18 and older.\nTo register\, call: 631-885-4635
URL:https://www.huntingtonarts.org/event/helen-murdock-prep-presents-adult-acting-classes/2026-04-21/
LOCATION:Huntington Arts Council\, 213 Main Street\, Huntington\, NY\, 11743\, United States
ATTACH;FMTTYPE=image/jpeg:https://www.huntingtonarts.org/wp-content/uploads/2025/08/IMG_8320-3-scaled.jpeg
GEO:40.8721784;-73.4243051
X-APPLE-STRUCTURED-LOCATION;VALUE=URI;X-ADDRESS=Huntington Arts Council 213 Main Street Huntington NY 11743 United States;X-APPLE-RADIUS=500;X-TITLE=213 Main Street:geo:-73.4243051,40.8721784
END:VEVENT
BEGIN:VEVENT
DTSTART;TZID=America/New_York:20260421T193000
DTEND;TZID=America/New_York:20260421T210000
DTSTAMP:20260421T121251
CREATED:20250910T202400Z
LAST-MODIFIED:20250910T202400Z
UID:10016109-1776799800-1776805200@www.huntingtonarts.org
SUMMARY:Huntington Camera Club
DESCRIPTION:Huntington Camera Club meets every Tuesday 7:30pm to 9pm. Check the website for specific topics including education\, inspiration\, organization and just plain fun photography related events.
URL:https://www.huntingtonarts.org/event/huntington-camera-club/2026-04-21/
LOCATION:Huntington Public Library\, 338 Main Street\, Huntington\, 11743\, United States
CATEGORIES:Film/Media
ATTACH;FMTTYPE=image/jpeg:https://www.huntingtonarts.org/wp-content/uploads/2025/08/HCC-logo.jpg
ORGANIZER;CN="Huntington Camera Club":MAILTO:HotTunaHarry@hotmail.com
GEO:40.8705011;-73.4300972
X-APPLE-STRUCTURED-LOCATION;VALUE=URI;X-ADDRESS=Huntington Public Library 338 Main Street Huntington 11743 United States;X-APPLE-RADIUS=500;X-TITLE=338 Main Street:geo:-73.4300972,40.8705011
END:VEVENT
BEGIN:VEVENT
DTSTART;TZID=America/New_York:20260421T193000
DTEND;TZID=America/New_York:20260421T210000
DTSTAMP:20260421T121251
CREATED:20251209T154512Z
LAST-MODIFIED:20251209T154512Z
UID:10017546-1776799800-1776805200@www.huntingtonarts.org
SUMMARY:Huntington Camera Club
DESCRIPTION:We are a camera club that meets every Tuesday evening at the Huntington Public Library. We are 100 members and have a passion to learn\, discuss and share all things photography. Our club’s motto is to organize\, educate\, learn\, inspire and have fun with photography.
URL:https://www.huntingtonarts.org/event/huntington-camera-club-2/2026-04-21/
LOCATION:Huntington Public Library\, 338 Main Street\, Huntington\, 11743\, United States
CATEGORIES:Film/Media
ATTACH;FMTTYPE=image/jpeg:https://www.huntingtonarts.org/wp-content/uploads/2025/12/HCC-logo.jpg
ORGANIZER;CN="Huntington Camera Club":MAILTO:HotTunaHarry@hotmail.com
GEO:40.8705011;-73.4300972
X-APPLE-STRUCTURED-LOCATION;VALUE=URI;X-ADDRESS=Huntington Public Library 338 Main Street Huntington 11743 United States;X-APPLE-RADIUS=500;X-TITLE=338 Main Street:geo:-73.4300972,40.8705011
END:VEVENT
BEGIN:VEVENT
DTSTART;TZID=America/New_York:20260421T193000
DTEND;TZID=America/New_York:20260421T210000
DTSTAMP:20260421T121251
CREATED:20260105T173124Z
LAST-MODIFIED:20260105T173124Z
UID:10018852-1776799800-1776805200@www.huntingtonarts.org
SUMMARY:Huntington Camera Club
DESCRIPTION:We meet at Huntington Public Library every Tuesday night to discuss photography. We have guest speakers\, member presentations\, in-house competitions and lots more. No photographic background is necessary but we do cover all levels of experience in our presentations. Visit our website for more information hccny.org
URL:https://www.huntingtonarts.org/event/huntington-camera-club-3/2026-04-21/
LOCATION:Huntington Public Library\, 338 Main Street\, Huntington\, 11743\, United States
CATEGORIES:Art Demo,Film/Media,History,Lectures,Workshop Classes
ATTACH;FMTTYPE=image/jpeg:https://www.huntingtonarts.org/wp-content/uploads/2025/12/HCC-logo-1.jpg
GEO:40.8705011;-73.4300972
X-APPLE-STRUCTURED-LOCATION;VALUE=URI;X-ADDRESS=Huntington Public Library 338 Main Street Huntington 11743 United States;X-APPLE-RADIUS=500;X-TITLE=338 Main Street:geo:-73.4300972,40.8705011
END:VEVENT
BEGIN:VEVENT
DTSTART;TZID=America/New_York:20260421T193000
DTEND;TZID=America/New_York:20260421T220000
DTSTAMP:20260421T121251
CREATED:20260312T182027Z
LAST-MODIFIED:20260312T182027Z
UID:10022572-1776799800-1776808800@www.huntingtonarts.org
SUMMARY:Swing Dance Long Island presents the Mess Around Band and an Evening of Dancing
DESCRIPTION:Join us at the Huntington Moose Lodge for an evening of mostly Swing Dancing starting with a dance lesson at 7:30 PM. We’ll have the Mess Around Band playing a variety of music but it will be mostly swing dancing from 8 until 10 PM. Beginners and Singles are welcome. No partner required. Wear comfortable clothes. $15 for SDLI members and students\, $20 for non-SDLI members. Please check the website https://www.sdli.org for the latest information.
URL:https://www.huntingtonarts.org/event/swing-dance-long-island-presents-the-mess-around-band-and-an-evening-of-dancing/
LOCATION:Huntington Moose Lodge\, 631 Pulaski Road\, Greenlawn\, NY\, 11740\, United States
CATEGORIES:Dance
ATTACH;FMTTYPE=image/png:https://www.huntingtonarts.org/wp-content/uploads/2026/03/SDLI-2026-01-08-postcard-2.png
ORGANIZER;CN="Swing Dance Long Island":MAILTO:info@sdli.org
END:VEVENT
END:VCALENDAR