BEGIN:VCALENDAR
VERSION:2.0
PRODID:-//Huntington Arts Council - ECPv6.15.20//NONSGML v1.0//EN
CALSCALE:GREGORIAN
METHOD:PUBLISH
X-WR-CALNAME:Huntington Arts Council
X-ORIGINAL-URL:https://www.huntingtonarts.org
X-WR-CALDESC:Events for Huntington Arts Council
REFRESH-INTERVAL;VALUE=DURATION:PT1H
X-Robots-Tag:noindex
X-PUBLISHED-TTL:PT1H
BEGIN:VTIMEZONE
TZID:America/New_York
BEGIN:DAYLIGHT
TZOFFSETFROM:-0500
TZOFFSETTO:-0400
TZNAME:EDT
DTSTART:20250309T070000
END:DAYLIGHT
BEGIN:STANDARD
TZOFFSETFROM:-0400
TZOFFSETTO:-0500
TZNAME:EST
DTSTART:20251102T060000
END:STANDARD
BEGIN:DAYLIGHT
TZOFFSETFROM:-0500
TZOFFSETTO:-0400
TZNAME:EDT
DTSTART:20260308T070000
END:DAYLIGHT
BEGIN:STANDARD
TZOFFSETFROM:-0400
TZOFFSETTO:-0500
TZNAME:EST
DTSTART:20261101T060000
END:STANDARD
BEGIN:DAYLIGHT
TZOFFSETFROM:-0500
TZOFFSETTO:-0400
TZNAME:EDT
DTSTART:20270314T070000
END:DAYLIGHT
BEGIN:STANDARD
TZOFFSETFROM:-0400
TZOFFSETTO:-0500
TZNAME:EST
DTSTART:20271107T060000
END:STANDARD
END:VTIMEZONE
BEGIN:VEVENT
DTSTART;TZID=America/New_York:20260606T120000
DTEND;TZID=America/New_York:20260621T150000
DTSTAMP:20260421T181125
CREATED:20260105T170730Z
LAST-MODIFIED:20260325T144632Z
UID:10017942-1780747200-1782054000@www.huntingtonarts.org
SUMMARY:BAFFA Art Gallery presents Vibrant Visions
DESCRIPTION:In June 2026\, the BAFFA Art Gallery presents Vibrant Visions\, oil and cold wax paintings by Kathy Brown and collage art by Juliana Kirk. The exhibit can be viewed on weekends\, June 6\,7\,13\,14\,20\, and 21\, from Noon to 3:00 PM with an artists’ reception on June 6 from Noon to 3:00 PM. The BAFFA Art Gallery is located in the historic Gillette House at 47 Gillette Avenue in Sayville. For additional information: www.baffa.org.
URL:https://www.huntingtonarts.org/event/baffa-art-gallery-presents-vibrant-visions/2026-06-06/
LOCATION:BAFFA Gallery\, 47 Gillette Avenue\, Sayville\, NY\, 11782\, United States
CATEGORIES:Exhibitions
ORGANIZER;CN="Bay Area Friends of the Fine Arts (BAFFA)":MAILTO:baffaoffice@gmail.com
GEO:40.7343766;-73.0814701
X-APPLE-STRUCTURED-LOCATION;VALUE=URI;X-ADDRESS=BAFFA Gallery 47 Gillette Avenue Sayville NY 11782 United States;X-APPLE-RADIUS=500;X-TITLE=47 Gillette Avenue:geo:-73.0814701,40.7343766
END:VEVENT
BEGIN:VEVENT
DTSTART;TZID=America/New_York:20260607T120000
DTEND;TZID=America/New_York:20260622T150000
DTSTAMP:20260421T181125
CREATED:20260105T170730Z
LAST-MODIFIED:20260325T144632Z
UID:10017943-1780833600-1782140400@www.huntingtonarts.org
SUMMARY:BAFFA Art Gallery presents Vibrant Visions
DESCRIPTION:In June 2026\, the BAFFA Art Gallery presents Vibrant Visions\, oil and cold wax paintings by Kathy Brown and collage art by Juliana Kirk. The exhibit can be viewed on weekends\, June 6\,7\,13\,14\,20\, and 21\, from Noon to 3:00 PM with an artists’ reception on June 6 from Noon to 3:00 PM. The BAFFA Art Gallery is located in the historic Gillette House at 47 Gillette Avenue in Sayville. For additional information: www.baffa.org.
URL:https://www.huntingtonarts.org/event/baffa-art-gallery-presents-vibrant-visions/2026-06-07/
LOCATION:BAFFA Gallery\, 47 Gillette Avenue\, Sayville\, NY\, 11782\, United States
CATEGORIES:Exhibitions
ORGANIZER;CN="Bay Area Friends of the Fine Arts (BAFFA)":MAILTO:baffaoffice@gmail.com
GEO:40.7343766;-73.0814701
X-APPLE-STRUCTURED-LOCATION;VALUE=URI;X-ADDRESS=BAFFA Gallery 47 Gillette Avenue Sayville NY 11782 United States;X-APPLE-RADIUS=500;X-TITLE=47 Gillette Avenue:geo:-73.0814701,40.7343766
END:VEVENT
BEGIN:VEVENT
DTSTART;TZID=America/New_York:20260613T120000
DTEND;TZID=America/New_York:20260628T150000
DTSTAMP:20260421T181125
CREATED:20260105T170730Z
LAST-MODIFIED:20260325T144632Z
UID:10017944-1781352000-1782658800@www.huntingtonarts.org
SUMMARY:BAFFA Art Gallery presents Vibrant Visions
DESCRIPTION:In June 2026\, the BAFFA Art Gallery presents Vibrant Visions\, oil and cold wax paintings by Kathy Brown and collage art by Juliana Kirk. The exhibit can be viewed on weekends\, June 6\,7\,13\,14\,20\, and 21\, from Noon to 3:00 PM with an artists’ reception on June 6 from Noon to 3:00 PM. The BAFFA Art Gallery is located in the historic Gillette House at 47 Gillette Avenue in Sayville. For additional information: www.baffa.org.
URL:https://www.huntingtonarts.org/event/baffa-art-gallery-presents-vibrant-visions/2026-06-13/
LOCATION:BAFFA Gallery\, 47 Gillette Avenue\, Sayville\, NY\, 11782\, United States
CATEGORIES:Exhibitions
ORGANIZER;CN="Bay Area Friends of the Fine Arts (BAFFA)":MAILTO:baffaoffice@gmail.com
GEO:40.7343766;-73.0814701
X-APPLE-STRUCTURED-LOCATION;VALUE=URI;X-ADDRESS=BAFFA Gallery 47 Gillette Avenue Sayville NY 11782 United States;X-APPLE-RADIUS=500;X-TITLE=47 Gillette Avenue:geo:-73.0814701,40.7343766
END:VEVENT
BEGIN:VEVENT
DTSTART;TZID=America/New_York:20260614T120000
DTEND;TZID=America/New_York:20260629T150000
DTSTAMP:20260421T181125
CREATED:20260105T170730Z
LAST-MODIFIED:20260325T144632Z
UID:10017945-1781438400-1782745200@www.huntingtonarts.org
SUMMARY:BAFFA Art Gallery presents Vibrant Visions
DESCRIPTION:In June 2026\, the BAFFA Art Gallery presents Vibrant Visions\, oil and cold wax paintings by Kathy Brown and collage art by Juliana Kirk. The exhibit can be viewed on weekends\, June 6\,7\,13\,14\,20\, and 21\, from Noon to 3:00 PM with an artists’ reception on June 6 from Noon to 3:00 PM. The BAFFA Art Gallery is located in the historic Gillette House at 47 Gillette Avenue in Sayville. For additional information: www.baffa.org.
URL:https://www.huntingtonarts.org/event/baffa-art-gallery-presents-vibrant-visions/2026-06-14/
LOCATION:BAFFA Gallery\, 47 Gillette Avenue\, Sayville\, NY\, 11782\, United States
CATEGORIES:Exhibitions
ORGANIZER;CN="Bay Area Friends of the Fine Arts (BAFFA)":MAILTO:baffaoffice@gmail.com
GEO:40.7343766;-73.0814701
X-APPLE-STRUCTURED-LOCATION;VALUE=URI;X-ADDRESS=BAFFA Gallery 47 Gillette Avenue Sayville NY 11782 United States;X-APPLE-RADIUS=500;X-TITLE=47 Gillette Avenue:geo:-73.0814701,40.7343766
END:VEVENT
BEGIN:VEVENT
DTSTART;TZID=America/New_York:20260620T120000
DTEND;TZID=America/New_York:20260705T150000
DTSTAMP:20260421T181125
CREATED:20260105T170730Z
LAST-MODIFIED:20260325T144632Z
UID:10017946-1781956800-1783263600@www.huntingtonarts.org
SUMMARY:BAFFA Art Gallery presents Vibrant Visions
DESCRIPTION:In June 2026\, the BAFFA Art Gallery presents Vibrant Visions\, oil and cold wax paintings by Kathy Brown and collage art by Juliana Kirk. The exhibit can be viewed on weekends\, June 6\,7\,13\,14\,20\, and 21\, from Noon to 3:00 PM with an artists’ reception on June 6 from Noon to 3:00 PM. The BAFFA Art Gallery is located in the historic Gillette House at 47 Gillette Avenue in Sayville. For additional information: www.baffa.org.
URL:https://www.huntingtonarts.org/event/baffa-art-gallery-presents-vibrant-visions/2026-06-20/
LOCATION:BAFFA Gallery\, 47 Gillette Avenue\, Sayville\, NY\, 11782\, United States
CATEGORIES:Exhibitions
ORGANIZER;CN="Bay Area Friends of the Fine Arts (BAFFA)":MAILTO:baffaoffice@gmail.com
GEO:40.7343766;-73.0814701
X-APPLE-STRUCTURED-LOCATION;VALUE=URI;X-ADDRESS=BAFFA Gallery 47 Gillette Avenue Sayville NY 11782 United States;X-APPLE-RADIUS=500;X-TITLE=47 Gillette Avenue:geo:-73.0814701,40.7343766
END:VEVENT
BEGIN:VEVENT
DTSTART;TZID=America/New_York:20260621T120000
DTEND;TZID=America/New_York:20260706T150000
DTSTAMP:20260421T181125
CREATED:20260105T170730Z
LAST-MODIFIED:20260325T144632Z
UID:10017947-1782043200-1783350000@www.huntingtonarts.org
SUMMARY:BAFFA Art Gallery presents Vibrant Visions
DESCRIPTION:In June 2026\, the BAFFA Art Gallery presents Vibrant Visions\, oil and cold wax paintings by Kathy Brown and collage art by Juliana Kirk. The exhibit can be viewed on weekends\, June 6\,7\,13\,14\,20\, and 21\, from Noon to 3:00 PM with an artists’ reception on June 6 from Noon to 3:00 PM. The BAFFA Art Gallery is located in the historic Gillette House at 47 Gillette Avenue in Sayville. For additional information: www.baffa.org.
URL:https://www.huntingtonarts.org/event/baffa-art-gallery-presents-vibrant-visions/2026-06-21/
LOCATION:BAFFA Gallery\, 47 Gillette Avenue\, Sayville\, NY\, 11782\, United States
CATEGORIES:Exhibitions
ORGANIZER;CN="Bay Area Friends of the Fine Arts (BAFFA)":MAILTO:baffaoffice@gmail.com
GEO:40.7343766;-73.0814701
X-APPLE-STRUCTURED-LOCATION;VALUE=URI;X-ADDRESS=BAFFA Gallery 47 Gillette Avenue Sayville NY 11782 United States;X-APPLE-RADIUS=500;X-TITLE=47 Gillette Avenue:geo:-73.0814701,40.7343766
END:VEVENT
END:VCALENDAR