BEGIN:VCALENDAR
VERSION:2.0
PRODID:-//Huntington Arts Council - ECPv6.15.20//NONSGML v1.0//EN
CALSCALE:GREGORIAN
METHOD:PUBLISH
X-WR-CALNAME:Huntington Arts Council
X-ORIGINAL-URL:https://www.huntingtonarts.org
X-WR-CALDESC:Events for Huntington Arts Council
REFRESH-INTERVAL;VALUE=DURATION:PT1H
X-Robots-Tag:noindex
X-PUBLISHED-TTL:PT1H
BEGIN:VTIMEZONE
TZID:America/New_York
BEGIN:DAYLIGHT
TZOFFSETFROM:-0500
TZOFFSETTO:-0400
TZNAME:EDT
DTSTART:20240310T070000
END:DAYLIGHT
BEGIN:STANDARD
TZOFFSETFROM:-0400
TZOFFSETTO:-0500
TZNAME:EST
DTSTART:20241103T060000
END:STANDARD
BEGIN:DAYLIGHT
TZOFFSETFROM:-0500
TZOFFSETTO:-0400
TZNAME:EDT
DTSTART:20250309T070000
END:DAYLIGHT
BEGIN:STANDARD
TZOFFSETFROM:-0400
TZOFFSETTO:-0500
TZNAME:EST
DTSTART:20251102T060000
END:STANDARD
BEGIN:DAYLIGHT
TZOFFSETFROM:-0500
TZOFFSETTO:-0400
TZNAME:EDT
DTSTART:20260308T070000
END:DAYLIGHT
BEGIN:STANDARD
TZOFFSETFROM:-0400
TZOFFSETTO:-0500
TZNAME:EST
DTSTART:20261101T060000
END:STANDARD
END:VTIMEZONE
BEGIN:VEVENT
DTSTART;TZID=America/New_York:20250304T110000
DTEND;TZID=America/New_York:20250610T130000
DTSTAMP:20260422T084421
CREATED:20250127T220134Z
LAST-MODIFIED:20250127T220134Z
UID:10015246-1741086000-1749560400@www.huntingtonarts.org
SUMMARY:Jan Guarino presents Fearless Watercolors Online
DESCRIPTION:Each week meet me on Zoom for a 2+ hour comprehensive class to learn how we paint landscapes\, lighthouses\, animals\, still life’s and florals in watercolors. Learn new techniques and build skills that allow you to enjoy the freedom of watercolors while adding details\, gain control and have fun with beautiful medium. You will receive the photo reference and a contour drawing before the class\, complete instruction and a critique in the class and the recording with my painting after the class.\nYou can sign up for my newsletters and will be able to see what we are painting.\nImages are representational of what we will be painting. We will use them as inspiration not a literal depiction.\n$35 per class with a critique\, the photo\, the class recording good for 45 days & my painting to help you along!
URL:https://www.huntingtonarts.org/event/jan-guarino-presents-fearless-watercolors-online/
LOCATION:Zoom
CATEGORIES:Workshop Classes
ATTACH;FMTTYPE=image/jpeg:https://www.huntingtonarts.org/wp-content/uploads/2025/01/Turq-Love-2-scaled.jpg
ORGANIZER;CN="Jan Guarinio":MAILTO:jan@janguarinofineart.com
END:VEVENT
BEGIN:VEVENT
DTSTART;TZID=America/New_York:20250601T110000
DTEND;TZID=America/New_York:20250601T130000
DTSTAMP:20260422T084421
CREATED:20250429T150255Z
LAST-MODIFIED:20250429T150255Z
UID:10015595-1748775600-1748782800@www.huntingtonarts.org
SUMMARY:BAFFA presents Bangle Bling Workshop
DESCRIPTION:On Sunday\, June 1st\, BAFFA presents a Bangle Bling Workshop with fiber artist\, Sally Shore. Learn to craft a unique bangle using just cording and yarn. The workshop\, at the BAFFA Gallery at Gillette House in Sayville\, will meet from 11 AM to 1 PM. Pre-register at www.baffa.org. Cost for the workshop is $25.00 for BAFFA members and $30.00 for non-members. For additional information: (631)589-7343 or www.baffa.org.
URL:https://www.huntingtonarts.org/event/baffa-presents-bangle-bling-workshop/
LOCATION:Bay Area Friends of the FineArts\, 47 Gillette Avenue\, Sayville\, NY\, 11782\, United States
CATEGORIES:Workshop Classes
ATTACH;FMTTYPE=image/jpeg:https://www.huntingtonarts.org/wp-content/uploads/2025/04/Workshop2.jpg
ORGANIZER;CN="Bay Area Friends of the Fine Arts (BAFFA)":MAILTO:baffaoffice@gmail.com
END:VEVENT
BEGIN:VEVENT
DTSTART;TZID=America/New_York:20250603T130000
DTEND;TZID=America/New_York:20250603T150000
DTSTAMP:20260422T084421
CREATED:20240119T204145Z
LAST-MODIFIED:20240119T204145Z
UID:10008481-1748955600-1748962800@www.huntingtonarts.org
SUMMARY:Fearless Watercolor On-Line Zoom Classes with Jan Guarino
DESCRIPTION:Each week meet me on Zoom for a 2+hr comprehensive class to learn how we paint landscapes\, lighthouses\, animals\, still lifes and florals in watercolors. Learn new techniques and build skills that allow you to enjoy the freedom of watercolors while adding details\, gain control and have fun with beautiful medium. You will receive the photo reference and a contour drawing before the class\, complete instruction and a critique in the class and the recording with my painting after the class.
URL:https://www.huntingtonarts.org/event/fearless-watercolor-on-line-zoom-classes-with-jan-guarino-2/2025-06-03/
LOCATION:Zoom
CATEGORIES:Workshop Classes
ATTACH;FMTTYPE=image/jpeg:https://www.huntingtonarts.org/wp-content/uploads/2023/12/Looking-at-Jupiter-wm.jpg
ORGANIZER;CN="Jan Guarino":MAILTO:jan@janguarinofineart.com
END:VEVENT
BEGIN:VEVENT
DTSTART;TZID=America/New_York:20250610T130000
DTEND;TZID=America/New_York:20250610T150000
DTSTAMP:20260422T084421
CREATED:20240119T204145Z
LAST-MODIFIED:20240119T204145Z
UID:10008482-1749560400-1749567600@www.huntingtonarts.org
SUMMARY:Fearless Watercolor On-Line Zoom Classes with Jan Guarino
DESCRIPTION:Each week meet me on Zoom for a 2+hr comprehensive class to learn how we paint landscapes\, lighthouses\, animals\, still lifes and florals in watercolors. Learn new techniques and build skills that allow you to enjoy the freedom of watercolors while adding details\, gain control and have fun with beautiful medium. You will receive the photo reference and a contour drawing before the class\, complete instruction and a critique in the class and the recording with my painting after the class.
URL:https://www.huntingtonarts.org/event/fearless-watercolor-on-line-zoom-classes-with-jan-guarino-2/2025-06-10/
LOCATION:Zoom
CATEGORIES:Workshop Classes
ATTACH;FMTTYPE=image/jpeg:https://www.huntingtonarts.org/wp-content/uploads/2023/12/Looking-at-Jupiter-wm.jpg
ORGANIZER;CN="Jan Guarino":MAILTO:jan@janguarinofineart.com
END:VEVENT
BEGIN:VEVENT
DTSTART;TZID=America/New_York:20250617T130000
DTEND;TZID=America/New_York:20250617T150000
DTSTAMP:20260422T084421
CREATED:20240119T204145Z
LAST-MODIFIED:20240119T204145Z
UID:10008483-1750165200-1750172400@www.huntingtonarts.org
SUMMARY:Fearless Watercolor On-Line Zoom Classes with Jan Guarino
DESCRIPTION:Each week meet me on Zoom for a 2+hr comprehensive class to learn how we paint landscapes\, lighthouses\, animals\, still lifes and florals in watercolors. Learn new techniques and build skills that allow you to enjoy the freedom of watercolors while adding details\, gain control and have fun with beautiful medium. You will receive the photo reference and a contour drawing before the class\, complete instruction and a critique in the class and the recording with my painting after the class.
URL:https://www.huntingtonarts.org/event/fearless-watercolor-on-line-zoom-classes-with-jan-guarino-2/2025-06-17/
LOCATION:Zoom
CATEGORIES:Workshop Classes
ATTACH;FMTTYPE=image/jpeg:https://www.huntingtonarts.org/wp-content/uploads/2023/12/Looking-at-Jupiter-wm.jpg
ORGANIZER;CN="Jan Guarino":MAILTO:jan@janguarinofineart.com
END:VEVENT
BEGIN:VEVENT
DTSTART;TZID=America/New_York:20250622T180000
DTEND;TZID=America/New_York:20250622T210000
DTSTAMP:20260422T084421
CREATED:20250507T160253Z
LAST-MODIFIED:20250507T160253Z
UID:10015619-1750615200-1750626000@www.huntingtonarts.org
SUMMARY:Integrative Creative Arts Therapy presents Summer Solstice Community Gathering
DESCRIPTION:🌞 Summer Solstice Community Gathering\nPresented by Mor Keshet\, Integrative Eco Art Therapist\nSaturday\, June 22 | 6–9 PM\n109 Browns Road\, Huntington\, NY\nHosted outdoors on five acres of pristine native gardens in Huntington Harbor. \nJoin us for an intimate and inspiring evening of:\n🎨 Art Making\n🌿 Eco-Ritual\n🥗 Communal Meal\n🌸 Splendid Nature \nThis seasonal gathering is designed to nurture connection within ourselves\, with one another\, and with the Earth. All are welcome. \nSliding Scale / Pay What You Can ($45–$125 suggested contribution) \nLearn more + register at: www.morkeshet.com/offerings
URL:https://www.huntingtonarts.org/event/integrative-creative-arts-therapy-presents-summer-solstice-community-gathering/
LOCATION:Art Cottage & Gardens\, 109 Browns Road\, Huntington\, NY\, 11743\, United States
CATEGORIES:Workshop Classes
ATTACH;FMTTYPE=image/png:https://www.huntingtonarts.org/wp-content/uploads/2025/05/SUMMER-SOLSTICE-COMMUNITY-GATHERING-2-2.png
ORGANIZER;CN="IntegrativeCreative Arts Therapy":MAILTO:mor@morkeshet.com
END:VEVENT
BEGIN:VEVENT
DTSTART;TZID=America/New_York:20250624T130000
DTEND;TZID=America/New_York:20250624T150000
DTSTAMP:20260422T084421
CREATED:20240119T204145Z
LAST-MODIFIED:20240119T204145Z
UID:10008484-1750770000-1750777200@www.huntingtonarts.org
SUMMARY:Fearless Watercolor On-Line Zoom Classes with Jan Guarino
DESCRIPTION:Each week meet me on Zoom for a 2+hr comprehensive class to learn how we paint landscapes\, lighthouses\, animals\, still lifes and florals in watercolors. Learn new techniques and build skills that allow you to enjoy the freedom of watercolors while adding details\, gain control and have fun with beautiful medium. You will receive the photo reference and a contour drawing before the class\, complete instruction and a critique in the class and the recording with my painting after the class.
URL:https://www.huntingtonarts.org/event/fearless-watercolor-on-line-zoom-classes-with-jan-guarino-2/2025-06-24/
LOCATION:Zoom
CATEGORIES:Workshop Classes
ATTACH;FMTTYPE=image/jpeg:https://www.huntingtonarts.org/wp-content/uploads/2023/12/Looking-at-Jupiter-wm.jpg
ORGANIZER;CN="Jan Guarino":MAILTO:jan@janguarinofineart.com
END:VEVENT
END:VCALENDAR