BEGIN:VCALENDAR
VERSION:2.0
PRODID:-//Huntington Arts Council - ECPv6.15.20//NONSGML v1.0//EN
CALSCALE:GREGORIAN
METHOD:PUBLISH
X-ORIGINAL-URL:https://www.huntingtonarts.org
X-WR-CALDESC:Events for Huntington Arts Council
REFRESH-INTERVAL;VALUE=DURATION:PT1H
X-Robots-Tag:noindex
X-PUBLISHED-TTL:PT1H
BEGIN:VTIMEZONE
TZID:America/New_York
BEGIN:DAYLIGHT
TZOFFSETFROM:-0500
TZOFFSETTO:-0400
TZNAME:EDT
DTSTART:20240310T070000
END:DAYLIGHT
BEGIN:STANDARD
TZOFFSETFROM:-0400
TZOFFSETTO:-0500
TZNAME:EST
DTSTART:20241103T060000
END:STANDARD
BEGIN:DAYLIGHT
TZOFFSETFROM:-0500
TZOFFSETTO:-0400
TZNAME:EDT
DTSTART:20250309T070000
END:DAYLIGHT
BEGIN:STANDARD
TZOFFSETFROM:-0400
TZOFFSETTO:-0500
TZNAME:EST
DTSTART:20251102T060000
END:STANDARD
BEGIN:DAYLIGHT
TZOFFSETFROM:-0500
TZOFFSETTO:-0400
TZNAME:EDT
DTSTART:20260308T070000
END:DAYLIGHT
BEGIN:STANDARD
TZOFFSETFROM:-0400
TZOFFSETTO:-0500
TZNAME:EST
DTSTART:20261101T060000
END:STANDARD
END:VTIMEZONE
BEGIN:VEVENT
DTSTART;TZID=America/New_York:20250304T110000
DTEND;TZID=America/New_York:20250610T130000
DTSTAMP:20260422T102131
CREATED:20250127T220134Z
LAST-MODIFIED:20250127T220134Z
UID:10015246-1741086000-1749560400@www.huntingtonarts.org
SUMMARY:Jan Guarino presents Fearless Watercolors Online
DESCRIPTION:Each week meet me on Zoom for a 2+ hour comprehensive class to learn how we paint landscapes\, lighthouses\, animals\, still life’s and florals in watercolors. Learn new techniques and build skills that allow you to enjoy the freedom of watercolors while adding details\, gain control and have fun with beautiful medium. You will receive the photo reference and a contour drawing before the class\, complete instruction and a critique in the class and the recording with my painting after the class.\nYou can sign up for my newsletters and will be able to see what we are painting.\nImages are representational of what we will be painting. We will use them as inspiration not a literal depiction.\n$35 per class with a critique\, the photo\, the class recording good for 45 days & my painting to help you along!
URL:https://www.huntingtonarts.org/event/jan-guarino-presents-fearless-watercolors-online/
LOCATION:Zoom
CATEGORIES:Workshop Classes
ATTACH;FMTTYPE=image/jpeg:https://www.huntingtonarts.org/wp-content/uploads/2025/01/Turq-Love-2-scaled.jpg
ORGANIZER;CN="Jan Guarinio":MAILTO:jan@janguarinofineart.com
END:VEVENT
BEGIN:VEVENT
DTSTART;TZID=America/New_York:20250506T130000
DTEND;TZID=America/New_York:20250506T150000
DTSTAMP:20260422T102131
CREATED:20240119T204145Z
LAST-MODIFIED:20240119T204145Z
UID:10008477-1746536400-1746543600@www.huntingtonarts.org
SUMMARY:Fearless Watercolor On-Line Zoom Classes with Jan Guarino
DESCRIPTION:Each week meet me on Zoom for a 2+hr comprehensive class to learn how we paint landscapes\, lighthouses\, animals\, still lifes and florals in watercolors. Learn new techniques and build skills that allow you to enjoy the freedom of watercolors while adding details\, gain control and have fun with beautiful medium. You will receive the photo reference and a contour drawing before the class\, complete instruction and a critique in the class and the recording with my painting after the class.
URL:https://www.huntingtonarts.org/event/fearless-watercolor-on-line-zoom-classes-with-jan-guarino-2/2025-05-06/
LOCATION:Zoom
CATEGORIES:Workshop Classes
ATTACH;FMTTYPE=image/jpeg:https://www.huntingtonarts.org/wp-content/uploads/2023/12/Looking-at-Jupiter-wm.jpg
ORGANIZER;CN="Jan Guarino":MAILTO:jan@janguarinofineart.com
END:VEVENT
BEGIN:VEVENT
DTSTART;TZID=America/New_York:20250508T080000
DTEND;TZID=America/New_York:20250508T170000
DTSTAMP:20260422T102131
CREATED:20250127T223035Z
LAST-MODIFIED:20250127T223035Z
UID:10015250-1746691200-1746723600@www.huntingtonarts.org
SUMMARY:Jan Guarino presents Fearless Watercolors In Person Classes
DESCRIPTION:Each week meet me in person for a 3 hour comprehensive class to learn how to paint landscapes\, lighthouses\, animals\, still life’s and florals in watercolors. Learn new techniques and build skills that allow you to enjoy the freedom of watercolors while adding details\, gain control and have fun with beautiful medium. You will receive the photo reference and a contour drawing before the class\, with a demo\, complete instruction and a critique in the class.
URL:https://www.huntingtonarts.org/event/jan-guarino-presents-fearless-watercolors-in-person-classes/2025-05-08/
LOCATION:Huntington Arts Council\, 213 Main Street\, Huntington\, NY\, 11743\, United States
CATEGORIES:Art Demo,Workshop Classes
ATTACH;FMTTYPE=image/jpeg:https://www.huntingtonarts.org/wp-content/uploads/2025/01/Pears-and-Tea-scaled.jpg
ORGANIZER;CN="Jan Guarinio":MAILTO:jan@janguarinofineart.com
GEO:40.8721784;-73.4243051
X-APPLE-STRUCTURED-LOCATION;VALUE=URI;X-ADDRESS=Huntington Arts Council 213 Main Street Huntington NY 11743 United States;X-APPLE-RADIUS=500;X-TITLE=213 Main Street:geo:-73.4243051,40.8721784
END:VEVENT
BEGIN:VEVENT
DTSTART;TZID=America/New_York:20250508T110000
DTEND;TZID=America/New_York:20250508T140000
DTSTAMP:20260422T102131
CREATED:20250505T161309Z
LAST-MODIFIED:20250505T161309Z
UID:10015611-1746702000-1746712800@www.huntingtonarts.org
SUMMARY:Jan Guarino presents Fearless Watercolors In Person
DESCRIPTION:Each week meet me in person for a 3 hour comprehensive class to learn how to paint landscapes\, lighthouses\, animals\, still life’s and florals in watercolors. Learn new techniques and build skills that allow you to enjoy the freedom of watercolors while adding details\, gain control and have fun with beautiful medium. You will receive the photo reference and a contour drawing before the class\, with a demo\, complete instruction and a critique in the class.
URL:https://www.huntingtonarts.org/event/jan-guarino-presents-fearless-watercolors-in-person/
LOCATION:VT
CATEGORIES:Art Demo,Workshop Classes
ATTACH;FMTTYPE=image/jpeg:https://www.huntingtonarts.org/wp-content/uploads/2025/05/Three-Cool-Chicks-wm.jpg
ORGANIZER;CN="Jan Guarinio":MAILTO:jan@janguarinofineart.com
END:VEVENT
BEGIN:VEVENT
DTSTART;TZID=America/New_York:20250513T110000
DTEND;TZID=America/New_York:20250513T140000
DTSTAMP:20260422T102131
CREATED:20250505T165140Z
LAST-MODIFIED:20250505T165140Z
UID:10015612-1747134000-1747144800@www.huntingtonarts.org
SUMMARY:Jan Guarino presents Fearless Watercolors Online Classes
DESCRIPTION:Each week meet me on Zoom for a 2+ hour comprehensive class to learn how we paint landscapes\, lighthouses\, animals\, still life’s and florals in watercolors. Learn new techniques and build skills that allow you to enjoy the freedom of watercolors while adding details\, gain control and have fun with beautiful medium. You will receive the photo reference and a contour drawing before the class\, complete instruction and a critique in the class and the recording with my painting after the class. You can sign up for my newsletters and will be able to see what we are painting!\n$35 per class with a critique\, the photo\, the class recording good for 45 days & my painting to help you along!\nPayment can be made via Paypal\, Venmo or Zelle and you will receive the link and supporting documents at that time!
URL:https://www.huntingtonarts.org/event/jan-guarino-presents-fearless-watercolors-online-classes/
LOCATION:Zoom
CATEGORIES:Auditions,Workshop Classes
ATTACH;FMTTYPE=image/jpeg:https://www.huntingtonarts.org/wp-content/uploads/2025/05/Covered-In-Pink-wm.jpg
ORGANIZER;CN="Jan Guarinio":MAILTO:jan@janguarinofineart.com
END:VEVENT
BEGIN:VEVENT
DTSTART;TZID=America/New_York:20250513T130000
DTEND;TZID=America/New_York:20250513T150000
DTSTAMP:20260422T102131
CREATED:20240119T204145Z
LAST-MODIFIED:20240119T204145Z
UID:10008478-1747141200-1747148400@www.huntingtonarts.org
SUMMARY:Fearless Watercolor On-Line Zoom Classes with Jan Guarino
DESCRIPTION:Each week meet me on Zoom for a 2+hr comprehensive class to learn how we paint landscapes\, lighthouses\, animals\, still lifes and florals in watercolors. Learn new techniques and build skills that allow you to enjoy the freedom of watercolors while adding details\, gain control and have fun with beautiful medium. You will receive the photo reference and a contour drawing before the class\, complete instruction and a critique in the class and the recording with my painting after the class.
URL:https://www.huntingtonarts.org/event/fearless-watercolor-on-line-zoom-classes-with-jan-guarino-2/2025-05-13/
LOCATION:Zoom
CATEGORIES:Workshop Classes
ATTACH;FMTTYPE=image/jpeg:https://www.huntingtonarts.org/wp-content/uploads/2023/12/Looking-at-Jupiter-wm.jpg
ORGANIZER;CN="Jan Guarino":MAILTO:jan@janguarinofineart.com
END:VEVENT
BEGIN:VEVENT
DTSTART;TZID=America/New_York:20250516T100000
DTEND;TZID=America/New_York:20250517T160000
DTSTAMP:20260422T102131
CREATED:20250401T190723Z
LAST-MODIFIED:20250401T190723Z
UID:10015300-1747389600-1747497600@www.huntingtonarts.org
SUMMARY:The Art Guild of Port Washington presents Drawing a Painting with Watercolor Pencils with Kristy Kutch
DESCRIPTION:This workshop is designed to help both watercolorists and colored pencil artists alike learn the potential of these wonderful\, vivid little tools. Embellish features or emphasize values in colored pencil art or watercolor paintings. Draw\, spray\, spatter\, grate\, glaze\, dissolve: water soluble colored pencils offer a great range of techniques and beautiful effects\, either on paper or on Aquabord (provided). Imagine the convenience of a pan of watercolor pigment in the form of a concentrated pencil point\, and the painting possibilities are amazing- and fun! \nFree swag given to each registered student
URL:https://www.huntingtonarts.org/event/the-art-guild-of-port-washington-presents-drawing-a-painting-with-watercolor-pencils-with-kristy-kutch/
LOCATION:The Art Guild of Port Washington\, 200 Port Washington Boulevard\, Manhasset\, NY\, 11030
CATEGORIES:Workshop Classes
ATTACH;FMTTYPE=image/jpeg:https://www.huntingtonarts.org/wp-content/uploads/2025/03/Kristy.Kutch_.IG_.516-17.jpg
ORGANIZER;CN="the art guild":MAILTO:info@theartguild.org
END:VEVENT
BEGIN:VEVENT
DTSTART;TZID=America/New_York:20250520T130000
DTEND;TZID=America/New_York:20250520T150000
DTSTAMP:20260422T102131
CREATED:20240119T204145Z
LAST-MODIFIED:20240119T204145Z
UID:10008479-1747746000-1747753200@www.huntingtonarts.org
SUMMARY:Fearless Watercolor On-Line Zoom Classes with Jan Guarino
DESCRIPTION:Each week meet me on Zoom for a 2+hr comprehensive class to learn how we paint landscapes\, lighthouses\, animals\, still lifes and florals in watercolors. Learn new techniques and build skills that allow you to enjoy the freedom of watercolors while adding details\, gain control and have fun with beautiful medium. You will receive the photo reference and a contour drawing before the class\, complete instruction and a critique in the class and the recording with my painting after the class.
URL:https://www.huntingtonarts.org/event/fearless-watercolor-on-line-zoom-classes-with-jan-guarino-2/2025-05-20/
LOCATION:Zoom
CATEGORIES:Workshop Classes
ATTACH;FMTTYPE=image/jpeg:https://www.huntingtonarts.org/wp-content/uploads/2023/12/Looking-at-Jupiter-wm.jpg
ORGANIZER;CN="Jan Guarino":MAILTO:jan@janguarinofineart.com
END:VEVENT
BEGIN:VEVENT
DTSTART;TZID=America/New_York:20250527T130000
DTEND;TZID=America/New_York:20250527T150000
DTSTAMP:20260422T102131
CREATED:20240119T204145Z
LAST-MODIFIED:20240119T204145Z
UID:10008480-1748350800-1748358000@www.huntingtonarts.org
SUMMARY:Fearless Watercolor On-Line Zoom Classes with Jan Guarino
DESCRIPTION:Each week meet me on Zoom for a 2+hr comprehensive class to learn how we paint landscapes\, lighthouses\, animals\, still lifes and florals in watercolors. Learn new techniques and build skills that allow you to enjoy the freedom of watercolors while adding details\, gain control and have fun with beautiful medium. You will receive the photo reference and a contour drawing before the class\, complete instruction and a critique in the class and the recording with my painting after the class.
URL:https://www.huntingtonarts.org/event/fearless-watercolor-on-line-zoom-classes-with-jan-guarino-2/2025-05-27/
LOCATION:Zoom
CATEGORIES:Workshop Classes
ATTACH;FMTTYPE=image/jpeg:https://www.huntingtonarts.org/wp-content/uploads/2023/12/Looking-at-Jupiter-wm.jpg
ORGANIZER;CN="Jan Guarino":MAILTO:jan@janguarinofineart.com
END:VEVENT
END:VCALENDAR