BEGIN:VCALENDAR
VERSION:2.0
PRODID:-//Huntington Arts Council - ECPv6.15.20//NONSGML v1.0//EN
CALSCALE:GREGORIAN
METHOD:PUBLISH
X-WR-CALNAME:Huntington Arts Council
X-ORIGINAL-URL:https://www.huntingtonarts.org
X-WR-CALDESC:Events for Huntington Arts Council
REFRESH-INTERVAL;VALUE=DURATION:PT1H
X-Robots-Tag:noindex
X-PUBLISHED-TTL:PT1H
BEGIN:VTIMEZONE
TZID:America/New_York
BEGIN:DAYLIGHT
TZOFFSETFROM:-0500
TZOFFSETTO:-0400
TZNAME:EDT
DTSTART:20240310T070000
END:DAYLIGHT
BEGIN:STANDARD
TZOFFSETFROM:-0400
TZOFFSETTO:-0500
TZNAME:EST
DTSTART:20241103T060000
END:STANDARD
BEGIN:DAYLIGHT
TZOFFSETFROM:-0500
TZOFFSETTO:-0400
TZNAME:EDT
DTSTART:20250309T070000
END:DAYLIGHT
BEGIN:STANDARD
TZOFFSETFROM:-0400
TZOFFSETTO:-0500
TZNAME:EST
DTSTART:20251102T060000
END:STANDARD
BEGIN:DAYLIGHT
TZOFFSETFROM:-0500
TZOFFSETTO:-0400
TZNAME:EDT
DTSTART:20260308T070000
END:DAYLIGHT
BEGIN:STANDARD
TZOFFSETFROM:-0400
TZOFFSETTO:-0500
TZNAME:EST
DTSTART:20261101T060000
END:STANDARD
END:VTIMEZONE
BEGIN:VEVENT
DTSTART;TZID=America/New_York:20250204T130000
DTEND;TZID=America/New_York:20250204T150000
DTSTAMP:20260422T150059
CREATED:20240119T204145Z
LAST-MODIFIED:20240119T204145Z
UID:10008464-1738674000-1738681200@www.huntingtonarts.org
SUMMARY:Fearless Watercolor On-Line Zoom Classes with Jan Guarino
DESCRIPTION:Each week meet me on Zoom for a 2+hr comprehensive class to learn how we paint landscapes\, lighthouses\, animals\, still lifes and florals in watercolors. Learn new techniques and build skills that allow you to enjoy the freedom of watercolors while adding details\, gain control and have fun with beautiful medium. You will receive the photo reference and a contour drawing before the class\, complete instruction and a critique in the class and the recording with my painting after the class.
URL:https://www.huntingtonarts.org/event/fearless-watercolor-on-line-zoom-classes-with-jan-guarino-2/2025-02-04/
LOCATION:Zoom
CATEGORIES:Workshop Classes
ATTACH;FMTTYPE=image/jpeg:https://www.huntingtonarts.org/wp-content/uploads/2023/12/Looking-at-Jupiter-wm.jpg
ORGANIZER;CN="Jan Guarino":MAILTO:jan@janguarinofineart.com
END:VEVENT
BEGIN:VEVENT
DTSTART;TZID=America/New_York:20250208T110000
DTEND;TZID=America/New_York:20250208T130000
DTSTAMP:20260422T150059
CREATED:20250110T150532Z
LAST-MODIFIED:20250110T150532Z
UID:10014886-1739012400-1739019600@www.huntingtonarts.org
SUMMARY:BAFFA presents Shrink Art Jewelry Workshop
DESCRIPTION:BAFFA’s Winter Workshop is a Shrink Art Jewelry Workshop taught by Gail Neuman on Saturday\, February 8th. Learn how to create your own Shrink Art Jewelry – materials are included in the cost of the workshop. BAFFA members pay $40.00 and non-members $45.00 for this two-hour session. The class is from 11:00 AM to 1:00 PM. Pre-register for the class at www.baffa.org. For further information: (631)589-7343.
URL:https://www.huntingtonarts.org/event/baffa-presents-shrink-art-jewelry-workshop/
LOCATION:BAFFA Gallery\, 47 Gillette Avenue\, Sayville\, NY\, 11782\, United States
CATEGORIES:Workshop Classes
ATTACH;FMTTYPE=image/jpeg:https://www.huntingtonarts.org/wp-content/uploads/2024/12/Workshops-Square-2.jpg
ORGANIZER;CN="Bay Area Friends of the Fine Arts (BAFFA)":MAILTO:baffaoffice@gmail.com
GEO:40.7343766;-73.0814701
X-APPLE-STRUCTURED-LOCATION;VALUE=URI;X-ADDRESS=BAFFA Gallery 47 Gillette Avenue Sayville NY 11782 United States;X-APPLE-RADIUS=500;X-TITLE=47 Gillette Avenue:geo:-73.0814701,40.7343766
END:VEVENT
BEGIN:VEVENT
DTSTART;TZID=America/New_York:20250211T130000
DTEND;TZID=America/New_York:20250211T150000
DTSTAMP:20260422T150059
CREATED:20240119T204145Z
LAST-MODIFIED:20240119T204145Z
UID:10008465-1739278800-1739286000@www.huntingtonarts.org
SUMMARY:Fearless Watercolor On-Line Zoom Classes with Jan Guarino
DESCRIPTION:Each week meet me on Zoom for a 2+hr comprehensive class to learn how we paint landscapes\, lighthouses\, animals\, still lifes and florals in watercolors. Learn new techniques and build skills that allow you to enjoy the freedom of watercolors while adding details\, gain control and have fun with beautiful medium. You will receive the photo reference and a contour drawing before the class\, complete instruction and a critique in the class and the recording with my painting after the class.
URL:https://www.huntingtonarts.org/event/fearless-watercolor-on-line-zoom-classes-with-jan-guarino-2/2025-02-11/
LOCATION:Zoom
CATEGORIES:Workshop Classes
ATTACH;FMTTYPE=image/jpeg:https://www.huntingtonarts.org/wp-content/uploads/2023/12/Looking-at-Jupiter-wm.jpg
ORGANIZER;CN="Jan Guarino":MAILTO:jan@janguarinofineart.com
END:VEVENT
BEGIN:VEVENT
DTSTART;TZID=America/New_York:20250218T130000
DTEND;TZID=America/New_York:20250218T150000
DTSTAMP:20260422T150059
CREATED:20240119T204145Z
LAST-MODIFIED:20240119T204145Z
UID:10008466-1739883600-1739890800@www.huntingtonarts.org
SUMMARY:Fearless Watercolor On-Line Zoom Classes with Jan Guarino
DESCRIPTION:Each week meet me on Zoom for a 2+hr comprehensive class to learn how we paint landscapes\, lighthouses\, animals\, still lifes and florals in watercolors. Learn new techniques and build skills that allow you to enjoy the freedom of watercolors while adding details\, gain control and have fun with beautiful medium. You will receive the photo reference and a contour drawing before the class\, complete instruction and a critique in the class and the recording with my painting after the class.
URL:https://www.huntingtonarts.org/event/fearless-watercolor-on-line-zoom-classes-with-jan-guarino-2/2025-02-18/
LOCATION:Zoom
CATEGORIES:Workshop Classes
ATTACH;FMTTYPE=image/jpeg:https://www.huntingtonarts.org/wp-content/uploads/2023/12/Looking-at-Jupiter-wm.jpg
ORGANIZER;CN="Jan Guarino":MAILTO:jan@janguarinofineart.com
END:VEVENT
BEGIN:VEVENT
DTSTART;TZID=America/New_York:20250225T130000
DTEND;TZID=America/New_York:20250225T150000
DTSTAMP:20260422T150059
CREATED:20240119T204145Z
LAST-MODIFIED:20240119T204145Z
UID:10008467-1740488400-1740495600@www.huntingtonarts.org
SUMMARY:Fearless Watercolor On-Line Zoom Classes with Jan Guarino
DESCRIPTION:Each week meet me on Zoom for a 2+hr comprehensive class to learn how we paint landscapes\, lighthouses\, animals\, still lifes and florals in watercolors. Learn new techniques and build skills that allow you to enjoy the freedom of watercolors while adding details\, gain control and have fun with beautiful medium. You will receive the photo reference and a contour drawing before the class\, complete instruction and a critique in the class and the recording with my painting after the class.
URL:https://www.huntingtonarts.org/event/fearless-watercolor-on-line-zoom-classes-with-jan-guarino-2/2025-02-25/
LOCATION:Zoom
CATEGORIES:Workshop Classes
ATTACH;FMTTYPE=image/jpeg:https://www.huntingtonarts.org/wp-content/uploads/2023/12/Looking-at-Jupiter-wm.jpg
ORGANIZER;CN="Jan Guarino":MAILTO:jan@janguarinofineart.com
END:VEVENT
BEGIN:VEVENT
DTSTART;TZID=America/New_York:20250227T100000
DTEND;TZID=America/New_York:20250228T150000
DTSTAMP:20260422T150059
CREATED:20250127T221253Z
LAST-MODIFIED:20250127T221253Z
UID:10015247-1740650400-1740754800@www.huntingtonarts.org
SUMMARY:Jan Guarino presents Fearless Watercolors in Amelia Island
DESCRIPTION:I was once you … seeking and searching for teachers\, classes\, workshops\, dvds\, books\, magazines\, on-line sites – anyone\, anywhere to help me find myself in this incredible medium. I wanted to learn whatever I could to advance my art. Sometimes I was elated on what happened in a class\, but mostly it lead to disappointment – BUT there were pearls worthy of holding onto and integrating into my work. \nIt was from that very frustration I created my classes – based on what I needed as a student and didn’t get. I took the very best of these opportunities and created my workshops and classes – with an array of techniques in painting in watercolors and as an instructor as well. \nYou may not know me\, but I know you. As a student I understand what you wish to get from a workshop and as a teacher I know how to deliver it. I welcome you join me on an amazing 2 day workshop that will be filled with the best of the best. It will be tangible and is meant to be adaptable to enhance your own work. \nThis program is a culmination of techniques I’ve discovered and practice in every class and workshop:\n• Basic supply setup\n• Color Wheel – how to use analogous and complimentary colors\n• Learn why you get muddy paintings\n• Color Temperature – light\, warmth\, cool & shadows\n• 2 Magic Ingredients – learn the intelligence of watercolors\n• Soft & Hard Edges – where and why\n• Develop your Impact Area\n• Easy Composition\n• Correction Techniques\n• Embrace Blossoms\, Drips & Splatters . . . and more\nall while painting beautiful male and female cardinals & sailboats with sky\, land and water.
URL:https://www.huntingtonarts.org/event/jan-guarino-presents-fearless-watercolors-in-amelia-island/
LOCATION:Island Art Association\, 18N 2nd Street\, Fernandina Beach\, FL\, United States
CATEGORIES:Workshop Classes
ATTACH;FMTTYPE=image/jpeg:https://www.huntingtonarts.org/wp-content/uploads/2025/01/Lily-Floral-scaled.jpeg
ORGANIZER;CN="Jan Guarinio":MAILTO:jan@janguarinofineart.com
END:VEVENT
END:VCALENDAR