BEGIN:VCALENDAR
VERSION:2.0
PRODID:-//Huntington Arts Council - ECPv6.15.20//NONSGML v1.0//EN
CALSCALE:GREGORIAN
METHOD:PUBLISH
X-WR-CALNAME:Huntington Arts Council
X-ORIGINAL-URL:https://www.huntingtonarts.org
X-WR-CALDESC:Events for Huntington Arts Council
REFRESH-INTERVAL;VALUE=DURATION:PT1H
X-Robots-Tag:noindex
X-PUBLISHED-TTL:PT1H
BEGIN:VTIMEZONE
TZID:America/New_York
BEGIN:DAYLIGHT
TZOFFSETFROM:-0500
TZOFFSETTO:-0400
TZNAME:EDT
DTSTART:20230312T070000
END:DAYLIGHT
BEGIN:STANDARD
TZOFFSETFROM:-0400
TZOFFSETTO:-0500
TZNAME:EST
DTSTART:20231105T060000
END:STANDARD
BEGIN:DAYLIGHT
TZOFFSETFROM:-0500
TZOFFSETTO:-0400
TZNAME:EDT
DTSTART:20240310T070000
END:DAYLIGHT
BEGIN:STANDARD
TZOFFSETFROM:-0400
TZOFFSETTO:-0500
TZNAME:EST
DTSTART:20241103T060000
END:STANDARD
BEGIN:DAYLIGHT
TZOFFSETFROM:-0500
TZOFFSETTO:-0400
TZNAME:EDT
DTSTART:20250309T070000
END:DAYLIGHT
BEGIN:STANDARD
TZOFFSETFROM:-0400
TZOFFSETTO:-0500
TZNAME:EST
DTSTART:20251102T060000
END:STANDARD
END:VTIMEZONE
BEGIN:VEVENT
DTSTART;TZID=America/New_York:20240502T110000
DTEND;TZID=America/New_York:20241212T140000
DTSTAMP:20260422T180021
CREATED:20240425T171843Z
LAST-MODIFIED:20240425T172221Z
UID:10010919-1714647600-1734012000@www.huntingtonarts.org
SUMMARY:Fearless Watercolor In-Person Classes with Jan Guarino
DESCRIPTION:Watercolors are thought to be an unforgiving medium and the hardest to learn. I teach the beauty of how forgiving the medium really by painting landscapes\, florals\, waterscapes\, still lifes\, people… we paint anything and all things! \nYou will gain a new skill\, a deeper understanding of the medium and lose the fear around watercolors\, have fun and develop tangible ideas that they can use way beyond these classes. I simply LOVE this medium and long to embrace the unexpected and unusual effects of watercolors and integrate them into my paintings. \nCome in and lose your fear\, gain skills and find your style! Every Thursday at the Huntington Arts Council Gallery
URL:https://www.huntingtonarts.org/event/fearless-watercolor-in-person-classes-with-jan-guarino-3/
LOCATION:Huntington Arts Council\, 213 Main Street\, Huntington\, NY\, 11743\, United States
CATEGORIES:Workshop Classes
ATTACH;FMTTYPE=image/jpeg:https://www.huntingtonarts.org/wp-content/uploads/2024/04/White-Flight-wm.jpg
ORGANIZER;CN="Jan Guarino":MAILTO:jan@janguarinofineart.com
GEO:40.8721784;-73.4243051
X-APPLE-STRUCTURED-LOCATION;VALUE=URI;X-ADDRESS=Huntington Arts Council 213 Main Street Huntington NY 11743 United States;X-APPLE-RADIUS=500;X-TITLE=213 Main Street:geo:-73.4243051,40.8721784
END:VEVENT
BEGIN:VEVENT
DTSTART;TZID=America/New_York:20241102T100000
DTEND;TZID=America/New_York:20241214T130000
DTSTAMP:20260422T180021
CREATED:20240909T144335Z
LAST-MODIFIED:20240909T144335Z
UID:10014229-1730541600-1734181200@www.huntingtonarts.org
SUMMARY:The Art Guild presents Oil/Acrylic Still Life Painting with Kevin Yen
DESCRIPTION:Oil/Acrylic Still Life Painting – From Start to Finish (6 week mini series\, saturday mornings 10am-1:00pm\, open to HS Students and adults)\nThe class will start with how to put down your sketch/drawing onto the canvas and work on value and chroma\, how to use the right color for highlights and shadows and glazing technique\, painting layers step-by-step. You will be working on the same painting throughout the class and learn how to finish the painting. \nThis class requires:\nThe class will start with how to put down your sketch/drawing onto the canvas and work on value and chroma\, how to use the right color for highlights and shadows and glazing technique\, painting layers step-by-step. You will be working on the same painting throughout the class and learn how to finish the painting.
URL:https://www.huntingtonarts.org/event/the-art-guild-presents-oil-acrylic-still-life-painting-with-kevin-yen/
LOCATION:The Art Guild of Port Washington\, 200 Port Washington Boulevard\, Manhasset\, NY\, 11030
CATEGORIES:Workshop Classes
ATTACH;FMTTYPE=image/jpeg:https://www.huntingtonarts.org/wp-content/uploads/2024/08/Still-Life-Oil-on-Canvas-16-in-x-20-in.jpg
ORGANIZER;CN="the art guild":MAILTO:tlefkowitz@theartguild.org
END:VEVENT
BEGIN:VEVENT
DTSTART;TZID=America/New_York:20241203T130000
DTEND;TZID=America/New_York:20241203T150000
DTSTAMP:20260422T180021
CREATED:20240119T204145Z
LAST-MODIFIED:20240119T204145Z
UID:10008455-1733230800-1733238000@www.huntingtonarts.org
SUMMARY:Fearless Watercolor On-Line Zoom Classes with Jan Guarino
DESCRIPTION:Each week meet me on Zoom for a 2+hr comprehensive class to learn how we paint landscapes\, lighthouses\, animals\, still lifes and florals in watercolors. Learn new techniques and build skills that allow you to enjoy the freedom of watercolors while adding details\, gain control and have fun with beautiful medium. You will receive the photo reference and a contour drawing before the class\, complete instruction and a critique in the class and the recording with my painting after the class.
URL:https://www.huntingtonarts.org/event/fearless-watercolor-on-line-zoom-classes-with-jan-guarino-2/2024-12-03/
LOCATION:Zoom
CATEGORIES:Workshop Classes
ATTACH;FMTTYPE=image/jpeg:https://www.huntingtonarts.org/wp-content/uploads/2023/12/Looking-at-Jupiter-wm.jpg
ORGANIZER;CN="Jan Guarino":MAILTO:jan@janguarinofineart.com
END:VEVENT
BEGIN:VEVENT
DTSTART;TZID=America/New_York:20241205T183000
DTEND;TZID=America/New_York:20241205T200000
DTSTAMP:20260422T180021
CREATED:20241028T133438Z
LAST-MODIFIED:20241028T133438Z
UID:10014747-1733423400-1733428800@www.huntingtonarts.org
SUMMARY:The Whaling Museum presents Crafts &Cocktails: Creature Coasters
DESCRIPTION:CRAFTS & COCKTAILS: CREATURE COASTERS\nThursday\, December 5 | Adults 21+\n6:30 – 8:00pm \nDiscover the dazzling history of delftware! Learn how these blue-and-white tiles took Europe by storm in the 17th century. Be inspired by delft tiles featuring sea monsters from our special exhibit as you sip a seasonal Dutch treat: a warm cup of spiced Bischopswijn (non-alcoholic version available!). Design and decorate a set of delft-style ceramic coasters. \nRegister online.\n$35 Participant; $25 Museum Members
URL:https://www.huntingtonarts.org/event/the-whaling-museum-presents-crafts-cocktails-creature-coasters/
LOCATION:The Whaling Museum & Education Center of Cold Spring Harbor\, 301 Main Street\, Cold Spring Harbor\, NY\, 11724\, United States
CATEGORIES:Art Demo,History,Miscellaneous,Workshop Classes
ATTACH;FMTTYPE=image/jpeg:https://www.huntingtonarts.org/wp-content/uploads/2024/10/Creature-Coasters_sq.jpeg
ORGANIZER;CN="The Whaling Museum and Education Center":MAILTO:jpalumbo@cshwhalingmuseum.org
GEO:40.8724711;-73.4536788
X-APPLE-STRUCTURED-LOCATION;VALUE=URI;X-ADDRESS=The Whaling Museum & Education Center of Cold Spring Harbor 301 Main Street Cold Spring Harbor NY 11724 United States;X-APPLE-RADIUS=500;X-TITLE=301 Main Street:geo:-73.4536788,40.8724711
END:VEVENT
BEGIN:VEVENT
DTSTART;TZID=America/New_York:20241210T130000
DTEND;TZID=America/New_York:20241210T150000
DTSTAMP:20260422T180021
CREATED:20240119T204145Z
LAST-MODIFIED:20240119T204145Z
UID:10008456-1733835600-1733842800@www.huntingtonarts.org
SUMMARY:Fearless Watercolor On-Line Zoom Classes with Jan Guarino
DESCRIPTION:Each week meet me on Zoom for a 2+hr comprehensive class to learn how we paint landscapes\, lighthouses\, animals\, still lifes and florals in watercolors. Learn new techniques and build skills that allow you to enjoy the freedom of watercolors while adding details\, gain control and have fun with beautiful medium. You will receive the photo reference and a contour drawing before the class\, complete instruction and a critique in the class and the recording with my painting after the class.
URL:https://www.huntingtonarts.org/event/fearless-watercolor-on-line-zoom-classes-with-jan-guarino-2/2024-12-10/
LOCATION:Zoom
CATEGORIES:Workshop Classes
ATTACH;FMTTYPE=image/jpeg:https://www.huntingtonarts.org/wp-content/uploads/2023/12/Looking-at-Jupiter-wm.jpg
ORGANIZER;CN="Jan Guarino":MAILTO:jan@janguarinofineart.com
END:VEVENT
BEGIN:VEVENT
DTSTART;TZID=America/New_York:20241214T120000
DTEND;TZID=America/New_York:20241214T130000
DTSTAMP:20260422T180021
CREATED:20241004T135346Z
LAST-MODIFIED:20241004T135346Z
UID:10014456-1734177600-1734181200@www.huntingtonarts.org
SUMMARY:The Whaling Museum presents Seashell Ornaments
DESCRIPTION:SEASHELL ORNAMENTS\nSaturday\, December 14 | Adults & Kids\n12:00 & 2:00pm \nFrom clams to sea snails to nautilus squid\, explore the wonderful world of shelled animals in this educator-led workshop. Find out how to identify shells local to Long Island\, and decorate a decoupaged shell ornament to hang up at home during this festive time of year. \nAdmission + $10 Participant; $5 Members
URL:https://www.huntingtonarts.org/event/the-whaling-museum-presents-seashell-ornaments/2024-12-14/1/
LOCATION:The Whaling Museum & Education Center of Cold Spring Harbor\, 301 Main Street\, Cold Spring Harbor\, NY\, 11724\, United States
CATEGORIES:Art Demo,Children and Family,Workshop Classes
ATTACH;FMTTYPE=image/jpeg:https://www.huntingtonarts.org/wp-content/uploads/2024/10/Photo-Seashell-Ornaments-rotated.jpeg
ORGANIZER;CN="The Whaling Museum and Education Center":MAILTO:jpalumbo@cshwhalingmuseum.org
GEO:40.8724711;-73.4536788
X-APPLE-STRUCTURED-LOCATION;VALUE=URI;X-ADDRESS=The Whaling Museum & Education Center of Cold Spring Harbor 301 Main Street Cold Spring Harbor NY 11724 United States;X-APPLE-RADIUS=500;X-TITLE=301 Main Street:geo:-73.4536788,40.8724711
END:VEVENT
BEGIN:VEVENT
DTSTART;TZID=America/New_York:20241214T140000
DTEND;TZID=America/New_York:20241214T150000
DTSTAMP:20260422T180021
CREATED:20241004T135346Z
LAST-MODIFIED:20241004T135346Z
UID:10014457-1734184800-1734188400@www.huntingtonarts.org
SUMMARY:The Whaling Museum presents Seashell Ornaments
DESCRIPTION:SEASHELL ORNAMENTS\nSaturday\, December 14 | Adults & Kids\n12:00 & 2:00pm \nFrom clams to sea snails to nautilus squid\, explore the wonderful world of shelled animals in this educator-led workshop. Find out how to identify shells local to Long Island\, and decorate a decoupaged shell ornament to hang up at home during this festive time of year. \nAdmission + $10 Participant; $5 Members
URL:https://www.huntingtonarts.org/event/the-whaling-museum-presents-seashell-ornaments/2024-12-14/2/
LOCATION:The Whaling Museum & Education Center of Cold Spring Harbor\, 301 Main Street\, Cold Spring Harbor\, NY\, 11724\, United States
CATEGORIES:Art Demo,Children and Family,Workshop Classes
ATTACH;FMTTYPE=image/jpeg:https://www.huntingtonarts.org/wp-content/uploads/2024/10/Photo-Seashell-Ornaments-rotated.jpeg
ORGANIZER;CN="The Whaling Museum and Education Center":MAILTO:jpalumbo@cshwhalingmuseum.org
GEO:40.8724711;-73.4536788
X-APPLE-STRUCTURED-LOCATION;VALUE=URI;X-ADDRESS=The Whaling Museum & Education Center of Cold Spring Harbor 301 Main Street Cold Spring Harbor NY 11724 United States;X-APPLE-RADIUS=500;X-TITLE=301 Main Street:geo:-73.4536788,40.8724711
END:VEVENT
BEGIN:VEVENT
DTSTART;TZID=America/New_York:20241215T120000
DTEND;TZID=America/New_York:20241215T133000
DTSTAMP:20260422T180021
CREATED:20241028T133501Z
LAST-MODIFIED:20241028T133501Z
UID:10014748-1734264000-1734269400@www.huntingtonarts.org
SUMMARY:The Whaling Museum presents Menorah Candleboxes
DESCRIPTION:MENORAH CANDLEBOXES\nSunday\, December 15 | Adults & Kids\n12:00pm & 2:00pm \nTravel back to a time when whales lit up the world! See whale oil lamps and spermaceti candles from the museum’s collection and explore the importance of oil through the ages. Get creative designing a special decoupaged box to store your candles with style. \nAdmission + $10 Participant; $5 Museum Members
URL:https://www.huntingtonarts.org/event/the-whaling-museum-presents-menorah-candleboxes/2024-12-15/1/
LOCATION:The Whaling Museum & Education Center of Cold Spring Harbor\, 301 Main Street\, Cold Spring Harbor\, NY\, 11724\, United States
CATEGORIES:Art Demo,Children and Family,History,Workshop Classes
ATTACH;FMTTYPE=image/jpeg:https://www.huntingtonarts.org/wp-content/uploads/2024/10/Menorah-Candleboxes.jpeg
ORGANIZER;CN="The Whaling Museum and Education Center":MAILTO:jpalumbo@cshwhalingmuseum.org
GEO:40.8724711;-73.4536788
X-APPLE-STRUCTURED-LOCATION;VALUE=URI;X-ADDRESS=The Whaling Museum & Education Center of Cold Spring Harbor 301 Main Street Cold Spring Harbor NY 11724 United States;X-APPLE-RADIUS=500;X-TITLE=301 Main Street:geo:-73.4536788,40.8724711
END:VEVENT
BEGIN:VEVENT
DTSTART;TZID=America/New_York:20241215T140000
DTEND;TZID=America/New_York:20241215T150000
DTSTAMP:20260422T180021
CREATED:20241028T133501Z
LAST-MODIFIED:20241028T133501Z
UID:10014749-1734271200-1734274800@www.huntingtonarts.org
SUMMARY:The Whaling Museum presents Menorah Candleboxes
DESCRIPTION:MENORAH CANDLEBOXES\nSunday\, December 15 | Adults & Kids\n12:00pm & 2:00pm \nTravel back to a time when whales lit up the world! See whale oil lamps and spermaceti candles from the museum’s collection and explore the importance of oil through the ages. Get creative designing a special decoupaged box to store your candles with style. \nAdmission + $10 Participant; $5 Museum Members
URL:https://www.huntingtonarts.org/event/the-whaling-museum-presents-menorah-candleboxes/2024-12-15/2/
LOCATION:The Whaling Museum & Education Center of Cold Spring Harbor\, 301 Main Street\, Cold Spring Harbor\, NY\, 11724\, United States
CATEGORIES:Art Demo,Children and Family,History,Workshop Classes
ATTACH;FMTTYPE=image/jpeg:https://www.huntingtonarts.org/wp-content/uploads/2024/10/Menorah-Candleboxes.jpeg
ORGANIZER;CN="The Whaling Museum and Education Center":MAILTO:jpalumbo@cshwhalingmuseum.org
GEO:40.8724711;-73.4536788
X-APPLE-STRUCTURED-LOCATION;VALUE=URI;X-ADDRESS=The Whaling Museum & Education Center of Cold Spring Harbor 301 Main Street Cold Spring Harbor NY 11724 United States;X-APPLE-RADIUS=500;X-TITLE=301 Main Street:geo:-73.4536788,40.8724711
END:VEVENT
BEGIN:VEVENT
DTSTART;TZID=America/New_York:20241217T130000
DTEND;TZID=America/New_York:20241217T150000
DTSTAMP:20260422T180021
CREATED:20240119T204145Z
LAST-MODIFIED:20240119T204145Z
UID:10008457-1734440400-1734447600@www.huntingtonarts.org
SUMMARY:Fearless Watercolor On-Line Zoom Classes with Jan Guarino
DESCRIPTION:Each week meet me on Zoom for a 2+hr comprehensive class to learn how we paint landscapes\, lighthouses\, animals\, still lifes and florals in watercolors. Learn new techniques and build skills that allow you to enjoy the freedom of watercolors while adding details\, gain control and have fun with beautiful medium. You will receive the photo reference and a contour drawing before the class\, complete instruction and a critique in the class and the recording with my painting after the class.
URL:https://www.huntingtonarts.org/event/fearless-watercolor-on-line-zoom-classes-with-jan-guarino-2/2024-12-17/
LOCATION:Zoom
CATEGORIES:Workshop Classes
ATTACH;FMTTYPE=image/jpeg:https://www.huntingtonarts.org/wp-content/uploads/2023/12/Looking-at-Jupiter-wm.jpg
ORGANIZER;CN="Jan Guarino":MAILTO:jan@janguarinofineart.com
END:VEVENT
BEGIN:VEVENT
DTSTART;TZID=America/New_York:20241224T130000
DTEND;TZID=America/New_York:20241224T150000
DTSTAMP:20260422T180021
CREATED:20240119T204145Z
LAST-MODIFIED:20240119T204145Z
UID:10008458-1735045200-1735052400@www.huntingtonarts.org
SUMMARY:Fearless Watercolor On-Line Zoom Classes with Jan Guarino
DESCRIPTION:Each week meet me on Zoom for a 2+hr comprehensive class to learn how we paint landscapes\, lighthouses\, animals\, still lifes and florals in watercolors. Learn new techniques and build skills that allow you to enjoy the freedom of watercolors while adding details\, gain control and have fun with beautiful medium. You will receive the photo reference and a contour drawing before the class\, complete instruction and a critique in the class and the recording with my painting after the class.
URL:https://www.huntingtonarts.org/event/fearless-watercolor-on-line-zoom-classes-with-jan-guarino-2/2024-12-24/
LOCATION:Zoom
CATEGORIES:Workshop Classes
ATTACH;FMTTYPE=image/jpeg:https://www.huntingtonarts.org/wp-content/uploads/2023/12/Looking-at-Jupiter-wm.jpg
ORGANIZER;CN="Jan Guarino":MAILTO:jan@janguarinofineart.com
END:VEVENT
BEGIN:VEVENT
DTSTART;TZID=America/New_York:20241226T110000
DTEND;TZID=America/New_York:20241226T130000
DTSTAMP:20260422T180021
CREATED:20241115T161848Z
LAST-MODIFIED:20241115T161848Z
UID:10014860-1735210800-1735218000@www.huntingtonarts.org
SUMMARY:The Whaling Museum presents Festive Lighthouses
DESCRIPTION:Festive Lighthouses\nDrop In 11am – 1pm | Adults & Kids \nDid you know lighthouses were lit with whale oil? Design and decorate a unique lighthouse of your own – complete with battery-powered tea light and mini wreath – to light up your home this winter. \nAdmission + $10 participant; $5 members\nNo Registration Required
URL:https://www.huntingtonarts.org/event/the-whaling-museum-presents-festive-lighthouses/2024-12-26/
LOCATION:The Whaling Museum & Education Center of Cold Spring Harbor\, 301 Main Street\, Cold Spring Harbor\, NY\, 11724\, United States
CATEGORIES:Art Demo,Children and Family,Miscellaneous,Workshop Classes
ATTACH;FMTTYPE=image/png:https://www.huntingtonarts.org/wp-content/uploads/2024/11/Photo-Festive-Lighthouses.png
ORGANIZER;CN="The Whaling Museum and Education Center":MAILTO:jpalumbo@cshwhalingmuseum.org
GEO:40.8724711;-73.4536788
X-APPLE-STRUCTURED-LOCATION;VALUE=URI;X-ADDRESS=The Whaling Museum & Education Center of Cold Spring Harbor 301 Main Street Cold Spring Harbor NY 11724 United States;X-APPLE-RADIUS=500;X-TITLE=301 Main Street:geo:-73.4536788,40.8724711
END:VEVENT
BEGIN:VEVENT
DTSTART;TZID=America/New_York:20241231T130000
DTEND;TZID=America/New_York:20241231T150000
DTSTAMP:20260422T180021
CREATED:20240119T204145Z
LAST-MODIFIED:20240119T204145Z
UID:10008459-1735650000-1735657200@www.huntingtonarts.org
SUMMARY:Fearless Watercolor On-Line Zoom Classes with Jan Guarino
DESCRIPTION:Each week meet me on Zoom for a 2+hr comprehensive class to learn how we paint landscapes\, lighthouses\, animals\, still lifes and florals in watercolors. Learn new techniques and build skills that allow you to enjoy the freedom of watercolors while adding details\, gain control and have fun with beautiful medium. You will receive the photo reference and a contour drawing before the class\, complete instruction and a critique in the class and the recording with my painting after the class.
URL:https://www.huntingtonarts.org/event/fearless-watercolor-on-line-zoom-classes-with-jan-guarino-2/2024-12-31/
LOCATION:Zoom
CATEGORIES:Workshop Classes
ATTACH;FMTTYPE=image/jpeg:https://www.huntingtonarts.org/wp-content/uploads/2023/12/Looking-at-Jupiter-wm.jpg
ORGANIZER;CN="Jan Guarino":MAILTO:jan@janguarinofineart.com
END:VEVENT
END:VCALENDAR