BEGIN:VCALENDAR
VERSION:2.0
PRODID:-//Huntington Arts Council - ECPv6.15.20//NONSGML v1.0//EN
CALSCALE:GREGORIAN
METHOD:PUBLISH
X-ORIGINAL-URL:https://www.huntingtonarts.org
X-WR-CALDESC:Events for Huntington Arts Council
REFRESH-INTERVAL;VALUE=DURATION:PT1H
X-Robots-Tag:noindex
X-PUBLISHED-TTL:PT1H
BEGIN:VTIMEZONE
TZID:America/New_York
BEGIN:DAYLIGHT
TZOFFSETFROM:-0500
TZOFFSETTO:-0400
TZNAME:EDT
DTSTART:20230312T070000
END:DAYLIGHT
BEGIN:STANDARD
TZOFFSETFROM:-0400
TZOFFSETTO:-0500
TZNAME:EST
DTSTART:20231105T060000
END:STANDARD
BEGIN:DAYLIGHT
TZOFFSETFROM:-0500
TZOFFSETTO:-0400
TZNAME:EDT
DTSTART:20240310T070000
END:DAYLIGHT
BEGIN:STANDARD
TZOFFSETFROM:-0400
TZOFFSETTO:-0500
TZNAME:EST
DTSTART:20241103T060000
END:STANDARD
BEGIN:DAYLIGHT
TZOFFSETFROM:-0500
TZOFFSETTO:-0400
TZNAME:EDT
DTSTART:20250309T070000
END:DAYLIGHT
BEGIN:STANDARD
TZOFFSETFROM:-0400
TZOFFSETTO:-0500
TZNAME:EST
DTSTART:20251102T060000
END:STANDARD
END:VTIMEZONE
BEGIN:VEVENT
DTSTART;TZID=America/New_York:20240502T110000
DTEND;TZID=America/New_York:20241212T140000
DTSTAMP:20260422T221820
CREATED:20240425T171843Z
LAST-MODIFIED:20240425T172221Z
UID:10010919-1714647600-1734012000@www.huntingtonarts.org
SUMMARY:Fearless Watercolor In-Person Classes with Jan Guarino
DESCRIPTION:Watercolors are thought to be an unforgiving medium and the hardest to learn. I teach the beauty of how forgiving the medium really by painting landscapes\, florals\, waterscapes\, still lifes\, people… we paint anything and all things! \nYou will gain a new skill\, a deeper understanding of the medium and lose the fear around watercolors\, have fun and develop tangible ideas that they can use way beyond these classes. I simply LOVE this medium and long to embrace the unexpected and unusual effects of watercolors and integrate them into my paintings. \nCome in and lose your fear\, gain skills and find your style! Every Thursday at the Huntington Arts Council Gallery
URL:https://www.huntingtonarts.org/event/fearless-watercolor-in-person-classes-with-jan-guarino-3/
LOCATION:Huntington Arts Council\, 213 Main Street\, Huntington\, NY\, 11743\, United States
CATEGORIES:Workshop Classes
ATTACH;FMTTYPE=image/jpeg:https://www.huntingtonarts.org/wp-content/uploads/2024/04/White-Flight-wm.jpg
ORGANIZER;CN="Jan Guarino":MAILTO:jan@janguarinofineart.com
GEO:40.8721784;-73.4243051
X-APPLE-STRUCTURED-LOCATION;VALUE=URI;X-ADDRESS=Huntington Arts Council 213 Main Street Huntington NY 11743 United States;X-APPLE-RADIUS=500;X-TITLE=213 Main Street:geo:-73.4243051,40.8721784
END:VEVENT
BEGIN:VEVENT
DTSTART;VALUE=DATE:20240925
DTEND;VALUE=DATE:20241003
DTSTAMP:20260422T221820
CREATED:20240119T204710Z
LAST-MODIFIED:20240502T143902Z
UID:10009171-1727222400-1727913599@www.huntingtonarts.org
SUMMARY:Jan Guarino presents Fearless Watercolors in Italy
DESCRIPTION:From the romance of Romeo & Juliet’s fabled Verona to the lakes district of northeastern Italy\, join Jan as she instructs and paints within this varied landscape inbustling piazzas\, lakefronts\, harbors\, sailboat marinas! We will guide attendees through fabulous excursions to local sites to paint (see suggestions below)\, eat\, spritz and visit villages to shop\, all with plenty of time to paint each morning and during every excursion. \nYou may paint in a travel journal\, on sheets or blocks – bring all your easy watercolor supplies and be prepared to create with the guidance of accomplished painter Jan Guarino! \nWhat a great way to record lasting memories! Each day you will visit a new location in this glorious lakes region of northern Italy. Everyone knows Lake Como because of George Clooney\, but Lake Garda is the real hidden treasure coming down from the foothills of the Alps and plunging into the Veneto area. It is surrounded by dramatic layers of mountains\, colorful towns and olive and lemon groves. We’ll choose different perspectives\, from hilltops to waterfront marinas every day for a few hours of sketching and painting.
URL:https://www.huntingtonarts.org/event/fearless-watercolors-in-italy/
LOCATION:Il Chiostro\, Italy
CATEGORIES:Workshop Classes
ATTACH;FMTTYPE=image/jpeg:https://www.huntingtonarts.org/wp-content/uploads/2023/12/A-Bridge-in-Rome-wm.jpg
ORGANIZER;CN="Jan Guarino":MAILTO:jan@janguarinofineart.com
END:VEVENT
BEGIN:VEVENT
DTSTART;TZID=America/New_York:20241001T130000
DTEND;TZID=America/New_York:20241001T150000
DTSTAMP:20260422T221820
CREATED:20240119T204145Z
LAST-MODIFIED:20240119T204145Z
UID:10008446-1727787600-1727794800@www.huntingtonarts.org
SUMMARY:Fearless Watercolor On-Line Zoom Classes with Jan Guarino
DESCRIPTION:Each week meet me on Zoom for a 2+hr comprehensive class to learn how we paint landscapes\, lighthouses\, animals\, still lifes and florals in watercolors. Learn new techniques and build skills that allow you to enjoy the freedom of watercolors while adding details\, gain control and have fun with beautiful medium. You will receive the photo reference and a contour drawing before the class\, complete instruction and a critique in the class and the recording with my painting after the class.
URL:https://www.huntingtonarts.org/event/fearless-watercolor-on-line-zoom-classes-with-jan-guarino-2/2024-10-01/
LOCATION:Zoom
CATEGORIES:Workshop Classes
ATTACH;FMTTYPE=image/jpeg:https://www.huntingtonarts.org/wp-content/uploads/2023/12/Looking-at-Jupiter-wm.jpg
ORGANIZER;CN="Jan Guarino":MAILTO:jan@janguarinofineart.com
END:VEVENT
BEGIN:VEVENT
DTSTART;TZID=America/New_York:20241005T100000
DTEND;TZID=America/New_York:20241005T130000
DTSTAMP:20260422T221820
CREATED:20240909T143808Z
LAST-MODIFIED:20240909T143944Z
UID:10014230-1728122400-1728133200@www.huntingtonarts.org
SUMMARY:The Art Guild presents Language Art: Engaging Literacy and art (Grades K-2)
DESCRIPTION:Join us for a fun and interactive 1 day workshop designed to boost children’s language skills through engaging literature and creative art. Run by NY licensed speech-language pathologist Jessica Mondillo\, this class will feature a captivating story that sparks imagination and discussion\, followed by a hands-on art project that reinforces language concepts and vocabulary. Through this unique blend of storytelling and artistic expression\, children can enhance their listening\, speaking\, and comprehension skills in a supportive and stimulating environment. Perfect for young learners eager to explore the world of words and creativity! \nLed by Jessica Mondillo.\nJessica is the Founder and CEO of EasySLP\, a telehealth solution that matches people to speech-language pathologists (SLPs) based on their needs. She is a NY-licensed speech-language pathologist (SLP) and has her Certificate of Clinical Competence (CCC) from ASHA. In addition\, she has a NY Teacher of Students with Speech and Language Disabilities (TSSLD) license. Jessica received her Master’s Degree in Communication Disorders from Adelphi University. She currently lives in Garden City and is a mom to 3 young children.
URL:https://www.huntingtonarts.org/event/the-art-guild-of-port-washington-presents-language-art-engaging-literacy-and-art-grades-k-2/
LOCATION:The Art Guild of Port Washington\, 200 Port Washington Boulevard\, Manhasset\, NY\, 11030
CATEGORIES:Children and Family,Workshop Classes
ATTACH;FMTTYPE=image/png:https://www.huntingtonarts.org/wp-content/uploads/2024/08/EasySLP-Language-of-Art-Flyer.pdf.png
ORGANIZER;CN="The Art Guild":MAILTO:info@theartguild.org
END:VEVENT
BEGIN:VEVENT
DTSTART;TZID=America/New_York:20241005T100000
DTEND;TZID=America/New_York:20241005T130000
DTSTAMP:20260422T221820
CREATED:20240909T144427Z
LAST-MODIFIED:20240909T144427Z
UID:10014227-1728122400-1728133200@www.huntingtonarts.org
SUMMARY:The Art Guild presents Chinese Calligraphy with Kevin Yen
DESCRIPTION:Chinese Calligraphy\, Step-by-Step \nIn this 1 day workshop you will learn the correct way of holding the Chinese calligraphy brush and guide you with the right stroke of writing in Traditional Chinese. Once you’ve mastered the stroke of writing I will teach you how to write the word “Love” and/or your name in Chinese. This workshop is for beginners.
URL:https://www.huntingtonarts.org/event/the-art-guild-presents-chinese-calligraphy-with-kevin-yen/
LOCATION:The Art Guild of Port Washington\, 200 Port Washington Boulevard\, Manhasset\, NY\, 11030
CATEGORIES:Workshop Classes
ATTACH;FMTTYPE=image/jpeg:https://www.huntingtonarts.org/wp-content/uploads/2024/08/Chinese-Calligraphy-Love.jpg
ORGANIZER;CN="The Art Guild":MAILTO:info@theartguild.org
END:VEVENT
BEGIN:VEVENT
DTSTART;TZID=America/New_York:20241008T130000
DTEND;TZID=America/New_York:20241008T150000
DTSTAMP:20260422T221820
CREATED:20240119T204145Z
LAST-MODIFIED:20240119T204145Z
UID:10008447-1728392400-1728399600@www.huntingtonarts.org
SUMMARY:Fearless Watercolor On-Line Zoom Classes with Jan Guarino
DESCRIPTION:Each week meet me on Zoom for a 2+hr comprehensive class to learn how we paint landscapes\, lighthouses\, animals\, still lifes and florals in watercolors. Learn new techniques and build skills that allow you to enjoy the freedom of watercolors while adding details\, gain control and have fun with beautiful medium. You will receive the photo reference and a contour drawing before the class\, complete instruction and a critique in the class and the recording with my painting after the class.
URL:https://www.huntingtonarts.org/event/fearless-watercolor-on-line-zoom-classes-with-jan-guarino-2/2024-10-08/
LOCATION:Zoom
CATEGORIES:Workshop Classes
ATTACH;FMTTYPE=image/jpeg:https://www.huntingtonarts.org/wp-content/uploads/2023/12/Looking-at-Jupiter-wm.jpg
ORGANIZER;CN="Jan Guarino":MAILTO:jan@janguarinofineart.com
END:VEVENT
BEGIN:VEVENT
DTSTART;TZID=America/New_York:20241014T080000
DTEND;TZID=America/New_York:20241014T170000
DTSTAMP:20260422T221820
CREATED:20240909T143727Z
LAST-MODIFIED:20240909T143935Z
UID:10014231-1728892800-1728925200@www.huntingtonarts.org
SUMMARY:The Art Guild presents Children's Halloween workshop with Judith Caseley  (No School\, October 14\, 2024)
DESCRIPTION:Halloween Pumpkin Art Workshop!\nCreate a spooky and colorful Halloween keepsake using glass tiles and paint on a wood panel board. Let your imagination run wild as you design your own unique Halloween art to enjoy every year.
URL:https://www.huntingtonarts.org/event/the-art-guild-of-port-washington-presents-childrens-halloween-workshop-with-judith-caseley-no-school-october-14-2024/2024-10-14/1/
LOCATION:The Art Guild of Port Washington\, 200 Port Washington Boulevard\, Manhasset\, NY\, 11030
CATEGORIES:Children and Family,Workshop Classes
ATTACH;FMTTYPE=image/jpeg:https://www.huntingtonarts.org/wp-content/uploads/2024/08/pumpkin-workshop.jpg
ORGANIZER;CN="The Art Guild":MAILTO:info@theartguild.org
END:VEVENT
BEGIN:VEVENT
DTSTART;TZID=America/New_York:20241014T120000
DTEND;TZID=America/New_York:20241014T120000
DTSTAMP:20260422T221820
CREATED:20240909T143727Z
LAST-MODIFIED:20240909T143935Z
UID:10014271-1728907200-1728907200@www.huntingtonarts.org
SUMMARY:The Art Guild presents Children's Halloween workshop with Judith Caseley  (No School\, October 14\, 2024)
DESCRIPTION:Halloween Pumpkin Art Workshop!\nCreate a spooky and colorful Halloween keepsake using glass tiles and paint on a wood panel board. Let your imagination run wild as you design your own unique Halloween art to enjoy every year.
URL:https://www.huntingtonarts.org/event/the-art-guild-of-port-washington-presents-childrens-halloween-workshop-with-judith-caseley-no-school-october-14-2024/2024-10-14/3/
LOCATION:The Art Guild of Port Washington\, 200 Port Washington Boulevard\, Manhasset\, NY\, 11030
CATEGORIES:Children and Family,Workshop Classes
ATTACH;FMTTYPE=image/jpeg:https://www.huntingtonarts.org/wp-content/uploads/2024/08/pumpkin-workshop.jpg
ORGANIZER;CN="The Art Guild":MAILTO:info@theartguild.org
END:VEVENT
BEGIN:VEVENT
DTSTART;TZID=America/New_York:20241015T130000
DTEND;TZID=America/New_York:20241015T150000
DTSTAMP:20260422T221820
CREATED:20240119T204145Z
LAST-MODIFIED:20240119T204145Z
UID:10008448-1728997200-1729004400@www.huntingtonarts.org
SUMMARY:Fearless Watercolor On-Line Zoom Classes with Jan Guarino
DESCRIPTION:Each week meet me on Zoom for a 2+hr comprehensive class to learn how we paint landscapes\, lighthouses\, animals\, still lifes and florals in watercolors. Learn new techniques and build skills that allow you to enjoy the freedom of watercolors while adding details\, gain control and have fun with beautiful medium. You will receive the photo reference and a contour drawing before the class\, complete instruction and a critique in the class and the recording with my painting after the class.
URL:https://www.huntingtonarts.org/event/fearless-watercolor-on-line-zoom-classes-with-jan-guarino-2/2024-10-15/
LOCATION:Zoom
CATEGORIES:Workshop Classes
ATTACH;FMTTYPE=image/jpeg:https://www.huntingtonarts.org/wp-content/uploads/2023/12/Looking-at-Jupiter-wm.jpg
ORGANIZER;CN="Jan Guarino":MAILTO:jan@janguarinofineart.com
END:VEVENT
BEGIN:VEVENT
DTSTART;TZID=America/New_York:20241019T120000
DTEND;TZID=America/New_York:20241019T130000
DTSTAMP:20260422T221820
CREATED:20240912T172703Z
LAST-MODIFIED:20240912T172703Z
UID:10014426-1729339200-1729342800@www.huntingtonarts.org
SUMMARY:The Whaling Museum presents Felted Pumpkins Workshop
DESCRIPTION:Saturday\, October 19 | Adults & Kids 12+\n12:00pm & 2:00pm\nIt’s time to get felty! Did you know whalers often carved knitting needles\nand sewing tools out of whalebone? See examples from our collection\,\nthen use a felting needle yourself to craft a colorful fall pumpkin!\n$10 Participant; $5 Museum Members
URL:https://www.huntingtonarts.org/event/the-whaling-museum-presents-felted-pumpkins-workshop/2024-10-19/1/
LOCATION:The Whaling Museum & Education Center of Cold Spring Harbor\, 301 Main Street\, Cold Spring Harbor\, NY\, 11724\, United States
CATEGORIES:Art Demo,Children and Family,Workshop Classes
ATTACH;FMTTYPE=image/jpeg:https://www.huntingtonarts.org/wp-content/uploads/2024/09/Photo-Felted-Pumpkin.jpeg
ORGANIZER;CN="The Whaling Museum and Education Center":MAILTO:jpalumbo@cshwhalingmuseum.org
GEO:40.8724711;-73.4536788
X-APPLE-STRUCTURED-LOCATION;VALUE=URI;X-ADDRESS=The Whaling Museum & Education Center of Cold Spring Harbor 301 Main Street Cold Spring Harbor NY 11724 United States;X-APPLE-RADIUS=500;X-TITLE=301 Main Street:geo:-73.4536788,40.8724711
END:VEVENT
BEGIN:VEVENT
DTSTART;TZID=America/New_York:20241019T140000
DTEND;TZID=America/New_York:20241019T150000
DTSTAMP:20260422T221820
CREATED:20240912T172703Z
LAST-MODIFIED:20240912T172703Z
UID:10014427-1729346400-1729350000@www.huntingtonarts.org
SUMMARY:The Whaling Museum presents Felted Pumpkins Workshop
DESCRIPTION:Saturday\, October 19 | Adults & Kids 12+\n12:00pm & 2:00pm\nIt’s time to get felty! Did you know whalers often carved knitting needles\nand sewing tools out of whalebone? See examples from our collection\,\nthen use a felting needle yourself to craft a colorful fall pumpkin!\n$10 Participant; $5 Museum Members
URL:https://www.huntingtonarts.org/event/the-whaling-museum-presents-felted-pumpkins-workshop/2024-10-19/2/
LOCATION:The Whaling Museum & Education Center of Cold Spring Harbor\, 301 Main Street\, Cold Spring Harbor\, NY\, 11724\, United States
CATEGORIES:Art Demo,Children and Family,Workshop Classes
ATTACH;FMTTYPE=image/jpeg:https://www.huntingtonarts.org/wp-content/uploads/2024/09/Photo-Felted-Pumpkin.jpeg
ORGANIZER;CN="The Whaling Museum and Education Center":MAILTO:jpalumbo@cshwhalingmuseum.org
GEO:40.8724711;-73.4536788
X-APPLE-STRUCTURED-LOCATION;VALUE=URI;X-ADDRESS=The Whaling Museum & Education Center of Cold Spring Harbor 301 Main Street Cold Spring Harbor NY 11724 United States;X-APPLE-RADIUS=500;X-TITLE=301 Main Street:geo:-73.4536788,40.8724711
END:VEVENT
BEGIN:VEVENT
DTSTART;TZID=America/New_York:20241022T130000
DTEND;TZID=America/New_York:20241022T150000
DTSTAMP:20260422T221820
CREATED:20240119T204145Z
LAST-MODIFIED:20240119T204145Z
UID:10008449-1729602000-1729609200@www.huntingtonarts.org
SUMMARY:Fearless Watercolor On-Line Zoom Classes with Jan Guarino
DESCRIPTION:Each week meet me on Zoom for a 2+hr comprehensive class to learn how we paint landscapes\, lighthouses\, animals\, still lifes and florals in watercolors. Learn new techniques and build skills that allow you to enjoy the freedom of watercolors while adding details\, gain control and have fun with beautiful medium. You will receive the photo reference and a contour drawing before the class\, complete instruction and a critique in the class and the recording with my painting after the class.
URL:https://www.huntingtonarts.org/event/fearless-watercolor-on-line-zoom-classes-with-jan-guarino-2/2024-10-22/
LOCATION:Zoom
CATEGORIES:Workshop Classes
ATTACH;FMTTYPE=image/jpeg:https://www.huntingtonarts.org/wp-content/uploads/2023/12/Looking-at-Jupiter-wm.jpg
ORGANIZER;CN="Jan Guarino":MAILTO:jan@janguarinofineart.com
END:VEVENT
BEGIN:VEVENT
DTSTART;TZID=America/New_York:20241023T183000
DTEND;TZID=America/New_York:20241023T200000
DTSTAMP:20260422T221820
CREATED:20240919T144930Z
LAST-MODIFIED:20240919T144930Z
UID:10014433-1729708200-1729713600@www.huntingtonarts.org
SUMMARY:The Whaling Museum presents Beyond the Book: The Underworld: Journeys to the Depths of the Ocean by Susan Casey
DESCRIPTION:Wednesday\, October 23 | Adults\n6:30 – 8pm\nThe Underworld: Journeys to the Depths of the Ocean by Susan Casey\nHave you ever wondered what lurks in the darkest depths of the ocean? New technologies are increasingly revealing the secrets that hide in the deepest parts of the planet. Through interviews with scientists and explorers\, Casey’s writing shines a light on the mysterious and exotic underworld of the deep ocean and the wondrous creatures who live there. Enjoy a special guided tour of the museum’s new special exhibit\, Monsters & Mermaids\, and discover how the deep sea has been inspiring humans for centuries.\n$15 Participant; Free for Museum Members & Patrons of Cold Spring Harbor\, Huntington & South Huntington Libraries
URL:https://www.huntingtonarts.org/event/the-whaling-museum-presents-beyond-the-book-the-underworld-journeys-to-the-depths-of-the-ocean-by-susan-casey/
LOCATION:The Whaling Museum & Education Center of Cold Spring Harbor\, 301 Main Street\, Cold Spring Harbor\, NY\, 11724\, United States
CATEGORIES:Exhibitions,Film/Media,Lectures,Workshop Classes
ATTACH;FMTTYPE=image/jpeg:https://www.huntingtonarts.org/wp-content/uploads/2024/09/Photo-Beyond-the-Book-The-Underworld.jpeg
ORGANIZER;CN="The Whaling Museum and Education Center":MAILTO:jpalumbo@cshwhalingmuseum.org
GEO:40.8724711;-73.4536788
X-APPLE-STRUCTURED-LOCATION;VALUE=URI;X-ADDRESS=The Whaling Museum & Education Center of Cold Spring Harbor 301 Main Street Cold Spring Harbor NY 11724 United States;X-APPLE-RADIUS=500;X-TITLE=301 Main Street:geo:-73.4536788,40.8724711
END:VEVENT
BEGIN:VEVENT
DTSTART;TZID=America/New_York:20241025T100000
DTEND;TZID=America/New_York:20241026T160000
DTSTAMP:20260422T221820
CREATED:20240909T144407Z
LAST-MODIFIED:20240909T144407Z
UID:10014228-1729850400-1729958400@www.huntingtonarts.org
SUMMARY:The Art Guild presents Beachy Waves with Christine D’Addario
DESCRIPTION:Christine is excited to share her secrets to painting the perfect beach day in this 2 day workshop! All levels are welcome. \nThe first day will begin with a beachscape demonstration. She will be providing reference photography from her collection. You are also welcomed to use special photos of your own\, so with Summer around the corner start preparing your photos.\nThe second day we will dive into wave painting! Christine will share various approaches to creating a seascape that conveys light and joy. Her goal is for you to have fun and to take home fresh artwork that will keep you smiling and bring happiness all year long. \n“To provide the viewer with a sense of calm\, joy or awe through my work is the greatest reward of all.”
URL:https://www.huntingtonarts.org/event/the-art-guild-presents-beachy-waves-with-christine-daddario/
LOCATION:The Art Guild of Port Washington\, 200 Port Washington Boulevard\, Manhasset\, NY\, 11030
CATEGORIES:Workshop Classes
ATTACH;FMTTYPE=image/jpeg:https://www.huntingtonarts.org/wp-content/uploads/2024/08/CDAddario_30x48in_A_New_Day_2022.jpg
ORGANIZER;CN="The Art Guild":MAILTO:info@theartguild.org
END:VEVENT
BEGIN:VEVENT
DTSTART;TZID=America/New_York:20241029T100000
DTEND;TZID=America/New_York:20241029T130000
DTSTAMP:20260422T221820
CREATED:20240909T144548Z
LAST-MODIFIED:20240909T144548Z
UID:10014219-1730196000-1730206800@www.huntingtonarts.org
SUMMARY:The Art Guild presents Mosaic Creations – 1 Day Workshop All supplies included
DESCRIPTION:Awaken your inner artist with a Mosaic Design workshop! \nTransform colorful pieces of glass and ceramic tile into stunning mosaics! In this beginner-friendly workshop\, you’ll learn the fundamentals of mosaic art\, from choosing materials and cutting techniques to adhering tiles and grouting your masterpiece. Be prepared to have fun! \nNo prior experience needed! Judith will guide you through every step\, providing helpful tips and tricks along the way. You’ll have the freedom to create your own unique design on a wooden panel\, with ONE of the designs listed: \n-a letter (your first initial or a loved one’s)\n-a flower\n-a heart\n-a simple animal \nJudith will help you draw the design on the panel\, learn to cut and lay tile. You will take your mosaic home with grout and instructions. Creating Mosaics is very forgiving…no matter what you’ve created\, when it’s grouted\, it will be great. \nWhat you’ll get:\n• All materials included (tiles\, adhesives\, grout\, tools) provided by The Art Guild\n• Step-by-step instruction from a knowledgeable instructor\n• Fun and creative atmosphere to explore your artistic side\n• A one-of-a-kind mosaic creation to take home! \nWhat to Bring:\nSimplicity is key…just think of a design.\nWe will provide glass nippers to share\, if you have\, do bring them. Home Depot or Amazon sells them for around $20.\nOptional: safety glasses or goggles \n“I discovered mosaics ten years ago\, and spent three years doing the mosaics for the children’s book\, Z is for Zebra: a Mosaic Menagerie. By the time I got to Zebra\, mosaics had become my passion. I developed my own style\, and would love to show. Mosaic making is FUN!”\n—Judith Caseley \nReady to unleash your creativity? Sign up today and discover the joy of mosaic art! \nLevel: Beginners\nAdults or children 10 and older
URL:https://www.huntingtonarts.org/event/the-art-guild-presents-mosaic-creations-1-day-workshop-all-supplies-included/
LOCATION:The Art Guild of Port Washington\, 200 Port Washington Boulevard\, Manhasset\, NY\, 11030
CATEGORIES:Workshop Classes
ATTACH;FMTTYPE=image/jpeg:https://www.huntingtonarts.org/wp-content/uploads/2024/08/photo1.jpg
ORGANIZER;CN="The Art Guild":MAILTO:info@theartguild.org
END:VEVENT
BEGIN:VEVENT
DTSTART;TZID=America/New_York:20241029T130000
DTEND;TZID=America/New_York:20241029T150000
DTSTAMP:20260422T221820
CREATED:20240119T204145Z
LAST-MODIFIED:20240119T204145Z
UID:10008450-1730206800-1730214000@www.huntingtonarts.org
SUMMARY:Fearless Watercolor On-Line Zoom Classes with Jan Guarino
DESCRIPTION:Each week meet me on Zoom for a 2+hr comprehensive class to learn how we paint landscapes\, lighthouses\, animals\, still lifes and florals in watercolors. Learn new techniques and build skills that allow you to enjoy the freedom of watercolors while adding details\, gain control and have fun with beautiful medium. You will receive the photo reference and a contour drawing before the class\, complete instruction and a critique in the class and the recording with my painting after the class.
URL:https://www.huntingtonarts.org/event/fearless-watercolor-on-line-zoom-classes-with-jan-guarino-2/2024-10-29/
LOCATION:Zoom
CATEGORIES:Workshop Classes
ATTACH;FMTTYPE=image/jpeg:https://www.huntingtonarts.org/wp-content/uploads/2023/12/Looking-at-Jupiter-wm.jpg
ORGANIZER;CN="Jan Guarino":MAILTO:jan@janguarinofineart.com
END:VEVENT
END:VCALENDAR