BEGIN:VCALENDAR
VERSION:2.0
PRODID:-//Huntington Arts Council - ECPv6.15.20//NONSGML v1.0//EN
CALSCALE:GREGORIAN
METHOD:PUBLISH
X-WR-CALNAME:Huntington Arts Council
X-ORIGINAL-URL:https://www.huntingtonarts.org
X-WR-CALDESC:Events for Huntington Arts Council
REFRESH-INTERVAL;VALUE=DURATION:PT1H
X-Robots-Tag:noindex
X-PUBLISHED-TTL:PT1H
BEGIN:VTIMEZONE
TZID:America/New_York
BEGIN:DAYLIGHT
TZOFFSETFROM:-0500
TZOFFSETTO:-0400
TZNAME:EDT
DTSTART:20230312T070000
END:DAYLIGHT
BEGIN:STANDARD
TZOFFSETFROM:-0400
TZOFFSETTO:-0500
TZNAME:EST
DTSTART:20231105T060000
END:STANDARD
BEGIN:DAYLIGHT
TZOFFSETFROM:-0500
TZOFFSETTO:-0400
TZNAME:EDT
DTSTART:20240310T070000
END:DAYLIGHT
BEGIN:STANDARD
TZOFFSETFROM:-0400
TZOFFSETTO:-0500
TZNAME:EST
DTSTART:20241103T060000
END:STANDARD
BEGIN:DAYLIGHT
TZOFFSETFROM:-0500
TZOFFSETTO:-0400
TZNAME:EDT
DTSTART:20250309T070000
END:DAYLIGHT
BEGIN:STANDARD
TZOFFSETFROM:-0400
TZOFFSETTO:-0500
TZNAME:EST
DTSTART:20251102T060000
END:STANDARD
END:VTIMEZONE
BEGIN:VEVENT
DTSTART;TZID=America/New_York:20240502T110000
DTEND;TZID=America/New_York:20241212T140000
DTSTAMP:20260423T004632
CREATED:20240425T171843Z
LAST-MODIFIED:20240425T172221Z
UID:10010919-1714647600-1734012000@www.huntingtonarts.org
SUMMARY:Fearless Watercolor In-Person Classes with Jan Guarino
DESCRIPTION:Watercolors are thought to be an unforgiving medium and the hardest to learn. I teach the beauty of how forgiving the medium really by painting landscapes\, florals\, waterscapes\, still lifes\, people… we paint anything and all things! \nYou will gain a new skill\, a deeper understanding of the medium and lose the fear around watercolors\, have fun and develop tangible ideas that they can use way beyond these classes. I simply LOVE this medium and long to embrace the unexpected and unusual effects of watercolors and integrate them into my paintings. \nCome in and lose your fear\, gain skills and find your style! Every Thursday at the Huntington Arts Council Gallery
URL:https://www.huntingtonarts.org/event/fearless-watercolor-in-person-classes-with-jan-guarino-3/
LOCATION:Huntington Arts Council\, 213 Main Street\, Huntington\, NY\, 11743\, United States
CATEGORIES:Workshop Classes
ATTACH;FMTTYPE=image/jpeg:https://www.huntingtonarts.org/wp-content/uploads/2024/04/White-Flight-wm.jpg
ORGANIZER;CN="Jan Guarino":MAILTO:jan@janguarinofineart.com
GEO:40.8721784;-73.4243051
X-APPLE-STRUCTURED-LOCATION;VALUE=URI;X-ADDRESS=Huntington Arts Council 213 Main Street Huntington NY 11743 United States;X-APPLE-RADIUS=500;X-TITLE=213 Main Street:geo:-73.4243051,40.8721784
END:VEVENT
BEGIN:VEVENT
DTSTART;TZID=America/New_York:20240806T130000
DTEND;TZID=America/New_York:20240806T150000
DTSTAMP:20260423T004632
CREATED:20240119T204145Z
LAST-MODIFIED:20240119T204145Z
UID:10008438-1722949200-1722956400@www.huntingtonarts.org
SUMMARY:Fearless Watercolor On-Line Zoom Classes with Jan Guarino
DESCRIPTION:Each week meet me on Zoom for a 2+hr comprehensive class to learn how we paint landscapes\, lighthouses\, animals\, still lifes and florals in watercolors. Learn new techniques and build skills that allow you to enjoy the freedom of watercolors while adding details\, gain control and have fun with beautiful medium. You will receive the photo reference and a contour drawing before the class\, complete instruction and a critique in the class and the recording with my painting after the class.
URL:https://www.huntingtonarts.org/event/fearless-watercolor-on-line-zoom-classes-with-jan-guarino-2/2024-08-06/
LOCATION:Zoom
CATEGORIES:Workshop Classes
ATTACH;FMTTYPE=image/jpeg:https://www.huntingtonarts.org/wp-content/uploads/2023/12/Looking-at-Jupiter-wm.jpg
ORGANIZER;CN="Jan Guarino":MAILTO:jan@janguarinofineart.com
END:VEVENT
BEGIN:VEVENT
DTSTART;TZID=America/New_York:20240806T180000
DTEND;TZID=America/New_York:20240806T203000
DTSTAMP:20260423T004632
CREATED:20240502T142733Z
LAST-MODIFIED:20240502T142733Z
UID:10011767-1722967200-1722976200@www.huntingtonarts.org
SUMMARY:Galina Carroll presents Handwoven Tapestry Pendant Workshop
DESCRIPTION:If you’re captivated by the beauty of handwoven tapestry artwork and eager to learn your own craft\, this workshop is made for you. During this class we will focus on creating miniature jewelry piece. Using Japanese paper yarn and simple weaving technique you will have the opportunity to craft your own unique pattern for stunning pendant. All materials will be provided and as a keepsake you will leave with your own mini loom\, ready to make a present for your loved one.\nRegistrations will be opened on the website of Huntington Historical Society closer to the event.
URL:https://www.huntingtonarts.org/event/galina-carroll-presents-handwoven-tapestry-pendant-workshop/
LOCATION:Huntington Historical Society\, 209 Main Street\, Huntington\, NY\, 11743\, United States
CATEGORIES:Workshop Classes
ATTACH;FMTTYPE=image/jpeg:https://www.huntingtonarts.org/wp-content/uploads/2024/05/Workshop.jpeg
END:VEVENT
BEGIN:VEVENT
DTSTART;TZID=America/New_York:20240810T180000
DTEND;TZID=America/New_York:20240810T200000
DTSTAMP:20260423T004632
CREATED:20240506T163549Z
LAST-MODIFIED:20240803T023336Z
UID:10011771-1723312800-1723320000@www.huntingtonarts.org
SUMMARY:New York Dance Theatre\, Inc. presents Gold Coast Dance Festival
DESCRIPTION:Open to the public\, this wonderful evening showcases dance as an art form and cultural celebration.\nEnjoy the setting sun over Hempstead Harbor while watching some of the countries top artists including dancers from New York City Ballet\, Dance Theatre of Harlem\, Broadway\, Pennsylvania Ballet\, San Francisco Ballet\, and so many more. Every year GCDF hosts a wide array of Folkloric dancers representing regions from around the world including but not limited to Mexico\, Japan\, China\, the Middle East\, and Africa\, making this a very unique evening for all families to enjoy! This year we welcome 4 world premieres by Skyla Schreter\, Fadi Khoury\, Keerati Jinakunwiphat and Da’ Don Doane.\nThe event is free to the public\, though we recommend a $20 donation to help keep our mission alive and thriving throughout the year. This festival acts a gateway for many young artists to connect with resources that are necessary in pursuing a career in dance and our Développé program connecting at-risk youth with dance through free workshops\, classes\, and scholarships.\nThe Gold Coast Dance Festival is scheduled every first Saturday in August at 6pm in Morgan Memorial Park in Glen Cove. The rain date is the following Saturday. Please bring your family and some friends\, a snack and a blanket or chair and enjoy an evening unlike any other on Long Island!\nSurrounding the event the public may enjoy workshops and classes hosted by New York Dance Theatre and led by leading artists from Broadway and beyond. Please follow us at @newyorkdancetheatre for more information.
URL:https://www.huntingtonarts.org/event/new-york-dance-theatre-inc-presents-gold-coast-dance-festival/
LOCATION:Morgan Memorial Park\, Germaine St\, Glen Cove\, 11542\, United States
CATEGORIES:Children and Family,Dance,Theater,Workshop Classes
ATTACH;FMTTYPE=image/png:https://www.huntingtonarts.org/wp-content/uploads/2024/05/GOLD-COAST-DANCE-FESTIVAL-PROMO.png
ORGANIZER;CN="New York Dance Theatre%2C Inc.":MAILTO:office@ohmanballet.com
END:VEVENT
BEGIN:VEVENT
DTSTART;TZID=America/New_York:20240813T130000
DTEND;TZID=America/New_York:20240813T150000
DTSTAMP:20260423T004632
CREATED:20240119T204145Z
LAST-MODIFIED:20240119T204145Z
UID:10008439-1723554000-1723561200@www.huntingtonarts.org
SUMMARY:Fearless Watercolor On-Line Zoom Classes with Jan Guarino
DESCRIPTION:Each week meet me on Zoom for a 2+hr comprehensive class to learn how we paint landscapes\, lighthouses\, animals\, still lifes and florals in watercolors. Learn new techniques and build skills that allow you to enjoy the freedom of watercolors while adding details\, gain control and have fun with beautiful medium. You will receive the photo reference and a contour drawing before the class\, complete instruction and a critique in the class and the recording with my painting after the class.
URL:https://www.huntingtonarts.org/event/fearless-watercolor-on-line-zoom-classes-with-jan-guarino-2/2024-08-13/
LOCATION:Zoom
CATEGORIES:Workshop Classes
ATTACH;FMTTYPE=image/jpeg:https://www.huntingtonarts.org/wp-content/uploads/2023/12/Looking-at-Jupiter-wm.jpg
ORGANIZER;CN="Jan Guarino":MAILTO:jan@janguarinofineart.com
END:VEVENT
BEGIN:VEVENT
DTSTART;TZID=America/New_York:20240820T130000
DTEND;TZID=America/New_York:20240820T150000
DTSTAMP:20260423T004632
CREATED:20240119T204145Z
LAST-MODIFIED:20240119T204145Z
UID:10008440-1724158800-1724166000@www.huntingtonarts.org
SUMMARY:Fearless Watercolor On-Line Zoom Classes with Jan Guarino
DESCRIPTION:Each week meet me on Zoom for a 2+hr comprehensive class to learn how we paint landscapes\, lighthouses\, animals\, still lifes and florals in watercolors. Learn new techniques and build skills that allow you to enjoy the freedom of watercolors while adding details\, gain control and have fun with beautiful medium. You will receive the photo reference and a contour drawing before the class\, complete instruction and a critique in the class and the recording with my painting after the class.
URL:https://www.huntingtonarts.org/event/fearless-watercolor-on-line-zoom-classes-with-jan-guarino-2/2024-08-20/
LOCATION:Zoom
CATEGORIES:Workshop Classes
ATTACH;FMTTYPE=image/jpeg:https://www.huntingtonarts.org/wp-content/uploads/2023/12/Looking-at-Jupiter-wm.jpg
ORGANIZER;CN="Jan Guarino":MAILTO:jan@janguarinofineart.com
END:VEVENT
BEGIN:VEVENT
DTSTART;TZID=America/New_York:20240827T130000
DTEND;TZID=America/New_York:20240827T150000
DTSTAMP:20260423T004632
CREATED:20240119T204145Z
LAST-MODIFIED:20240119T204145Z
UID:10008441-1724763600-1724770800@www.huntingtonarts.org
SUMMARY:Fearless Watercolor On-Line Zoom Classes with Jan Guarino
DESCRIPTION:Each week meet me on Zoom for a 2+hr comprehensive class to learn how we paint landscapes\, lighthouses\, animals\, still lifes and florals in watercolors. Learn new techniques and build skills that allow you to enjoy the freedom of watercolors while adding details\, gain control and have fun with beautiful medium. You will receive the photo reference and a contour drawing before the class\, complete instruction and a critique in the class and the recording with my painting after the class.
URL:https://www.huntingtonarts.org/event/fearless-watercolor-on-line-zoom-classes-with-jan-guarino-2/2024-08-27/
LOCATION:Zoom
CATEGORIES:Workshop Classes
ATTACH;FMTTYPE=image/jpeg:https://www.huntingtonarts.org/wp-content/uploads/2023/12/Looking-at-Jupiter-wm.jpg
ORGANIZER;CN="Jan Guarino":MAILTO:jan@janguarinofineart.com
END:VEVENT
END:VCALENDAR