BEGIN:VCALENDAR
VERSION:2.0
PRODID:-//Huntington Arts Council - ECPv6.15.20//NONSGML v1.0//EN
CALSCALE:GREGORIAN
METHOD:PUBLISH
X-ORIGINAL-URL:https://www.huntingtonarts.org
X-WR-CALDESC:Events for Huntington Arts Council
REFRESH-INTERVAL;VALUE=DURATION:PT1H
X-Robots-Tag:noindex
X-PUBLISHED-TTL:PT1H
BEGIN:VTIMEZONE
TZID:America/New_York
BEGIN:DAYLIGHT
TZOFFSETFROM:-0500
TZOFFSETTO:-0400
TZNAME:EDT
DTSTART:20210314T070000
END:DAYLIGHT
BEGIN:STANDARD
TZOFFSETFROM:-0400
TZOFFSETTO:-0500
TZNAME:EST
DTSTART:20211107T060000
END:STANDARD
BEGIN:DAYLIGHT
TZOFFSETFROM:-0500
TZOFFSETTO:-0400
TZNAME:EDT
DTSTART:20220313T070000
END:DAYLIGHT
BEGIN:STANDARD
TZOFFSETFROM:-0400
TZOFFSETTO:-0500
TZNAME:EST
DTSTART:20221106T060000
END:STANDARD
BEGIN:DAYLIGHT
TZOFFSETFROM:-0500
TZOFFSETTO:-0400
TZNAME:EDT
DTSTART:20230312T070000
END:DAYLIGHT
BEGIN:STANDARD
TZOFFSETFROM:-0400
TZOFFSETTO:-0500
TZNAME:EST
DTSTART:20231105T060000
END:STANDARD
BEGIN:DAYLIGHT
TZOFFSETFROM:-0500
TZOFFSETTO:-0400
TZNAME:EDT
DTSTART:20240310T070000
END:DAYLIGHT
BEGIN:STANDARD
TZOFFSETFROM:-0400
TZOFFSETTO:-0500
TZNAME:EST
DTSTART:20241103T060000
END:STANDARD
BEGIN:DAYLIGHT
TZOFFSETFROM:-0500
TZOFFSETTO:-0400
TZNAME:EDT
DTSTART:20250309T070000
END:DAYLIGHT
BEGIN:STANDARD
TZOFFSETFROM:-0400
TZOFFSETTO:-0500
TZNAME:EST
DTSTART:20251102T060000
END:STANDARD
BEGIN:DAYLIGHT
TZOFFSETFROM:-0500
TZOFFSETTO:-0400
TZNAME:EDT
DTSTART:20260308T070000
END:DAYLIGHT
BEGIN:STANDARD
TZOFFSETFROM:-0400
TZOFFSETTO:-0500
TZNAME:EST
DTSTART:20261101T060000
END:STANDARD
BEGIN:DAYLIGHT
TZOFFSETFROM:-0500
TZOFFSETTO:-0400
TZNAME:EDT
DTSTART:20270314T070000
END:DAYLIGHT
BEGIN:STANDARD
TZOFFSETFROM:-0400
TZOFFSETTO:-0500
TZNAME:EST
DTSTART:20271107T060000
END:STANDARD
END:VTIMEZONE
BEGIN:VEVENT
DTSTART;TZID=America/New_York:20260308T100000
DTEND;TZID=America/New_York:20260308T120000
DTSTAMP:20260421T200543
CREATED:20260227T195457Z
LAST-MODIFIED:20260227T195656Z
UID:10022439-1772964000-1772971200@www.huntingtonarts.org
SUMMARY:Huntington Arts Council\, Long Island Grants for the Arts Artist Fellowship Performer Spotlight Celebrating International Women’s Day at the Reboli Center
DESCRIPTION:As part of our Artist Fellowship Experience\, The Reboli Center will host a special International Women’s Day celebration honoring the creativity\, strength\, and artistic excellence of women in the arts. This inspiring morning program features performances by LI Grants for the Arts\, Artist Fellows Jessica Payes\, Michelle La Porte\, and Margarita Espada\, three dynamic artists whose work reflects the power and diversity of women’s voices. Through spoken word\, music\, and performance\, they will share artistry that is bold\, expressive\, and impactful. Free to attend by R.S.V.P only. Reserve your spot at ReboliCenter.org
URL:https://www.huntingtonarts.org/event/huntington-art-council-long-island-grants-for-the-arts-artist-fellowship-performer-spotlight-celebrating-international-womens-day-at-the-reboli-center/
LOCATION:The Reboli Center for Art and History\, 64 Main Street\, Stony Brook\, 11709\, United States
CATEGORIES:Dance,Music,Poetry
ATTACH;FMTTYPE=image/png:https://www.huntingtonarts.org/wp-content/uploads/2026/02/PERFORMER-SPOTLIGHT-1.png
ORGANIZER;CN="Huntington Arts Council%2C Inc.":MAILTO:info@huntingtonarts.org
END:VEVENT
BEGIN:VEVENT
DTSTART;TZID=America/New_York:20251009T180000
DTEND;TZID=America/New_York:20251009T200000
DTSTAMP:20260421T200543
CREATED:20250507T175332Z
LAST-MODIFIED:20250507T175332Z
UID:10015618-1760032800-1760040000@www.huntingtonarts.org
SUMMARY:Adriana Devers presents Latinx Arts Festival & Book Fair
DESCRIPTION:In observance of Hispanic Heritage Month join us is celebrating the vibrant works of latine authors\, visual artists\, musicians\, and performers. This immersive 3 day experience aims to empower and honor the rich traditions of our Latine/Hispanic community. In addition to the vibrant arts showcase\, the festival will have interactive workshops\, educational activities for all ages\, and opportunities for community engagement.\nOctober 9\, 2025 Day One – Grand Opening Showcase @ Westbury Memorial Public Library 6 p.m. – 8 p.m.\nOctober 10\, 2025 Day Two- Scholar Day – for students 5th-12th grades only (schools must register by July 1\, 2025) Nassau Community College 9 a.m. – 2p.m.\nOctober 11\, 2025 Day Three – Open to the public @ Nassau Community College 11 a.m. – 6 p.m.
URL:https://www.huntingtonarts.org/event/adriana-devers-presents-latinx-arts-festival-book-fair/
LOCATION:Westbury Library | Nassau Community College\, United States
CATEGORIES:Children and Family,Dance,Miscellaneous,Music,Poetry
ATTACH;FMTTYPE=image/jpeg:https://www.huntingtonarts.org/wp-content/uploads/2025/05/2025-Latinx-Arts-Fest-Flyer-1.jpg
ORGANIZER;CN="Adriana Devers":MAILTO:cuentosdetriadas@gmail.com
END:VEVENT
BEGIN:VEVENT
DTSTART;TZID=America/New_York:20250622T170000
DTEND;TZID=America/New_York:20250622T210000
DTSTAMP:20260421T200543
CREATED:20250617T135708Z
LAST-MODIFIED:20250617T135708Z
UID:10015654-1750611600-1750626000@www.huntingtonarts.org
SUMMARY:The Scene LI presents 2 Year Anniversary Banquet Fundraiser Showcase
DESCRIPTION:Let’s celebrate Art & Poetry at The Scene Life’s 2nd Anniversary Banquet & Showcase! Join us as we do what we do best\, highlight and feature different platforms and curators that we’ve featured in our magazine over the years! Enjoy an Art Auction to support the magazine featuring amazing local Long Island artists including Huntington Arts Council Artist Members! Feast on delicious food\, sip on tasty drinks\, and dance the night away to music by DJ Rocka. \nWhether you’ve been with us from the beginning or are just discovering The Scene Life for the first time\, this is a party you won’t want to miss. So mark your calendars\, grab your friends\, and get ready to toast to another year of creating creative oasis in artistic deserts and growing empathy on the front lines of community engagement. See you there!
URL:https://www.huntingtonarts.org/event/the-scene-li-presents-2-year-anniversary-banquet-fundraiser-showcase/
LOCATION:American Legion Post 1066\, 66 Veterans Boulevard\, Massepequa\, 11758\, United States
CATEGORIES:Exhibitions,Miscellaneous,Music,Poetry
ATTACH;FMTTYPE=image/png:https://www.huntingtonarts.org/wp-content/uploads/2025/06/Screenshot-2025-06-16-174232.png
ORGANIZER;CN="The Scene":MAILTO:info@thescene.life
END:VEVENT
BEGIN:VEVENT
DTSTART;TZID=America/New_York:20250508T170000
DTEND;TZID=America/New_York:20250508T183000
DTSTAMP:20260421T200543
CREATED:20250501T173713Z
LAST-MODIFIED:20250501T173713Z
UID:10015608-1746723600-1746729000@www.huntingtonarts.org
SUMMARY:Hofstra University Museum of Art presents Bart Edelman: A Poetic Retrospective
DESCRIPTION:Bart Edelman returns to Hofstra University for a reading from his new book\, This Body Is Never at Rest: Selected Poems 1993 – 2023\, published by Meadowlark Press. His literary works are archived in the University’s Special Collections. This reading of Edelman’s poetry and the breadth of his work allows the audience to hear how Hofstra has been a pivotal and integral part of his development as a writer with roots that have taken shape here on campus – and beyond. \nEdelman received his undergraduate and graduate degrees from Hofstra and was fortunate to study with Frank Lambasa\, Leo Gurko\, Stanley Brodwin\, and William Hull. Collections of his work include Crossing the Hackensack\, Under Damaris’ Dress\, The Alphabet of Love\, The Gentle Man\, The Last Mojito\, The Geographer’s Wife\, and Whistling to Trick the Wind. He has taught at Kingsborough Community College of the City University of New York\, Santa Monica College\, West Los Angeles College\, Long Beach City College\, UCLA\, and Glendale College. Most recently\, he was appointed to the Affiliate Faculty in the MFA program at Antioch University\, Los Angeles. Edelman served as Poet-in-Residence at Monroe College of the State University of New York. \nHe currently lives in Pasadena\, California. \nSeating is capped at 40 guests.\nAdmission is free.\nRSVP to 516-463-5672
URL:https://www.huntingtonarts.org/event/hofstra-university-museum-of-art-presents-bart-edelman-a-poetic-retrospective/
LOCATION:Hofstra University Museum – Emily Lowe Gallery\, Hempstead Turnpike\, Hempstead\, 11549
CATEGORIES:Exhibitions,Lectures,Poetry
ATTACH;FMTTYPE=image/jpeg:https://www.huntingtonarts.org/wp-content/uploads/2025/05/bart-edelman.jpg
GEO:40.8088397;-73.6309902
X-APPLE-STRUCTURED-LOCATION;VALUE=URI;X-ADDRESS=Hofstra University Museum – Emily Lowe Gallery Hempstead Turnpike Hempstead 11549;X-APPLE-RADIUS=500;X-TITLE=Hempstead Turnpike:geo:-73.6309902,40.8088397
END:VEVENT
BEGIN:VEVENT
DTSTART;TZID=America/New_York:20241213T190000
DTEND;TZID=America/New_York:20241213T203000
DTSTAMP:20260421T200543
CREATED:20241122T150002Z
LAST-MODIFIED:20241122T150002Z
UID:10014883-1734116400-1734121800@www.huntingtonarts.org
SUMMARY:b.j spoke gallery presents Poets Aloud
DESCRIPTION:Group poetry reading\, Q & A and open mike. Josie Bello will be providing musical interludes.
URL:https://www.huntingtonarts.org/event/b-j-spoke-gallery-presents-poets-aloud/
LOCATION:b.j. spoke gallery\, 299 Main Street\, Huntington\, NY\, 11743\, United States
CATEGORIES:Poetry
ATTACH;FMTTYPE=image/png:https://www.huntingtonarts.org/wp-content/uploads/2024/11/Poets-Aloud-2024-flier.png
GEO:40.8712044;-73.4281258
X-APPLE-STRUCTURED-LOCATION;VALUE=URI;X-ADDRESS=b.j. spoke gallery 299 Main Street Huntington NY 11743 United States;X-APPLE-RADIUS=500;X-TITLE=299 Main Street:geo:-73.4281258,40.8712044
END:VEVENT
BEGIN:VEVENT
DTSTART;TZID=America/New_York:20240920T180000
DTEND;TZID=America/New_York:20240920T200000
DTSTAMP:20260421T200543
CREATED:20240904T205050Z
LAST-MODIFIED:20240904T205050Z
UID:10014210-1726855200-1726862400@www.huntingtonarts.org
SUMMARY:Babylon Village Arts Council presents Book Signing with Author & Poet Nancy Keating
DESCRIPTION:Babylon Village Arts Council is presenting a book signing with author and poet Nancy Keating on Friday\, September 20 at the Neverending Book Store from 6-8. Meet Nancy Keating who will sign copies of her prize-winning book “White Chick”. \nThis program is made possible through membership and donations.
URL:https://www.huntingtonarts.org/event/babylon-village-arts-council-presents-book-signing-with-author-poet-nancy-keating/
LOCATION:The Neverending Story Bookstore\, 9 West Main Street\, Babylon Village\, 11702\, United States
CATEGORIES:Poetry
ATTACH;FMTTYPE=image/jpeg:https://www.huntingtonarts.org/wp-content/uploads/2024/08/20-book-signing-Nancy-Keating.jpg
ORGANIZER;CN="Babylon Village Arts Council":MAILTO:infobvac@gmail.com
END:VEVENT
BEGIN:VEVENT
DTSTART;TZID=America/New_York:20240614T183000
DTEND;TZID=America/New_York:20240614T200000
DTSTAMP:20260421T200543
CREATED:20240429T144711Z
LAST-MODIFIED:20240429T144711Z
UID:10010750-1718389800-1718395200@www.huntingtonarts.org
SUMMARY:Adriana Devers presents Bearing in mind\, Artistic Presentation & Workshop
DESCRIPTION:NYSCA Grantee project\, “Bearing in Mind: Poems & Vignettes of an Afro-Latina on Long Island\,” an evening of poetic expression\, exploring the intricate connections between one’s ancestral roots and present existence. Culminating with an invitation to discover how one’s heritage intertwines with the nuances of contemporary life\, offering a thought-provoking exploration of self-discovery and belonging.
URL:https://www.huntingtonarts.org/event/adriana-devers-presents-bearing-in-mind-artistic-presentation-workshop/2024-06-14/
LOCATION:westbury memorial public library\, 445 Jefferson St\, Westbury\, NY 11590\, Westbury\, 11590\, United States
CATEGORIES:Poetry
ATTACH;FMTTYPE=image/jpeg:https://www.huntingtonarts.org/wp-content/uploads/2024/04/IMG_9081-scaled.jpeg
ORGANIZER;CN="Adriana Devers":MAILTO:cuentosdetriadas@gmail.com
END:VEVENT
BEGIN:VEVENT
DTSTART;TZID=America/New_York:20240606T190000
DTEND;TZID=America/New_York:20240606T210000
DTSTAMP:20260421T200543
CREATED:20240530T210026Z
LAST-MODIFIED:20240530T210026Z
UID:10013170-1717700400-1717707600@www.huntingtonarts.org
SUMMARY:The Babylon Village Arts Council presents Poetry Series at Jack Jack's Coffee House
DESCRIPTION:The Babylon Village Arts Council is proud to present local poets Caroline Reddy and Lennon”The Inner Dialect”. Stravato to read at Jack Jack’s Coffeehouse on Thursday\, June 6 . Open mic led by Deborah Hauser will begin at 7. sign ups are at 6:45.. Reddy is the author of “Shake the Atmosphere to Reclaim an Empty Moment” and Stravato is the author of ‘The Inner Dialect’.This event is free and open to the public. It is made possible through grants from Suffolk County and NY State Council of the Arts “Poets and Writers’ program.
URL:https://www.huntingtonarts.org/event/the-babylon-village-arts-council-presents-poetry-series-at-jack-jacks-coffee-house/
LOCATION:Jack Jack’s Coffee House\, 223 Deer Park Avenue\, Babylon\, NY\, 11702
CATEGORIES:Poetry
ATTACH;FMTTYPE=image/png:https://www.huntingtonarts.org/wp-content/uploads/2024/05/Poetry-June-24-1.png
ORGANIZER;CN="Babylon Village Arts Council":MAILTO:infobvac@gmail.com
GEO:40.699809;-73.3221779
X-APPLE-STRUCTURED-LOCATION;VALUE=URI;X-ADDRESS=Jack Jack’s Coffee House 223 Deer Park Avenue Babylon NY 11702;X-APPLE-RADIUS=500;X-TITLE=223 Deer Park Avenue:geo:-73.3221779,40.699809
END:VEVENT
BEGIN:VEVENT
DTSTART;TZID=America/New_York:20240502T190000
DTEND;TZID=America/New_York:20240502T210000
DTSTAMP:20260421T200543
CREATED:20240429T144007Z
LAST-MODIFIED:20240429T144007Z
UID:10011197-1714676400-1714683600@www.huntingtonarts.org
SUMMARY:The Babylon Village Arts Council presents Poetry Reading at Jack Jack's Coffee House
DESCRIPTION:Babylon Village Arts Council is proud to present local poet Russ Green to read at Jack Jack;’s Coffeehouse on Thursday\, May 3 . Open mic led by Deborah Hauser will begin at 7. sign ups are at 6:45.. Russ Green is the author of “Gimmee Back My Radio” and the host of Saturdays on the Sound. This event is free and open to the public. It is made possible through grants from Suffolk County and NY State Council of the Arts “Poets and Writers’ program.
URL:https://www.huntingtonarts.org/event/the-babylon-village-arts-council-presents-poetry-reading-at-jack-jacks-coffee-house/
LOCATION:Jack Jack’s Coffee House\, 223 Deer Park Avenue\, Babylon\, NY\, 11702
CATEGORIES:Poetry
ATTACH;FMTTYPE=image/png:https://www.huntingtonarts.org/wp-content/uploads/2024/04/Poetry-May-24.png
ORGANIZER;CN="Babylon Village Arts Council":MAILTO:infobvac@gmail.com
GEO:40.699809;-73.3221779
X-APPLE-STRUCTURED-LOCATION;VALUE=URI;X-ADDRESS=Jack Jack’s Coffee House 223 Deer Park Avenue Babylon NY 11702;X-APPLE-RADIUS=500;X-TITLE=223 Deer Park Avenue:geo:-73.3221779,40.699809
END:VEVENT
BEGIN:VEVENT
DTSTART;TZID=America/New_York:20240301T180000
DTEND;TZID=America/New_York:20240301T200000
DTSTAMP:20260421T200543
CREATED:20240229T160451Z
LAST-MODIFIED:20240229T160451Z
UID:10010235-1709316000-1709323200@www.huntingtonarts.org
SUMMARY:fotofoto gallery presents POETRY • MUSIC • PHOTOGRAPHY Night
DESCRIPTION:🔹 fotofoto gallery presents our first POETRY • MUSIC • PHOTOGRAPHY NIGHT featuring poets Anne Cognato\, Gloria Murray\, musician Janice Buckner and works by 14 fotofoto gallery Artist Members on Friday\, March 1st from 6-8pm. Please join us for a wonderful evening full of words\, songs and images that will soothe and inspire while you enjoy a few refreshments. \n🔸ABOUT JANICE BUCKNER:\nJanice has toured Internationally as an interpretive stylist performing a wide variety of music from folk\, blues\, ballads\, and pop\, to rock & roll\, standards\, and contemporary and original songs. She gives each piece a unique slant and is known or her melodic voice and intricate guitar arrangements. Janice’s most valued strength is in capturing the hearts of her audience.\n• “A true pure voice comfortable in every style” Joyce Hauser\, NBC RADIO\n• “A voice of pure\, timeless beauty” The Scotsman Herald\, Edinburgh Fringe Festival\n• “A confident stylist and prolific songwriter.” – Wayne Robbins\, Newsday \n🔸ABOUT ANNE COGNATO:\nAnne Cognato lives and writes poetry on Long Island. She has been published in the Bards Annual 2022 and 2023\, and the Suffolk County Poetry Review. She also is a fine art photographer. Her works has been displayed at Fotofoto gallery\, the Alex Ferrone Gallery and others. \n🔸ABOUT GLORIA g. MURRAY:\nGloria g. Murray’s poetry and prose appeared in journals including Flapperhouse\, Paterson Review\, Poet Lore\, Moment\, Third Wednesday\, Adelaide\, and others. She is 1st place winner of 2014 Anna Davidson Rosenberg award\, Poetica Magazine\, 3rd place 2017 Writer’s Digest Poetry contest\, has poetry chapbooks and a novella\, CALAMITY JANE available. \n🔸 EXHIBITING ARTISTS:\nSaulmon C. Addison • Bruce Cohen • Tom D’Emic • Andrea M. Gordon • Paul • Andrea Fortunoff • Eileen Novack • Camille Goldner • David McCrae • Dennis Gai • Alan M Richards • Pamela Waldroup • Victoria Elizabeth Shields • Anne Cognato \n🔹fotofoto gallery\, 14 W. Carver Street\, Huntington\, NY 11743\n🔹Gallery Hours: Thurs. 12:30-4pm; Fri. Sat. Sun. 11am-6pm; and by appointment. Huntington\, New York
URL:https://www.huntingtonarts.org/event/fotofoto-gallery-presents-poetry-music-photography-night/
LOCATION:fotofoto gallery\, 14 W. Carver Street\, Huntington\, NY\, 11743\, United States
CATEGORIES:Exhibitions,Music,Poetry
ATTACH;FMTTYPE=image/jpeg:https://www.huntingtonarts.org/wp-content/uploads/2024/02/Poster_Poetry-Music_Photography-Night-at-fotofoto-gallery_March1-2024.jpg
ORGANIZER;CN="fotofoto gallery":MAILTO:Contact@fotofotogallery.org
GEO:40.8689426;-73.4284211
X-APPLE-STRUCTURED-LOCATION;VALUE=URI;X-ADDRESS=fotofoto gallery 14 W. Carver Street Huntington NY 11743 United States;X-APPLE-RADIUS=500;X-TITLE=14 W. Carver Street:geo:-73.4284211,40.8689426
END:VEVENT
BEGIN:VEVENT
DTSTART;TZID=America/New_York:20231005T190000
DTEND;TZID=America/New_York:20231005T203000
DTSTAMP:20260421T200543
CREATED:20231002T140403Z
LAST-MODIFIED:20231002T140403Z
UID:10006495-1696532400-1696537800@www.huntingtonarts.org
SUMMARY:Babylon Village Arts Council Presents Poetry Series
DESCRIPTION:Babylon Village Arts Council will present featured poets Kristina Scheid and Cheryl Williams on Thursday\, Oct. 5 from 7-8:30 at Jack Jack’s Coffee House. Open mic led by Deborah Hauser. Sign uo begins at 6:45. \nThis program is funded through Poets and Writers through NYS Council of the Arts and Suffolk County grant.
URL:https://www.huntingtonarts.org/event/babylon-village-arts-council-presents-poetry-series-3/
LOCATION:Jack Jack’s Coffee House\, 223 Deer Park Avenue\, Babylon\, NY\, 11702
CATEGORIES:Poetry
ATTACH;FMTTYPE=image/png:https://www.huntingtonarts.org/wp-content/uploads/2023/09/Poetry-Oct-23.png
ORGANIZER;CN="Babylon Village Arts Council":MAILTO:infobvac@gmail.com
GEO:40.699809;-73.3221779
X-APPLE-STRUCTURED-LOCATION;VALUE=URI;X-ADDRESS=Jack Jack’s Coffee House 223 Deer Park Avenue Babylon NY 11702;X-APPLE-RADIUS=500;X-TITLE=223 Deer Park Avenue:geo:-73.3221779,40.699809
END:VEVENT
BEGIN:VEVENT
DTSTART;TZID=America/New_York:20230930T140000
DTEND;TZID=America/New_York:20230930T160000
DTSTAMP:20260421T200543
CREATED:20230906T160746Z
LAST-MODIFIED:20230906T160841Z
UID:10006045-1696082400-1696089600@www.huntingtonarts.org
SUMMARY:Westbury Memorial Public Library - My American Story Community Showcase
DESCRIPTION:Multidisciplinary community showcase that presents a view of the Latinx culture as it intertwines with the American culture and the frequent struggles many immigrants face to find a true sense of belonging in the U.S. Poetry\, storytelling\, performance\, live music and visual arts\, showcasing original pieces created during the 8 week writing workshop series under the same title\, conducted by\, author and educator Adriana Devers at the Westbury Memorial Public Library this past summer.\nThis program is made possible with funds from the Statewide Community Regrant Program\, a regrant program of the New York State Council on the Arts with the support of The Governor and the New York Legislature\, and administered by The Huntington Arts Council.
URL:https://www.huntingtonarts.org/event/my-american-story-community-showcase/
LOCATION:westbury memorial public library\, 445 Jefferson St\, Westbury\, NY 11590\, Westbury\, 11590\, United States
CATEGORIES:Children and Family,Exhibitions,Miscellaneous,Poetry
ATTACH;FMTTYPE=image/jpeg:https://www.huntingtonarts.org/wp-content/uploads/2023/09/Showcase-My-American-Story-2-scaled.jpg
ORGANIZER;CN="Adriana Devers":MAILTO:cuentosdetriadas@gmail.com
END:VEVENT
BEGIN:VEVENT
DTSTART;TZID=America/New_York:20230913T190000
DTEND;TZID=America/New_York:20230913T203000
DTSTAMP:20260421T200543
CREATED:20230412T141101Z
LAST-MODIFIED:20230613T115436Z
UID:10005890-1694631600-1694637000@www.huntingtonarts.org
SUMMARY:Adriana Devers Presents "My American Story" inter-generational writing series
DESCRIPTION:Multidisciplinary writing series program exploring the themes of cultural identity\, belonging and the struggles faced by the Latinx community to find a true sense of belonging in our search for the American Dream. Bilingual (Spanish/English). 8 Week program. Must be 16 + to participate\, Wednesdays at 7 p.m. at the Westbury Memorial Public Library. Registration opens on July 1st\, 2023\, program begins 7/19/2023. Program will culminate with a showcase reception open to the public in observance of Hispanic Heritage Month.
URL:https://www.huntingtonarts.org/event/adriana-devers-presents-my-american-story-inter-generational-writing-series/2023-09-13/
LOCATION:United States
CATEGORIES:Grant Workshops,Poetry,Workshop Classes
ORGANIZER;CN="Adriana Devers":MAILTO:cuentosdetriadas@gmail.com
END:VEVENT
BEGIN:VEVENT
DTSTART;TZID=America/New_York:20230618T130000
DTEND;TZID=America/New_York:20230618T141500
DTSTAMP:20260421T200543
CREATED:20230410T234320Z
LAST-MODIFIED:20230613T115607Z
UID:10005908-1687093200-1687097700@www.huntingtonarts.org
SUMMARY:Dance Visions NY presents “Rising Up”
DESCRIPTION:Dance Visions NY is delighted to present a new and unique program on the grounds of the Universalist Unitarian Congregation Shelter Rock (UUCSR) in collaboration with the organization. Grounded in contemporary movements for social justice\, the program includes a new work addressing bodily autonomy entitled “Dialogue\, Isadora Duncan’s groundbreaking\, dynamic work of strength and optimism created to the 3rd movement of Tchaikovsky’s Pathetique Sonata #6 (circa 1916)\, “From a Distant Past Part 1″\, a new manifestation of the 1st section of our poem-based dance theater piece developed over the course of several years with themes of cyclic worlds\, and a revision from our pivotal work “Through the Portals” with themes of establishing identity. In addition we will present new dances created to songs in collaboration with “Willow\,” an interfaith women’s choir. The program includes original\, timely and meaningful dance\, music\, poetry and theatre. It expresses the climate of our times and is performed by excellent\, diverse artists in a beautiful\, historical outdoor setting.\nThis program is made possible with funds from the Statewide Community Regrant Program\, a regrant program of the New York State Council on the Arts with the support of the Office of the Governor and the New York State Legislature and administered by The Huntington Arts Council\, Inc.
URL:https://www.huntingtonarts.org/event/dance-visions-ny-presents-rising-up/
LOCATION:Unitarian Universalist Congregation at Shelter Rock\, 48 Shelter Rock Road\, Manhasset\, New York\, 11030\, United States
CATEGORIES:Dance,Music,Poetry,Theater
ORGANIZER;CN="Dance Visions NY":MAILTO:dancevisions.ny@gmail.com
GEO:40.7825735;-73.6857697
X-APPLE-STRUCTURED-LOCATION;VALUE=URI;X-ADDRESS=Unitarian Universalist Congregation at Shelter Rock 48 Shelter Rock Road Manhasset New York 11030 United States;X-APPLE-RADIUS=500;X-TITLE=48 Shelter Rock Road:geo:-73.6857697,40.7825735
END:VEVENT
BEGIN:VEVENT
DTSTART;TZID=America/New_York:20230528T193000
DTEND;TZID=America/New_York:20230903T230000
DTSTAMP:20260421T200543
CREATED:20180418T162233Z
LAST-MODIFIED:20180418T162233Z
UID:10005029-1685302200-1693782000@www.huntingtonarts.org
SUMMARY:*Northport Arts Coalition Presents Poets in Port
DESCRIPTION:Ongoing\, every last Friday of the month. Featured poets and open readings. All are welcome to participate. (6/29\, 7/27\, 8/31\, 9/28)
URL:https://www.huntingtonarts.org/event/northport-arts-coalition-presents-poets-in-port/
LOCATION:Caffe Portofino\, 249 Main Street\, Northport\, NY\, 11768\, United States
CATEGORIES:Poetry
ORGANIZER;CN="Northport Arts Coalition":MAILTO:nacnewsletter@gmail.com
GEO:40.901119;-73.3467726
X-APPLE-STRUCTURED-LOCATION;VALUE=URI;X-ADDRESS=Caffe Portofino 249 Main Street Northport NY 11768 United States;X-APPLE-RADIUS=500;X-TITLE=249 Main Street:geo:-73.3467726,40.901119
END:VEVENT
BEGIN:VEVENT
DTSTART;TZID=America/New_York:20230521T190000
DTEND;TZID=America/New_York:20230521T210000
DTSTAMP:20260421T200543
CREATED:20230406T215351Z
LAST-MODIFIED:20230613T115844Z
UID:10005973-1684695600-1684702800@www.huntingtonarts.org
SUMMARY:Dance Visions NY presents “From a Distant Past\, Part 1” with WAXworks
DESCRIPTION:This new intimate manifestation of a past Dance Visions NY work is based on an original poem and is created with 3 dancers. With mythic overtones\, it addresses timeless and timely themes of dark and light\, destruction and creation\, and cycles of endings and beginnings. Using the spoken poem over background music\, and incorporating Isadora Duncan dance repertory\, it is the first of a 3-part symbolic work following a river as it makes its way toward the ocean.\nJoining us in this WAXworks program are 6 other emerging and established choreographers sharing new works.
URL:https://www.huntingtonarts.org/event/dance-visions-ny-presents-from-a-distant-past-part-1-with-waxworks/
LOCATION:Triskelion Arts\, 106 Calyer St.\, Brooklyn\, 11222\, United States
CATEGORIES:Dance,Poetry,Theater
END:VEVENT
BEGIN:VEVENT
DTSTART;TZID=America/New_York:20220902T190000
DTEND;TZID=America/New_York:20220902T203000
DTSTAMP:20260421T200543
CREATED:20220823T145746Z
LAST-MODIFIED:20220823T145746Z
UID:10005098-1662145200-1662150600@www.huntingtonarts.org
SUMMARY:Walt Whitman Birthplace Association (WWBA) presents Walking With Whitman with Bruce Johnson and Nicholas Samaras
DESCRIPTION:Walt Whitman Birthplace Association (WWBA) presents the 12th season of Poetry in Performance: Walking With Whitman\, hosted by Writer-in-Residence George Wallace in person. This signature series continues to bring the most intriguing figures in contemporary literature on the national scene paired with local poets on the Walt Whitman Stage. Friday September 2nd\, Walking With Whitman will feature Nicholas Samaras\, the author of “Hands of the Saddlemaker” (Yale University Press\, 1992) and Bruce Johnson author of “Borderlands and Dreams.” No registration is required\, there is a $10 entry fee for this event that will be collected at the door. Refreshments will be served.
URL:https://www.huntingtonarts.org/event/walt-whitman-birthplace-association-wwba-presents-walking-with-whitman-with-bruce-johnson-and-nicholas-samaras/
LOCATION:Please CHOOSE or add your venue!\, NY\, United States
CATEGORIES:History,Poetry
ATTACH;FMTTYPE=image/jpeg:https://www.huntingtonarts.org/wp-content/uploads/2022/08/WWW_graphic_final.jpg
ORGANIZER;CN="Walt Whitman Birthplace Association":MAILTO:events@waltwhitman.org
GEO:40.7127837;-74.0059413
END:VEVENT
END:VCALENDAR