BEGIN:VCALENDAR
VERSION:2.0
PRODID:-//Huntington Arts Council - ECPv6.15.20//NONSGML v1.0//EN
CALSCALE:GREGORIAN
METHOD:PUBLISH
X-WR-CALNAME:Huntington Arts Council
X-ORIGINAL-URL:https://www.huntingtonarts.org
X-WR-CALDESC:Events for Huntington Arts Council
REFRESH-INTERVAL;VALUE=DURATION:PT1H
X-Robots-Tag:noindex
X-PUBLISHED-TTL:PT1H
BEGIN:VTIMEZONE
TZID:America/New_York
BEGIN:DAYLIGHT
TZOFFSETFROM:-0500
TZOFFSETTO:-0400
TZNAME:EDT
DTSTART:20180311T070000
END:DAYLIGHT
BEGIN:STANDARD
TZOFFSETFROM:-0400
TZOFFSETTO:-0500
TZNAME:EST
DTSTART:20181104T060000
END:STANDARD
BEGIN:DAYLIGHT
TZOFFSETFROM:-0500
TZOFFSETTO:-0400
TZNAME:EDT
DTSTART:20190310T070000
END:DAYLIGHT
BEGIN:STANDARD
TZOFFSETFROM:-0400
TZOFFSETTO:-0500
TZNAME:EST
DTSTART:20191103T060000
END:STANDARD
BEGIN:DAYLIGHT
TZOFFSETFROM:-0500
TZOFFSETTO:-0400
TZNAME:EDT
DTSTART:20200308T070000
END:DAYLIGHT
BEGIN:STANDARD
TZOFFSETFROM:-0400
TZOFFSETTO:-0500
TZNAME:EST
DTSTART:20201101T060000
END:STANDARD
BEGIN:DAYLIGHT
TZOFFSETFROM:-0500
TZOFFSETTO:-0400
TZNAME:EDT
DTSTART:20210314T070000
END:DAYLIGHT
BEGIN:STANDARD
TZOFFSETFROM:-0400
TZOFFSETTO:-0500
TZNAME:EST
DTSTART:20211107T060000
END:STANDARD
BEGIN:DAYLIGHT
TZOFFSETFROM:-0500
TZOFFSETTO:-0400
TZNAME:EDT
DTSTART:20220313T070000
END:DAYLIGHT
BEGIN:STANDARD
TZOFFSETFROM:-0400
TZOFFSETTO:-0500
TZNAME:EST
DTSTART:20221106T060000
END:STANDARD
BEGIN:DAYLIGHT
TZOFFSETFROM:-0500
TZOFFSETTO:-0400
TZNAME:EDT
DTSTART:20230312T070000
END:DAYLIGHT
BEGIN:STANDARD
TZOFFSETFROM:-0400
TZOFFSETTO:-0500
TZNAME:EST
DTSTART:20231105T060000
END:STANDARD
END:VTIMEZONE
BEGIN:VEVENT
DTSTART;TZID=America/New_York:20220811T180000
DTEND;TZID=America/New_York:20220811T190000
DTSTAMP:20260422T132119
CREATED:20220801T131308Z
LAST-MODIFIED:20220801T131308Z
UID:10005163-1660240800-1660244400@www.huntingtonarts.org
SUMMARY:The Jazz Loft Presents MONTELEONE: THE ART OF THE GUITAR
DESCRIPTION:Thurs. 8/11 through Sat. 8/13—\nMONTELEONE: THE ART OF THE GUITAR\nJohn Monteleone is one of the world’s greatest guitar builders. His guitars are on permanent display at the Metropolitan Museum. Several guitars will be on display at The Jazz Loft. \nTickets: Three-day Full Festival Pass– $265 adults\, $240 seniors\, $215 students\, $190 children\, children 5 and under free. Includes post festival VIP reception with food and drink. \nThurs. 8/11—\nOpening Reception—Monteleone: The Art of the Guitar.\nJohn Monteleone\, guitarist Steve Salerno\, and guitarist Anthony Wilson play and discuss guitars in the collection.\n6:00 PM to 7 PM. Single event tickets: $25.
URL:https://www.huntingtonarts.org/event/the-jazz-loft-presents-monteleone-the-art-of-the-guitar/
LOCATION:NY\, United States
CATEGORIES:Music
ORGANIZER;CN="The Jazz Loft":MAILTO:tmanuel@thejazzloft.org
END:VEVENT
BEGIN:VEVENT
DTSTART;TZID=America/New_York:20220809T080000
DTEND;TZID=America/New_York:20220809T170000
DTSTAMP:20260422T132119
CREATED:20220811T203655Z
LAST-MODIFIED:20220811T203655Z
UID:10005164-1660032000-1660064400@www.huntingtonarts.org
SUMMARY:St. John'S Cultural Events Series Sing Noel!
DESCRIPTION:Take a joyous break from the holiday rush and join us for “Sing Noel!”\, our annual concert of Christmas song\, carols and stories featuring an amazing vocal quartet and special guests.
URL:https://www.huntingtonarts.org/event/st-johns-cultural-events-series-sing-noel/
LOCATION:St. John\’s Church\, Huntington\, 12 Prospect Street\, Huntington\, NY\, 11743\, United States
CATEGORIES:Music
ATTACH;FMTTYPE=image/png:https://www.huntingtonarts.org/wp-content/uploads/2022/08/Sing-Noel-2.png
ORGANIZER;CN="St. John\'s Huntington":MAILTO:music@stjohnshuntington.org
END:VEVENT
BEGIN:VEVENT
DTSTART;TZID=America/New_York:20220804T190000
DTEND;TZID=America/New_York:20220804T213000
DTSTAMP:20260422T132119
CREATED:20220801T131135Z
LAST-MODIFIED:20220801T131135Z
UID:10005171-1659639600-1659648600@www.huntingtonarts.org
SUMMARY:The Jazz Loft Big Band
DESCRIPTION:Thurs. 8/4—\nThe Jazz Loft Big Band. The 18-piece Jazz Loft Big Band\, directed by Jazz Loft founder Tom Manuel\, performs jazz standards and original compositions and arrangements written by band members.\n7:00 PM. Tickets: $30 adults\, $25 seniors\, $20 students\, $15 children\, children 5 and under free.
URL:https://www.huntingtonarts.org/event/the-jazz-loft-big-band-10/
LOCATION:NY\, United States
CATEGORIES:Music
ORGANIZER;CN="The Jazz Loft":MAILTO:tmanuel@thejazzloft.org
END:VEVENT
BEGIN:VEVENT
DTSTART;TZID=America/New_York:20220804T080000
DTEND;TZID=America/New_York:20220804T170000
DTSTAMP:20260422T132119
CREATED:20220405T173421Z
LAST-MODIFIED:20220405T173421Z
UID:10005172-1659600000-1659632400@www.huntingtonarts.org
SUMMARY:Westbury Arts’ 8th Annual Summer Concert Series: Mala Waldron
DESCRIPTION:Vocalist/Pianist/Composer Mala Waldron is a New York City native who balances local performances with tours all over Europe and Asia. Featured recordings include her CD debut\, “Lullabye” (a tribute to the godmother\, Billie Holiday)\, a duo project with her father\, pianist\, composer Mal Waldron (“He’s My Father”)\, and “Always There” which\, in addition to being her first U.S. release\, was licensed by Columbia Records (Japan) and voted one of the Top 20 Jazz CDs of 2006 by JazzUSA. \nAs a bandleader\, Mala has performed with her group at many esteemed venues including the Jazz Standard\, Dizzy’s Club Coca Cola\, the 55 Bar\, Cornelia St. Cafe\, BAM Cafe\, the 1st Annual Coltrane Day Music Festival\, and most recently at the Kennedy Center Millennium Stage\, and the 17th Annual Jazz in the Valley festival with the Christopher Dean Sullivan Ensemble. Career highlights include touring and recording with her father\, writing and performing her big band arrangements with the James Jabbo Ware\, “Me We & Them” Orchestra\, and singing her original music (orchestrated and conducted by Alfonso Girardo) with a 45-piece jazz symphony\, the Magna Grecia Orchestra while on tour in Taranto\, Italy.
URL:https://www.huntingtonarts.org/event/westbury-arts-8th-annual-summer-concert-series-mala-waldron/
LOCATION:Piazza Ernesto Strada\, Post Ave at Maple Ave\, Westbury\, NY\, 11590\, United States
CATEGORIES:Music
ATTACH;FMTTYPE=image/jpeg:https://www.huntingtonarts.org/wp-content/uploads/2022/03/download-1.jpg
ORGANIZER;CN="Westbury Arts":MAILTO:julie@westburyarts.org
GEO:40.755797;-73.5878659
X-APPLE-STRUCTURED-LOCATION;VALUE=URI;X-ADDRESS=Piazza Ernesto Strada Post Ave at Maple Ave Westbury NY 11590 United States;X-APPLE-RADIUS=500;X-TITLE=Post Ave at Maple Ave:geo:-73.5878659,40.755797
END:VEVENT
BEGIN:VEVENT
DTSTART;TZID=America/New_York:20220727T200000
DTEND;TZID=America/New_York:20220727T220000
DTSTAMP:20260422T132119
CREATED:20220324T221029Z
LAST-MODIFIED:20220324T221029Z
UID:10005192-1658952000-1658959200@www.huntingtonarts.org
SUMMARY:Huntington Community Band - Concert 5 Finale - Till We Meet Again!
DESCRIPTION:July 27\, 2022 – Concert 5 – Till We Meet Again\nPlease join the HCB under the direction of Music Director Vickie Henson and Assistant Director Shane Helfner as they conclude the 76th season with a selection of musical fan favorites chosen from the great concert band repertoire including marches\, music from the stage and screen and much more. Concert 5 will include the 1812 overture with Cannoneer Jim McAward\, Stars and Stripes Forever and HCB’s beloved Director Emeritus\, Tom Gellert! \nBring folding chairs or large blankets. Pre-Concert entertainment will begin at 6:45 PM\, featuring the horn quartet\, Hornucopia. HCB Concert begins at 8:00PM. For additional information and directions to Heckscher Park\, visit the www.huntingtonarts.org or www.hcband.org
URL:https://www.huntingtonarts.org/event/huntington-community-band-concert-5-finale-till-we-meet-again/
LOCATION:Heckscher Park\, Huntington\, 164 Main St. \, Huntington\, NY\, 11743\, United States
CATEGORIES:Music
ORGANIZER;CN="Huntington Community Band":MAILTO:gellerttn@gmail.com
GEO:40.8728839;-73.4222998
X-APPLE-STRUCTURED-LOCATION;VALUE=URI;X-ADDRESS=Heckscher Park Huntington 164 Main St.  Huntington NY 11743 United States;X-APPLE-RADIUS=500;X-TITLE=164 Main St.:geo:-73.4222998,40.8728839
END:VEVENT
BEGIN:VEVENT
DTSTART;TZID=America/New_York:20220725T140000
DTEND;TZID=America/New_York:20220725T150000
DTSTAMP:20260422T132119
CREATED:20220712T130848Z
LAST-MODIFIED:20220712T130848Z
UID:10005197-1658757600-1658761200@www.huntingtonarts.org
SUMMARY:Freeport Library Presents Luciano Pavarotti: Portrait
DESCRIPTION:Luciano Pavarotti: Portrait\nTUESDAY\, JULY 26\, 2 p.m.\nHYBRID PROGRAM\nJoin us for an entertaining Watch Party featuring various topics in the arts on medici.tv. Patrons can also view the documentary at home during the event. Luciano Pavarotti rapidly attained international renown\, becoming a giant of both opera and popular music. In this unique portrait of this larger-than-life musician\, Esther Schapira explores the personal life and legendary performances of the “greatest tenor of all time.” Freeport Memorial Library. 144 W. Merrick Road\, Freeport\, NY. To attend in person\, register by visiting www.freeportlibrary.info and click on the date of the program in the event calendar. To attend virtually\, visit the date of the program in the event calendar and click on the link provided. 516-379-3274. Free.
URL:https://www.huntingtonarts.org/event/freeport-library-presents-luciano-pavarotti-portrait/
LOCATION:Freeport Memorial Library\, 144 W. Merrick Rd\, Freeport \, NY\, United States
CATEGORIES:Music
ORGANIZER;CN="Freeport Memorial Library":MAILTO:mpignataro@freeportlibrary.info
GEO:40.6535593;-73.586754
X-APPLE-STRUCTURED-LOCATION;VALUE=URI;X-ADDRESS=Freeport Memorial Library 144 W. Merrick Rd Freeport  NY United States;X-APPLE-RADIUS=500;X-TITLE=144 W. Merrick Rd:geo:-73.586754,40.6535593
END:VEVENT
BEGIN:VEVENT
DTSTART;TZID=America/New_York:20220720T200000
DTEND;TZID=America/New_York:20220720T220000
DTSTAMP:20260422T132119
CREATED:20220324T220956Z
LAST-MODIFIED:20220324T220956Z
UID:10005202-1658347200-1658354400@www.huntingtonarts.org
SUMMARY:Huntington Community Band - Concert 4 - Women in Jazz
DESCRIPTION:July 20\, 2022 – Concert 4 – Women in Jazz\nThis concert will be a swingin’ night of great jazz featuring the HCB Big Band under the direction of HCB Assistant Director Dan Bilawsky. Join the Huntington Community Band as they celebrate the HAC’s theme of women in jazz! In addition\, the HCB welcomes back to the stage\, Northport Community Band Director\, Don Sherman as guest conductor of the HCB. Featured soloist will be Kennedy Burgess performing the Spanish tour de force Piccolo Espagnole!\nBring folding chairs or large blankets. Pre-Concert entertainment featuring the HCB Flute Ensemble will begin at 6:45PM. HCB Concert begins at 8:00PM. For additional information and directions to Heckscher Park\, visit the www.huntingtonarts.org or www.hcband.org
URL:https://www.huntingtonarts.org/event/huntington-community-band-concert-4-women-in-jazz/
LOCATION:Heckscher Park\, Huntington\, 164 Main St. \, Huntington\, NY\, 11743\, United States
CATEGORIES:Music
ORGANIZER;CN="Huntington Community Band":MAILTO:gellerttn@gmail.com
GEO:40.8728839;-73.4222998
X-APPLE-STRUCTURED-LOCATION;VALUE=URI;X-ADDRESS=Heckscher Park Huntington 164 Main St.  Huntington NY 11743 United States;X-APPLE-RADIUS=500;X-TITLE=164 Main St.:geo:-73.4222998,40.8728839
END:VEVENT
BEGIN:VEVENT
DTSTART;TZID=America/New_York:20220714T190000
DTEND;TZID=America/New_York:20220714T200000
DTSTAMP:20260422T132119
CREATED:20220712T130924Z
LAST-MODIFIED:20220712T130924Z
UID:10005211-1657825200-1657828800@www.huntingtonarts.org
SUMMARY:Freeport Library Presents Banjo Rascals on the Nautical Mile
DESCRIPTION:Banjo Rascals on the Nautical Mile\nCo-sponsored by the Freeport Memorial Library and the\nLong Island Arts Council\nTHURSDAY\, JULY 14\, 7 p.m.\nAT THE NAUTICAL MILE\nCome listen to great toe-tapping\, ragtime music from the 1890s and sing along with your favorites. The Banjo Rascals turn the heat up with hot Dixieland standards and swing of the big band era\, mix it with rock-and-roll classics\, and transform it all into the Country Rascals. Freeport Memorial Library\, 516-379-3274\, www.freeportlibrary.info. Free.
URL:https://www.huntingtonarts.org/event/freeport-library-presents-banjo-rascals-on-the-nautical-mile/
LOCATION:NY\, United States
CATEGORIES:Music
ORGANIZER;CN="Freeport Memorial Library":MAILTO:mpignataro@freeportlibrary.info
END:VEVENT
BEGIN:VEVENT
DTSTART;TZID=America/New_York:20220713T200000
DTEND;TZID=America/New_York:20220713T220000
DTSTAMP:20260422T132119
CREATED:20220324T220921Z
LAST-MODIFIED:20220324T220921Z
UID:10005212-1657742400-1657749600@www.huntingtonarts.org
SUMMARY:Huntington Community Band - Concert 3 - Oral Traditions
DESCRIPTION:July 13\, 2022 – Concert 3 – Oral Traditions The Huntington Community band presents a program that draws upon the rich stories\, songs and music that are the hallmarks of the American oral tradition. The concert will include a pre-concert performance at 6:45pm by the Huntington Chamber Choir under the direction of Judy Leopold as well as combined pieces with the HCB. Also presented will be folk music handed down through the oral tradition as well as modern music with band vocalization. The featured guest conductor will be Walt Whitman High School School Band Director\, Matthew Hoffman. \nBring folding chairs or large blankets. HCB Concert begins at 8:00PM. For additional information and directions to Heckscher Park\, visit the www.huntingtonarts.org or www.hcband.org
URL:https://www.huntingtonarts.org/event/huntington-community-band-concert-3-oral-traditions/
LOCATION:Heckscher Park\, Huntington\, 164 Main St. \, Huntington\, NY\, 11743\, United States
CATEGORIES:Music
ORGANIZER;CN="Huntington Community Band":MAILTO:gellerttn@gmail.com
GEO:40.8728839;-73.4222998
X-APPLE-STRUCTURED-LOCATION;VALUE=URI;X-ADDRESS=Heckscher Park Huntington 164 Main St.  Huntington NY 11743 United States;X-APPLE-RADIUS=500;X-TITLE=164 Main St.:geo:-73.4222998,40.8728839
END:VEVENT
BEGIN:VEVENT
DTSTART;TZID=America/New_York:20220707T190000
DTEND;TZID=America/New_York:20220707T210000
DTSTAMP:20260422T132119
CREATED:20220405T172058Z
LAST-MODIFIED:20220405T172058Z
UID:10005218-1657220400-1657227600@www.huntingtonarts.org
SUMMARY:Westbury Arts' 8th Annual Summer Concert Series: Arena Rock Tribute.com/
DESCRIPTION:Arena Rock Tribute is a classic rock tribute band that features music from iconic bands who helped define the era in the ’70s and ’80s including Queen\, Journey\, Styx\, Foreigner\, Bon Jovi\, Van Halen\, and The Who. They perform rock blocks of their greatest hits with undeniable energy and precision that makes for an exciting event!
URL:https://www.huntingtonarts.org/event/westbury-arts-8th-annual-summer-concert-series-arena-rock-tribute-com/
LOCATION:Westbury Piazza Summer Arts & Concert Series\, Piazza Ernesto Strada\, corner of Post Avenue and Maple Avenue \, Westbury\, NY\, 11590\, United States
CATEGORIES:Music
ATTACH;FMTTYPE=image/png:https://www.huntingtonarts.org/wp-content/uploads/2022/03/Arena-Rock-Tribute.png
ORGANIZER;CN="Westbury Arts":MAILTO:julie@westburyarts.org
GEO:40.7556657;-73.5886524
X-APPLE-STRUCTURED-LOCATION;VALUE=URI;X-ADDRESS=Westbury Piazza Summer Arts & Concert Series Piazza Ernesto Strada corner of Post Avenue and Maple Avenue  Westbury NY 11590 United States;X-APPLE-RADIUS=500;X-TITLE=Piazza Ernesto Strada\, corner of Post Avenue and Maple Avenue:geo:-73.5886524,40.7556657
END:VEVENT
BEGIN:VEVENT
DTSTART;TZID=America/New_York:20220706T200000
DTEND;TZID=America/New_York:20220706T220000
DTSTAMP:20260422T132120
CREATED:20220324T220852Z
LAST-MODIFIED:20220324T220852Z
UID:10005219-1657137600-1657144800@www.huntingtonarts.org
SUMMARY:Huntington Community Band – Concert 2 – Kids Night Out
DESCRIPTION:July 6\, 2022 – Concert 2 – Kids Night Out\nThe Huntington Community Band celebrates all things kids! Our young friends will hear music from Harry Potter\, Star Wars\, Casey at Bat\, and a staple of children’s concerts across the country\, Peter and the Wolf. HCB’s loyal audience will also be treated to a special performance of “Old Grumbly Bear” featuring Tim Eckstrum on tuba.\nThe Kids Night Out concert will also feature the winner of the first annual HCB Student Solo Competition. This winning senior represents one of the many talented student musicians across the town of Huntington!\nIn addition\, one lucky young audience member will get the chance to conduct the band in a fan favorite march: On the Mall! The featured guest conductor will be Stimson Middle School Band Director\, Jennifer Schmelter. \nBring folding chairs or large blankets. Pre-Concert entertainment featuring the HCB Brass Quintet will begin at 6:45PM. HCB Concert begins at 8:00PM. For additional information and directions to Heckscher Park\, visit the www.huntingtonarts.org or www.hcband.org
URL:https://www.huntingtonarts.org/event/huntington-community-band-concert-2-kids-night-out/
LOCATION:Heckscher Park\, Huntington\, 164 Main St. \, Huntington\, NY\, 11743\, United States
CATEGORIES:Music
ORGANIZER;CN="Huntington Community Band":MAILTO:gellerttn@gmail.com
GEO:40.8728839;-73.4222998
X-APPLE-STRUCTURED-LOCATION;VALUE=URI;X-ADDRESS=Heckscher Park Huntington 164 Main St.  Huntington NY 11743 United States;X-APPLE-RADIUS=500;X-TITLE=164 Main St.:geo:-73.4222998,40.8728839
END:VEVENT
BEGIN:VEVENT
DTSTART;TZID=America/New_York:20191220T190000
DTEND;TZID=America/New_York:20191220T210000
DTSTAMP:20260422T132120
CREATED:20190827T162030Z
LAST-MODIFIED:20190827T162030Z
UID:10004793-1576868400-1576875600@www.huntingtonarts.org
SUMMARY:* The Jazz Loft Presents Ray Anderson's Seasonal Solstice Party
DESCRIPTION:Renown trombonist Ray Anderson brings his rollicking spin to holiday classics. Joining him are Steve Salerno on guitar\,\nTommy Campbell drums and Mark Helias on bass.
URL:https://www.huntingtonarts.org/event/the-jazz-loft-presents-ray-andersons-seasonal-solstice-party/
LOCATION:NY\, United States
CATEGORIES:Music
ATTACH;FMTTYPE=:
ORGANIZER;CN="The Jazz Loft":MAILTO:tmanuel@thejazzloft.org
END:VEVENT
END:VCALENDAR