BEGIN:VCALENDAR
VERSION:2.0
PRODID:-//Huntington Arts Council - ECPv6.15.20//NONSGML v1.0//EN
CALSCALE:GREGORIAN
METHOD:PUBLISH
X-ORIGINAL-URL:https://www.huntingtonarts.org
X-WR-CALDESC:Events for Huntington Arts Council
REFRESH-INTERVAL;VALUE=DURATION:PT1H
X-Robots-Tag:noindex
X-PUBLISHED-TTL:PT1H
BEGIN:VTIMEZONE
TZID:America/New_York
BEGIN:DAYLIGHT
TZOFFSETFROM:-0500
TZOFFSETTO:-0400
TZNAME:EDT
DTSTART:20250309T070000
END:DAYLIGHT
BEGIN:STANDARD
TZOFFSETFROM:-0400
TZOFFSETTO:-0500
TZNAME:EST
DTSTART:20251102T060000
END:STANDARD
BEGIN:DAYLIGHT
TZOFFSETFROM:-0500
TZOFFSETTO:-0400
TZNAME:EDT
DTSTART:20260308T070000
END:DAYLIGHT
BEGIN:STANDARD
TZOFFSETFROM:-0400
TZOFFSETTO:-0500
TZNAME:EST
DTSTART:20261101T060000
END:STANDARD
BEGIN:DAYLIGHT
TZOFFSETFROM:-0500
TZOFFSETTO:-0400
TZNAME:EDT
DTSTART:20270314T070000
END:DAYLIGHT
BEGIN:STANDARD
TZOFFSETFROM:-0400
TZOFFSETTO:-0500
TZNAME:EST
DTSTART:20271107T060000
END:STANDARD
END:VTIMEZONE
BEGIN:VEVENT
DTSTART;TZID=America/New_York:20260421T183000
DTEND;TZID=America/New_York:20260421T200000
DTSTAMP:20260421T181601
CREATED:20251010T151121Z
LAST-MODIFIED:20251010T151121Z
UID:10017127-1776796200-1776801600@www.huntingtonarts.org
SUMMARY:4-Day Workshop: Enhance Your Understanding of Music Theory
DESCRIPTION:4-Day Workshop- offered online or on-site\nRegardless of the option you chose\, the 4-day workshop is designed to enhance your understanding of music theory\, to fill in the gaps\, and provide enlightening “aha” moments\, leading to a deeper connection with how music works. Furthermore\, this course aims to maximize your investment of time\, money\, and effort while cultivating the skills and understanding needed for improvisation and composition. \nThe workshop consists of 4 sessions\, each lasting approximately 1.5 hours. During these sessions\, I will guide you through the material and demonstrate key concepts. \nWorkshop Includes- \nFull access to the Online Video 4-Day Workshop. This will allow you to review the material before and after the workshop\nAlso Includes 3 Bonus eBooks- ($90 Value) \nHistory of Music Genres\nHistory of Note Names\nHistory of Music Notation\nThe First Session will take place on Thursday\, November 6\, at 6:30 p.m. Following that\, each following session will be offered on Tuesdays and Thursdays at 6:30 p.m.\, allowing you to choose the day and time that works best for you. \nSpace is limited\, so join today at- \nhttps://www.beforeyoulearn.com/musictheory \nand schedule your sessions using our online calendar once you’ve determined which days’ work best for you. \nThe cost is $220. \nWe are looking forward to seeing you there!
URL:https://www.huntingtonarts.org/event/4-day-workshop-enhance-your-understanding-of-music-theory/2026-04-21/
LOCATION:Please CHOOSE or add your venue!\, NY\, United States
CATEGORIES:Lectures,Miscellaneous,Music,Workshop Classes
ATTACH;FMTTYPE=image/png:https://www.huntingtonarts.org/wp-content/uploads/2025/10/camille.png
GEO:40.7127837;-74.0059413
END:VEVENT
BEGIN:VEVENT
DTSTART;TZID=America/New_York:20260423T183000
DTEND;TZID=America/New_York:20260423T200000
DTSTAMP:20260421T181601
CREATED:20251010T151121Z
LAST-MODIFIED:20251010T151121Z
UID:10017128-1776969000-1776974400@www.huntingtonarts.org
SUMMARY:4-Day Workshop: Enhance Your Understanding of Music Theory
DESCRIPTION:4-Day Workshop- offered online or on-site\nRegardless of the option you chose\, the 4-day workshop is designed to enhance your understanding of music theory\, to fill in the gaps\, and provide enlightening “aha” moments\, leading to a deeper connection with how music works. Furthermore\, this course aims to maximize your investment of time\, money\, and effort while cultivating the skills and understanding needed for improvisation and composition. \nThe workshop consists of 4 sessions\, each lasting approximately 1.5 hours. During these sessions\, I will guide you through the material and demonstrate key concepts. \nWorkshop Includes- \nFull access to the Online Video 4-Day Workshop. This will allow you to review the material before and after the workshop\nAlso Includes 3 Bonus eBooks- ($90 Value) \nHistory of Music Genres\nHistory of Note Names\nHistory of Music Notation\nThe First Session will take place on Thursday\, November 6\, at 6:30 p.m. Following that\, each following session will be offered on Tuesdays and Thursdays at 6:30 p.m.\, allowing you to choose the day and time that works best for you. \nSpace is limited\, so join today at- \nhttps://www.beforeyoulearn.com/musictheory \nand schedule your sessions using our online calendar once you’ve determined which days’ work best for you. \nThe cost is $220. \nWe are looking forward to seeing you there!
URL:https://www.huntingtonarts.org/event/4-day-workshop-enhance-your-understanding-of-music-theory/2026-04-23/
LOCATION:Please CHOOSE or add your venue!\, NY\, United States
CATEGORIES:Lectures,Miscellaneous,Music,Workshop Classes
ATTACH;FMTTYPE=image/png:https://www.huntingtonarts.org/wp-content/uploads/2025/10/camille.png
GEO:40.7127837;-74.0059413
END:VEVENT
BEGIN:VEVENT
DTSTART;TZID=America/New_York:20260426T170000
DTEND;TZID=America/New_York:20260426T181500
DTSTAMP:20260421T181601
CREATED:20260316T190741Z
LAST-MODIFIED:20260405T204544Z
UID:10022832-1777222800-1777227300@www.huntingtonarts.org
SUMMARY:Dance Visions NY presents “There But by Fortune” for SPARK Theatre Festival
DESCRIPTION:Choreographer. Beth Jucovy premieres her new work at the prestigious SPARK Theatre Festival at the 28th St Theatre\, NYC. There But by Fortune is a theatrical dance work incorporating live song that explores emotional and moral complexities of family\, dependence\, and power buffeted by the inequities of fortune and circumstance. The work invites audiences to question success and systems enabling exploitation\, both within personal relationships and a broader social and political context. With Beth Jucovy and Louisa Armstrong-Harrison and a chorus of company dancers as well as Farah Chandu and the Willow Women’s Choir.\n*This work is supported by Long Island Grants for the Arts through funds provided by the office of the Governor and the New York State Legislature\, and administered by The Huntington Arts Council.
URL:https://www.huntingtonarts.org/event/dance-visions-ny-presents-there-but-by-fortune-for-spark-theatre-festival/
LOCATION:Tada! Theatre/28th St Theatre\, 15 W. 28th Street\, 2nd Fl\, 10001\, New York\, 10001\, United States
CATEGORIES:Dance,Music,Theater
ATTACH;FMTTYPE=image/png:https://www.huntingtonarts.org/wp-content/uploads/2026/03/There-but-by-Fortune.-image.png
ORGANIZER;CN="Dance Visions NY":MAILTO:dancevisions.ny@gmail.com
END:VEVENT
BEGIN:VEVENT
DTSTART;TZID=America/New_York:20260428T183000
DTEND;TZID=America/New_York:20260428T200000
DTSTAMP:20260421T181601
CREATED:20251010T151121Z
LAST-MODIFIED:20251010T151121Z
UID:10017129-1777401000-1777406400@www.huntingtonarts.org
SUMMARY:4-Day Workshop: Enhance Your Understanding of Music Theory
DESCRIPTION:4-Day Workshop- offered online or on-site\nRegardless of the option you chose\, the 4-day workshop is designed to enhance your understanding of music theory\, to fill in the gaps\, and provide enlightening “aha” moments\, leading to a deeper connection with how music works. Furthermore\, this course aims to maximize your investment of time\, money\, and effort while cultivating the skills and understanding needed for improvisation and composition. \nThe workshop consists of 4 sessions\, each lasting approximately 1.5 hours. During these sessions\, I will guide you through the material and demonstrate key concepts. \nWorkshop Includes- \nFull access to the Online Video 4-Day Workshop. This will allow you to review the material before and after the workshop\nAlso Includes 3 Bonus eBooks- ($90 Value) \nHistory of Music Genres\nHistory of Note Names\nHistory of Music Notation\nThe First Session will take place on Thursday\, November 6\, at 6:30 p.m. Following that\, each following session will be offered on Tuesdays and Thursdays at 6:30 p.m.\, allowing you to choose the day and time that works best for you. \nSpace is limited\, so join today at- \nhttps://www.beforeyoulearn.com/musictheory \nand schedule your sessions using our online calendar once you’ve determined which days’ work best for you. \nThe cost is $220. \nWe are looking forward to seeing you there!
URL:https://www.huntingtonarts.org/event/4-day-workshop-enhance-your-understanding-of-music-theory/2026-04-28/
LOCATION:Please CHOOSE or add your venue!\, NY\, United States
CATEGORIES:Lectures,Miscellaneous,Music,Workshop Classes
ATTACH;FMTTYPE=image/png:https://www.huntingtonarts.org/wp-content/uploads/2025/10/camille.png
GEO:40.7127837;-74.0059413
END:VEVENT
BEGIN:VEVENT
DTSTART;TZID=America/New_York:20260430T183000
DTEND;TZID=America/New_York:20260430T200000
DTSTAMP:20260421T181601
CREATED:20251010T151121Z
LAST-MODIFIED:20251010T151121Z
UID:10017130-1777573800-1777579200@www.huntingtonarts.org
SUMMARY:4-Day Workshop: Enhance Your Understanding of Music Theory
DESCRIPTION:4-Day Workshop- offered online or on-site\nRegardless of the option you chose\, the 4-day workshop is designed to enhance your understanding of music theory\, to fill in the gaps\, and provide enlightening “aha” moments\, leading to a deeper connection with how music works. Furthermore\, this course aims to maximize your investment of time\, money\, and effort while cultivating the skills and understanding needed for improvisation and composition. \nThe workshop consists of 4 sessions\, each lasting approximately 1.5 hours. During these sessions\, I will guide you through the material and demonstrate key concepts. \nWorkshop Includes- \nFull access to the Online Video 4-Day Workshop. This will allow you to review the material before and after the workshop\nAlso Includes 3 Bonus eBooks- ($90 Value) \nHistory of Music Genres\nHistory of Note Names\nHistory of Music Notation\nThe First Session will take place on Thursday\, November 6\, at 6:30 p.m. Following that\, each following session will be offered on Tuesdays and Thursdays at 6:30 p.m.\, allowing you to choose the day and time that works best for you. \nSpace is limited\, so join today at- \nhttps://www.beforeyoulearn.com/musictheory \nand schedule your sessions using our online calendar once you’ve determined which days’ work best for you. \nThe cost is $220. \nWe are looking forward to seeing you there!
URL:https://www.huntingtonarts.org/event/4-day-workshop-enhance-your-understanding-of-music-theory/2026-04-30/
LOCATION:Please CHOOSE or add your venue!\, NY\, United States
CATEGORIES:Lectures,Miscellaneous,Music,Workshop Classes
ATTACH;FMTTYPE=image/png:https://www.huntingtonarts.org/wp-content/uploads/2025/10/camille.png
GEO:40.7127837;-74.0059413
END:VEVENT
END:VCALENDAR