BEGIN:VCALENDAR
VERSION:2.0
PRODID:-//Huntington Arts Council - ECPv6.15.20//NONSGML v1.0//EN
CALSCALE:GREGORIAN
METHOD:PUBLISH
X-WR-CALNAME:Huntington Arts Council
X-ORIGINAL-URL:https://www.huntingtonarts.org
X-WR-CALDESC:Events for Huntington Arts Council
REFRESH-INTERVAL;VALUE=DURATION:PT1H
X-Robots-Tag:noindex
X-PUBLISHED-TTL:PT1H
BEGIN:VTIMEZONE
TZID:America/New_York
BEGIN:DAYLIGHT
TZOFFSETFROM:-0500
TZOFFSETTO:-0400
TZNAME:EDT
DTSTART:20250309T070000
END:DAYLIGHT
BEGIN:STANDARD
TZOFFSETFROM:-0400
TZOFFSETTO:-0500
TZNAME:EST
DTSTART:20251102T060000
END:STANDARD
BEGIN:DAYLIGHT
TZOFFSETFROM:-0500
TZOFFSETTO:-0400
TZNAME:EDT
DTSTART:20260308T070000
END:DAYLIGHT
BEGIN:STANDARD
TZOFFSETFROM:-0400
TZOFFSETTO:-0500
TZNAME:EST
DTSTART:20261101T060000
END:STANDARD
BEGIN:DAYLIGHT
TZOFFSETFROM:-0500
TZOFFSETTO:-0400
TZNAME:EDT
DTSTART:20270314T070000
END:DAYLIGHT
BEGIN:STANDARD
TZOFFSETFROM:-0400
TZOFFSETTO:-0500
TZNAME:EST
DTSTART:20271107T060000
END:STANDARD
END:VTIMEZONE
BEGIN:VEVENT
DTSTART;TZID=America/New_York:20260927T143000
DTEND;TZID=America/New_York:20260927T153000
DTSTAMP:20260422T055951
CREATED:20260327T152447Z
LAST-MODIFIED:20260327T152447Z
UID:10023093-1790519400-1790523000@www.huntingtonarts.org
SUMMARY:Harborfields Library presents September Serenade
DESCRIPTION:Step into a world of shimmering sound as The Flutissimo! Flute Quartet welcomes\nautumn. Joined by guest pianist Aglaia Savalas Messina\, flutists Claudia Beeby\,\nJennifer Haley\, Leslie Strait\, and Jerene Weitman present a delightful afternoon of light\nclassics and favorite gems of the flute ensemble repertoire. In addition to selections\nperformed on traditional C flutes\, the silvery brightness of the piccolo and the velvet\ntones of the alto and bass flutes add the depth of the entire flute family to the program. Please register at the Harborfields Public Library website.
URL:https://www.huntingtonarts.org/event/harborfields-library-presents-september-serenade/
LOCATION:Harborfields Public Library\, 31 Broadway\, Greenlawn\, NY\, 11740\, United States
CATEGORIES:Music
GEO:40.8725573;-73.3661691
X-APPLE-STRUCTURED-LOCATION;VALUE=URI;X-ADDRESS=Harborfields Public Library 31 Broadway Greenlawn NY 11740 United States;X-APPLE-RADIUS=500;X-TITLE=31 Broadway:geo:-73.3661691,40.8725573
END:VEVENT
BEGIN:VEVENT
DTSTART;TZID=America/New_York:20260927T150000
DTEND;TZID=America/New_York:20260927T170000
DTSTAMP:20260422T055951
CREATED:20260421T164550Z
LAST-MODIFIED:20260421T164635Z
UID:10024198-1790521200-1790528400@www.huntingtonarts.org
SUMMARY:Dance Visions NY and the Friends of Cedarmere present Tuffets and Tricksters
DESCRIPTION:Dance Visions NY presents “Tuffets and Tricksters\,” a new site-specific program for Cedarmere\, with a thematic focus inspired by the enduring lessons of fables\, parables\, nursery rhymes\, fairy tales\, and mythology. Across cultures and centuries\, these narrative forms have provided frameworks for grappling with ethical dilemmas\, personal responsibility\, power\, courage\, and compassion. We will artistically express how these foundational moral narratives resonate within contemporary challenges in an increasingly perilous world. Through dance works alongside song\, spoken word\, and visual art\, the program reinterprets these stories through a contemporary artistic lens allowing audiences to encounter these ideas viscerally and reflectively.
URL:https://www.huntingtonarts.org/event/dance-visions-ny-and-the-friends-of-cedarmere-present-tuffets-and-tricksters/
LOCATION:Cedarmere\, 225 Bryant Ave\,\, Roslyn Harbor\, NY\, 11576\, United States
CATEGORIES:Children and Family,Dance,Miscellaneous,Music,Theater
ATTACH;FMTTYPE=image/jpeg:https://www.huntingtonarts.org/wp-content/uploads/2026/04/Valse-Brillliante-Anne-and-Lexi.jpg
ORGANIZER;CN="Dance Visions NY":MAILTO:dancevisions.ny@gmail.com
END:VEVENT
END:VCALENDAR