BEGIN:VCALENDAR
VERSION:2.0
PRODID:-//Huntington Arts Council - ECPv6.15.20//NONSGML v1.0//EN
CALSCALE:GREGORIAN
METHOD:PUBLISH
X-WR-CALNAME:Huntington Arts Council
X-ORIGINAL-URL:https://www.huntingtonarts.org
X-WR-CALDESC:Events for Huntington Arts Council
REFRESH-INTERVAL;VALUE=DURATION:PT1H
X-Robots-Tag:noindex
X-PUBLISHED-TTL:PT1H
BEGIN:VTIMEZONE
TZID:America/New_York
BEGIN:DAYLIGHT
TZOFFSETFROM:-0500
TZOFFSETTO:-0400
TZNAME:EDT
DTSTART:20250309T070000
END:DAYLIGHT
BEGIN:STANDARD
TZOFFSETFROM:-0400
TZOFFSETTO:-0500
TZNAME:EST
DTSTART:20251102T060000
END:STANDARD
BEGIN:DAYLIGHT
TZOFFSETFROM:-0500
TZOFFSETTO:-0400
TZNAME:EDT
DTSTART:20260308T070000
END:DAYLIGHT
BEGIN:STANDARD
TZOFFSETFROM:-0400
TZOFFSETTO:-0500
TZNAME:EST
DTSTART:20261101T060000
END:STANDARD
BEGIN:DAYLIGHT
TZOFFSETFROM:-0500
TZOFFSETTO:-0400
TZNAME:EDT
DTSTART:20270314T070000
END:DAYLIGHT
BEGIN:STANDARD
TZOFFSETFROM:-0400
TZOFFSETTO:-0500
TZNAME:EST
DTSTART:20271107T060000
END:STANDARD
END:VTIMEZONE
BEGIN:VEVENT
DTSTART;TZID=America/New_York:20260804T183000
DTEND;TZID=America/New_York:20260804T200000
DTSTAMP:20260422T024408
CREATED:20251010T151121Z
LAST-MODIFIED:20251010T151121Z
UID:10017157-1785868200-1785873600@www.huntingtonarts.org
SUMMARY:4-Day Workshop: Enhance Your Understanding of Music Theory
DESCRIPTION:4-Day Workshop- offered online or on-site\nRegardless of the option you chose\, the 4-day workshop is designed to enhance your understanding of music theory\, to fill in the gaps\, and provide enlightening “aha” moments\, leading to a deeper connection with how music works. Furthermore\, this course aims to maximize your investment of time\, money\, and effort while cultivating the skills and understanding needed for improvisation and composition. \nThe workshop consists of 4 sessions\, each lasting approximately 1.5 hours. During these sessions\, I will guide you through the material and demonstrate key concepts. \nWorkshop Includes- \nFull access to the Online Video 4-Day Workshop. This will allow you to review the material before and after the workshop\nAlso Includes 3 Bonus eBooks- ($90 Value) \nHistory of Music Genres\nHistory of Note Names\nHistory of Music Notation\nThe First Session will take place on Thursday\, November 6\, at 6:30 p.m. Following that\, each following session will be offered on Tuesdays and Thursdays at 6:30 p.m.\, allowing you to choose the day and time that works best for you. \nSpace is limited\, so join today at- \nhttps://www.beforeyoulearn.com/musictheory \nand schedule your sessions using our online calendar once you’ve determined which days’ work best for you. \nThe cost is $220. \nWe are looking forward to seeing you there!
URL:https://www.huntingtonarts.org/event/4-day-workshop-enhance-your-understanding-of-music-theory/2026-08-04/
LOCATION:Please CHOOSE or add your venue!\, NY\, United States
CATEGORIES:Lectures,Miscellaneous,Music,Workshop Classes
ATTACH;FMTTYPE=image/png:https://www.huntingtonarts.org/wp-content/uploads/2025/10/camille.png
GEO:40.7127837;-74.0059413
END:VEVENT
BEGIN:VEVENT
DTSTART;TZID=America/New_York:20260806T183000
DTEND;TZID=America/New_York:20260806T200000
DTSTAMP:20260422T024408
CREATED:20251010T151121Z
LAST-MODIFIED:20251010T151121Z
UID:10017158-1786041000-1786046400@www.huntingtonarts.org
SUMMARY:4-Day Workshop: Enhance Your Understanding of Music Theory
DESCRIPTION:4-Day Workshop- offered online or on-site\nRegardless of the option you chose\, the 4-day workshop is designed to enhance your understanding of music theory\, to fill in the gaps\, and provide enlightening “aha” moments\, leading to a deeper connection with how music works. Furthermore\, this course aims to maximize your investment of time\, money\, and effort while cultivating the skills and understanding needed for improvisation and composition. \nThe workshop consists of 4 sessions\, each lasting approximately 1.5 hours. During these sessions\, I will guide you through the material and demonstrate key concepts. \nWorkshop Includes- \nFull access to the Online Video 4-Day Workshop. This will allow you to review the material before and after the workshop\nAlso Includes 3 Bonus eBooks- ($90 Value) \nHistory of Music Genres\nHistory of Note Names\nHistory of Music Notation\nThe First Session will take place on Thursday\, November 6\, at 6:30 p.m. Following that\, each following session will be offered on Tuesdays and Thursdays at 6:30 p.m.\, allowing you to choose the day and time that works best for you. \nSpace is limited\, so join today at- \nhttps://www.beforeyoulearn.com/musictheory \nand schedule your sessions using our online calendar once you’ve determined which days’ work best for you. \nThe cost is $220. \nWe are looking forward to seeing you there!
URL:https://www.huntingtonarts.org/event/4-day-workshop-enhance-your-understanding-of-music-theory/2026-08-06/
LOCATION:Please CHOOSE or add your venue!\, NY\, United States
CATEGORIES:Lectures,Miscellaneous,Music,Workshop Classes
ATTACH;FMTTYPE=image/png:https://www.huntingtonarts.org/wp-content/uploads/2025/10/camille.png
GEO:40.7127837;-74.0059413
END:VEVENT
BEGIN:VEVENT
DTSTART;TZID=America/New_York:20260809T140000
DTEND;TZID=America/New_York:20260809T160000
DTSTAMP:20260422T024408
CREATED:20260420T154758Z
LAST-MODIFIED:20260420T154947Z
UID:10023910-1786284000-1786291200@www.huntingtonarts.org
SUMMARY:Serenade Duo presents Concert & Create
DESCRIPTION:Join international award-winning ensemble Serenade Duo\, Michelle LaPorte flutist and Gerry Saulter guitarist\, for an engaging recital of “Global Chamber Music” surrounded by The Atelier’s exhibition\, “Color of Light”. Participants will discover inspiration from flute and guitar music from around the world\, and explore their creativity by working on their own art during the concert. Serenade Duo will also share engaging conversation about the music to foster mindful listening\, emotional reflection\, personal and community connections. \nBring your own art supplies or use some materials provided by The Atelier. Refreshments will be served.\nPlease register to attend. Contact: administrator@atelierflowerfield.org or call 631-250-9009\nThe New Atelier | 2 Flowerfield\, Suite 9 | Saint James\, NY | 11780 \nThis project is made possible with funds from the Statewide Community Regrants Program\, a regrant program of the New York State Council on the Arts with the support of the Office of the Governor and the New York State Legislature and administered by The Huntington Arts Council.
URL:https://www.huntingtonarts.org/event/concert-create-with-serenade-duo-2/
LOCATION:The Atelier at Flowerfield\, 2 Flowerfield\, St. James\, NY\, 11780\, United States
CATEGORIES:Exhibitions,Music
ATTACH;FMTTYPE=image/jpeg:https://www.huntingtonarts.org/wp-content/uploads/2026/04/IMG_8508-scaled.jpeg
ORGANIZER;CN="Serenade Duo":MAILTO:serenadeduo@gmail.com
END:VEVENT
BEGIN:VEVENT
DTSTART;TZID=America/New_York:20260811T183000
DTEND;TZID=America/New_York:20260811T200000
DTSTAMP:20260422T024408
CREATED:20251010T151121Z
LAST-MODIFIED:20251010T151121Z
UID:10017159-1786473000-1786478400@www.huntingtonarts.org
SUMMARY:4-Day Workshop: Enhance Your Understanding of Music Theory
DESCRIPTION:4-Day Workshop- offered online or on-site\nRegardless of the option you chose\, the 4-day workshop is designed to enhance your understanding of music theory\, to fill in the gaps\, and provide enlightening “aha” moments\, leading to a deeper connection with how music works. Furthermore\, this course aims to maximize your investment of time\, money\, and effort while cultivating the skills and understanding needed for improvisation and composition. \nThe workshop consists of 4 sessions\, each lasting approximately 1.5 hours. During these sessions\, I will guide you through the material and demonstrate key concepts. \nWorkshop Includes- \nFull access to the Online Video 4-Day Workshop. This will allow you to review the material before and after the workshop\nAlso Includes 3 Bonus eBooks- ($90 Value) \nHistory of Music Genres\nHistory of Note Names\nHistory of Music Notation\nThe First Session will take place on Thursday\, November 6\, at 6:30 p.m. Following that\, each following session will be offered on Tuesdays and Thursdays at 6:30 p.m.\, allowing you to choose the day and time that works best for you. \nSpace is limited\, so join today at- \nhttps://www.beforeyoulearn.com/musictheory \nand schedule your sessions using our online calendar once you’ve determined which days’ work best for you. \nThe cost is $220. \nWe are looking forward to seeing you there!
URL:https://www.huntingtonarts.org/event/4-day-workshop-enhance-your-understanding-of-music-theory/2026-08-11/
LOCATION:Please CHOOSE or add your venue!\, NY\, United States
CATEGORIES:Lectures,Miscellaneous,Music,Workshop Classes
ATTACH;FMTTYPE=image/png:https://www.huntingtonarts.org/wp-content/uploads/2025/10/camille.png
GEO:40.7127837;-74.0059413
END:VEVENT
BEGIN:VEVENT
DTSTART;TZID=America/New_York:20260813T183000
DTEND;TZID=America/New_York:20260813T200000
DTSTAMP:20260422T024408
CREATED:20251010T151121Z
LAST-MODIFIED:20251010T151121Z
UID:10017160-1786645800-1786651200@www.huntingtonarts.org
SUMMARY:4-Day Workshop: Enhance Your Understanding of Music Theory
DESCRIPTION:4-Day Workshop- offered online or on-site\nRegardless of the option you chose\, the 4-day workshop is designed to enhance your understanding of music theory\, to fill in the gaps\, and provide enlightening “aha” moments\, leading to a deeper connection with how music works. Furthermore\, this course aims to maximize your investment of time\, money\, and effort while cultivating the skills and understanding needed for improvisation and composition. \nThe workshop consists of 4 sessions\, each lasting approximately 1.5 hours. During these sessions\, I will guide you through the material and demonstrate key concepts. \nWorkshop Includes- \nFull access to the Online Video 4-Day Workshop. This will allow you to review the material before and after the workshop\nAlso Includes 3 Bonus eBooks- ($90 Value) \nHistory of Music Genres\nHistory of Note Names\nHistory of Music Notation\nThe First Session will take place on Thursday\, November 6\, at 6:30 p.m. Following that\, each following session will be offered on Tuesdays and Thursdays at 6:30 p.m.\, allowing you to choose the day and time that works best for you. \nSpace is limited\, so join today at- \nhttps://www.beforeyoulearn.com/musictheory \nand schedule your sessions using our online calendar once you’ve determined which days’ work best for you. \nThe cost is $220. \nWe are looking forward to seeing you there!
URL:https://www.huntingtonarts.org/event/4-day-workshop-enhance-your-understanding-of-music-theory/2026-08-13/
LOCATION:Please CHOOSE or add your venue!\, NY\, United States
CATEGORIES:Lectures,Miscellaneous,Music,Workshop Classes
ATTACH;FMTTYPE=image/png:https://www.huntingtonarts.org/wp-content/uploads/2025/10/camille.png
GEO:40.7127837;-74.0059413
END:VEVENT
BEGIN:VEVENT
DTSTART;TZID=America/New_York:20260818T183000
DTEND;TZID=America/New_York:20260818T200000
DTSTAMP:20260422T024408
CREATED:20251010T151121Z
LAST-MODIFIED:20251010T151121Z
UID:10017161-1787077800-1787083200@www.huntingtonarts.org
SUMMARY:4-Day Workshop: Enhance Your Understanding of Music Theory
DESCRIPTION:4-Day Workshop- offered online or on-site\nRegardless of the option you chose\, the 4-day workshop is designed to enhance your understanding of music theory\, to fill in the gaps\, and provide enlightening “aha” moments\, leading to a deeper connection with how music works. Furthermore\, this course aims to maximize your investment of time\, money\, and effort while cultivating the skills and understanding needed for improvisation and composition. \nThe workshop consists of 4 sessions\, each lasting approximately 1.5 hours. During these sessions\, I will guide you through the material and demonstrate key concepts. \nWorkshop Includes- \nFull access to the Online Video 4-Day Workshop. This will allow you to review the material before and after the workshop\nAlso Includes 3 Bonus eBooks- ($90 Value) \nHistory of Music Genres\nHistory of Note Names\nHistory of Music Notation\nThe First Session will take place on Thursday\, November 6\, at 6:30 p.m. Following that\, each following session will be offered on Tuesdays and Thursdays at 6:30 p.m.\, allowing you to choose the day and time that works best for you. \nSpace is limited\, so join today at- \nhttps://www.beforeyoulearn.com/musictheory \nand schedule your sessions using our online calendar once you’ve determined which days’ work best for you. \nThe cost is $220. \nWe are looking forward to seeing you there!
URL:https://www.huntingtonarts.org/event/4-day-workshop-enhance-your-understanding-of-music-theory/2026-08-18/
LOCATION:Please CHOOSE or add your venue!\, NY\, United States
CATEGORIES:Lectures,Miscellaneous,Music,Workshop Classes
ATTACH;FMTTYPE=image/png:https://www.huntingtonarts.org/wp-content/uploads/2025/10/camille.png
GEO:40.7127837;-74.0059413
END:VEVENT
BEGIN:VEVENT
DTSTART;TZID=America/New_York:20260820T183000
DTEND;TZID=America/New_York:20260820T200000
DTSTAMP:20260422T024408
CREATED:20251010T151121Z
LAST-MODIFIED:20251010T151121Z
UID:10017162-1787250600-1787256000@www.huntingtonarts.org
SUMMARY:4-Day Workshop: Enhance Your Understanding of Music Theory
DESCRIPTION:4-Day Workshop- offered online or on-site\nRegardless of the option you chose\, the 4-day workshop is designed to enhance your understanding of music theory\, to fill in the gaps\, and provide enlightening “aha” moments\, leading to a deeper connection with how music works. Furthermore\, this course aims to maximize your investment of time\, money\, and effort while cultivating the skills and understanding needed for improvisation and composition. \nThe workshop consists of 4 sessions\, each lasting approximately 1.5 hours. During these sessions\, I will guide you through the material and demonstrate key concepts. \nWorkshop Includes- \nFull access to the Online Video 4-Day Workshop. This will allow you to review the material before and after the workshop\nAlso Includes 3 Bonus eBooks- ($90 Value) \nHistory of Music Genres\nHistory of Note Names\nHistory of Music Notation\nThe First Session will take place on Thursday\, November 6\, at 6:30 p.m. Following that\, each following session will be offered on Tuesdays and Thursdays at 6:30 p.m.\, allowing you to choose the day and time that works best for you. \nSpace is limited\, so join today at- \nhttps://www.beforeyoulearn.com/musictheory \nand schedule your sessions using our online calendar once you’ve determined which days’ work best for you. \nThe cost is $220. \nWe are looking forward to seeing you there!
URL:https://www.huntingtonarts.org/event/4-day-workshop-enhance-your-understanding-of-music-theory/2026-08-20/
LOCATION:Please CHOOSE or add your venue!\, NY\, United States
CATEGORIES:Lectures,Miscellaneous,Music,Workshop Classes
ATTACH;FMTTYPE=image/png:https://www.huntingtonarts.org/wp-content/uploads/2025/10/camille.png
GEO:40.7127837;-74.0059413
END:VEVENT
BEGIN:VEVENT
DTSTART;TZID=America/New_York:20260825T183000
DTEND;TZID=America/New_York:20260825T200000
DTSTAMP:20260422T024408
CREATED:20251010T151121Z
LAST-MODIFIED:20251010T151121Z
UID:10017163-1787682600-1787688000@www.huntingtonarts.org
SUMMARY:4-Day Workshop: Enhance Your Understanding of Music Theory
DESCRIPTION:4-Day Workshop- offered online or on-site\nRegardless of the option you chose\, the 4-day workshop is designed to enhance your understanding of music theory\, to fill in the gaps\, and provide enlightening “aha” moments\, leading to a deeper connection with how music works. Furthermore\, this course aims to maximize your investment of time\, money\, and effort while cultivating the skills and understanding needed for improvisation and composition. \nThe workshop consists of 4 sessions\, each lasting approximately 1.5 hours. During these sessions\, I will guide you through the material and demonstrate key concepts. \nWorkshop Includes- \nFull access to the Online Video 4-Day Workshop. This will allow you to review the material before and after the workshop\nAlso Includes 3 Bonus eBooks- ($90 Value) \nHistory of Music Genres\nHistory of Note Names\nHistory of Music Notation\nThe First Session will take place on Thursday\, November 6\, at 6:30 p.m. Following that\, each following session will be offered on Tuesdays and Thursdays at 6:30 p.m.\, allowing you to choose the day and time that works best for you. \nSpace is limited\, so join today at- \nhttps://www.beforeyoulearn.com/musictheory \nand schedule your sessions using our online calendar once you’ve determined which days’ work best for you. \nThe cost is $220. \nWe are looking forward to seeing you there!
URL:https://www.huntingtonarts.org/event/4-day-workshop-enhance-your-understanding-of-music-theory/2026-08-25/
LOCATION:Please CHOOSE or add your venue!\, NY\, United States
CATEGORIES:Lectures,Miscellaneous,Music,Workshop Classes
ATTACH;FMTTYPE=image/png:https://www.huntingtonarts.org/wp-content/uploads/2025/10/camille.png
GEO:40.7127837;-74.0059413
END:VEVENT
BEGIN:VEVENT
DTSTART;TZID=America/New_York:20260827T183000
DTEND;TZID=America/New_York:20260827T200000
DTSTAMP:20260422T024408
CREATED:20251010T151121Z
LAST-MODIFIED:20251010T151121Z
UID:10017164-1787855400-1787860800@www.huntingtonarts.org
SUMMARY:4-Day Workshop: Enhance Your Understanding of Music Theory
DESCRIPTION:4-Day Workshop- offered online or on-site\nRegardless of the option you chose\, the 4-day workshop is designed to enhance your understanding of music theory\, to fill in the gaps\, and provide enlightening “aha” moments\, leading to a deeper connection with how music works. Furthermore\, this course aims to maximize your investment of time\, money\, and effort while cultivating the skills and understanding needed for improvisation and composition. \nThe workshop consists of 4 sessions\, each lasting approximately 1.5 hours. During these sessions\, I will guide you through the material and demonstrate key concepts. \nWorkshop Includes- \nFull access to the Online Video 4-Day Workshop. This will allow you to review the material before and after the workshop\nAlso Includes 3 Bonus eBooks- ($90 Value) \nHistory of Music Genres\nHistory of Note Names\nHistory of Music Notation\nThe First Session will take place on Thursday\, November 6\, at 6:30 p.m. Following that\, each following session will be offered on Tuesdays and Thursdays at 6:30 p.m.\, allowing you to choose the day and time that works best for you. \nSpace is limited\, so join today at- \nhttps://www.beforeyoulearn.com/musictheory \nand schedule your sessions using our online calendar once you’ve determined which days’ work best for you. \nThe cost is $220. \nWe are looking forward to seeing you there!
URL:https://www.huntingtonarts.org/event/4-day-workshop-enhance-your-understanding-of-music-theory/2026-08-27/
LOCATION:Please CHOOSE or add your venue!\, NY\, United States
CATEGORIES:Lectures,Miscellaneous,Music,Workshop Classes
ATTACH;FMTTYPE=image/png:https://www.huntingtonarts.org/wp-content/uploads/2025/10/camille.png
GEO:40.7127837;-74.0059413
END:VEVENT
END:VCALENDAR