BEGIN:VCALENDAR
VERSION:2.0
PRODID:-//Huntington Arts Council - ECPv6.15.20//NONSGML v1.0//EN
CALSCALE:GREGORIAN
METHOD:PUBLISH
X-WR-CALNAME:Huntington Arts Council
X-ORIGINAL-URL:https://www.huntingtonarts.org
X-WR-CALDESC:Events for Huntington Arts Council
REFRESH-INTERVAL;VALUE=DURATION:PT1H
X-Robots-Tag:noindex
X-PUBLISHED-TTL:PT1H
BEGIN:VTIMEZONE
TZID:America/New_York
BEGIN:DAYLIGHT
TZOFFSETFROM:-0500
TZOFFSETTO:-0400
TZNAME:EDT
DTSTART:20250309T070000
END:DAYLIGHT
BEGIN:STANDARD
TZOFFSETFROM:-0400
TZOFFSETTO:-0500
TZNAME:EST
DTSTART:20251102T060000
END:STANDARD
BEGIN:DAYLIGHT
TZOFFSETFROM:-0500
TZOFFSETTO:-0400
TZNAME:EDT
DTSTART:20260308T070000
END:DAYLIGHT
BEGIN:STANDARD
TZOFFSETFROM:-0400
TZOFFSETTO:-0500
TZNAME:EST
DTSTART:20261101T060000
END:STANDARD
BEGIN:DAYLIGHT
TZOFFSETFROM:-0500
TZOFFSETTO:-0400
TZNAME:EDT
DTSTART:20270314T070000
END:DAYLIGHT
BEGIN:STANDARD
TZOFFSETFROM:-0400
TZOFFSETTO:-0500
TZNAME:EST
DTSTART:20271107T060000
END:STANDARD
END:VTIMEZONE
BEGIN:VEVENT
DTSTART;TZID=America/New_York:20260503T140000
DTEND;TZID=America/New_York:20260503T153000
DTSTAMP:20260421T205901
CREATED:20260105T172946Z
LAST-MODIFIED:20260105T172946Z
UID:10018836-1777816800-1777822200@www.huntingtonarts.org
SUMMARY:Long Island Flute Club presents Serenade Duo
DESCRIPTION:The Long Island Flute Club in cooperation with the Half Hollow Hills Community Library is pleased to present international award-winning ensemble Serenade Duo\, Michelle LaPorte flutist and Gerry Saulter guitarist\, for an engaging recital of “Global Chamber Music”.  Enjoy flute and guitar music by composers from Around the World that celebrate heritage\, humanity\, and hope.  \nwww.longislandfluteclub.org\nwww.hhhlibrary.org \nFree General Admission
URL:https://www.huntingtonarts.org/event/long-island-flute-club-presents-serenade-duo/
LOCATION:Half Hollow Hills Community Library\, 55 Vanderbilt Parkway\, Dxi Hills\, NY\, 11746\, United States
CATEGORIES:Music
ATTACH;FMTTYPE=image/jpeg:https://www.huntingtonarts.org/wp-content/uploads/2025/12/SERENADE-DUO_2-1.jpg
ORGANIZER;CN="Serenade Duo":MAILTO:serenadeduo@gmail.com
GEO:40.804052;-73.360262
X-APPLE-STRUCTURED-LOCATION;VALUE=URI;X-ADDRESS=Half Hollow Hills Community Library 55 Vanderbilt Parkway Dxi Hills NY 11746 United States;X-APPLE-RADIUS=500;X-TITLE=55 Vanderbilt Parkway:geo:-73.360262,40.804052
END:VEVENT
BEGIN:VEVENT
DTSTART;TZID=America/New_York:20260505T183000
DTEND;TZID=America/New_York:20260505T200000
DTSTAMP:20260421T205901
CREATED:20251010T151121Z
LAST-MODIFIED:20251010T151121Z
UID:10017131-1778005800-1778011200@www.huntingtonarts.org
SUMMARY:4-Day Workshop: Enhance Your Understanding of Music Theory
DESCRIPTION:4-Day Workshop- offered online or on-site\nRegardless of the option you chose\, the 4-day workshop is designed to enhance your understanding of music theory\, to fill in the gaps\, and provide enlightening “aha” moments\, leading to a deeper connection with how music works. Furthermore\, this course aims to maximize your investment of time\, money\, and effort while cultivating the skills and understanding needed for improvisation and composition. \nThe workshop consists of 4 sessions\, each lasting approximately 1.5 hours. During these sessions\, I will guide you through the material and demonstrate key concepts. \nWorkshop Includes- \nFull access to the Online Video 4-Day Workshop. This will allow you to review the material before and after the workshop\nAlso Includes 3 Bonus eBooks- ($90 Value) \nHistory of Music Genres\nHistory of Note Names\nHistory of Music Notation\nThe First Session will take place on Thursday\, November 6\, at 6:30 p.m. Following that\, each following session will be offered on Tuesdays and Thursdays at 6:30 p.m.\, allowing you to choose the day and time that works best for you. \nSpace is limited\, so join today at- \nhttps://www.beforeyoulearn.com/musictheory \nand schedule your sessions using our online calendar once you’ve determined which days’ work best for you. \nThe cost is $220. \nWe are looking forward to seeing you there!
URL:https://www.huntingtonarts.org/event/4-day-workshop-enhance-your-understanding-of-music-theory/2026-05-05/
LOCATION:Please CHOOSE or add your venue!\, NY\, United States
CATEGORIES:Lectures,Miscellaneous,Music,Workshop Classes
ATTACH;FMTTYPE=image/png:https://www.huntingtonarts.org/wp-content/uploads/2025/10/camille.png
GEO:40.7127837;-74.0059413
END:VEVENT
BEGIN:VEVENT
DTSTART;TZID=America/New_York:20260507T183000
DTEND;TZID=America/New_York:20260507T200000
DTSTAMP:20260421T205901
CREATED:20251010T151121Z
LAST-MODIFIED:20251010T151121Z
UID:10017132-1778178600-1778184000@www.huntingtonarts.org
SUMMARY:4-Day Workshop: Enhance Your Understanding of Music Theory
DESCRIPTION:4-Day Workshop- offered online or on-site\nRegardless of the option you chose\, the 4-day workshop is designed to enhance your understanding of music theory\, to fill in the gaps\, and provide enlightening “aha” moments\, leading to a deeper connection with how music works. Furthermore\, this course aims to maximize your investment of time\, money\, and effort while cultivating the skills and understanding needed for improvisation and composition. \nThe workshop consists of 4 sessions\, each lasting approximately 1.5 hours. During these sessions\, I will guide you through the material and demonstrate key concepts. \nWorkshop Includes- \nFull access to the Online Video 4-Day Workshop. This will allow you to review the material before and after the workshop\nAlso Includes 3 Bonus eBooks- ($90 Value) \nHistory of Music Genres\nHistory of Note Names\nHistory of Music Notation\nThe First Session will take place on Thursday\, November 6\, at 6:30 p.m. Following that\, each following session will be offered on Tuesdays and Thursdays at 6:30 p.m.\, allowing you to choose the day and time that works best for you. \nSpace is limited\, so join today at- \nhttps://www.beforeyoulearn.com/musictheory \nand schedule your sessions using our online calendar once you’ve determined which days’ work best for you. \nThe cost is $220. \nWe are looking forward to seeing you there!
URL:https://www.huntingtonarts.org/event/4-day-workshop-enhance-your-understanding-of-music-theory/2026-05-07/
LOCATION:Please CHOOSE or add your venue!\, NY\, United States
CATEGORIES:Lectures,Miscellaneous,Music,Workshop Classes
ATTACH;FMTTYPE=image/png:https://www.huntingtonarts.org/wp-content/uploads/2025/10/camille.png
GEO:40.7127837;-74.0059413
END:VEVENT
BEGIN:VEVENT
DTSTART;TZID=America/New_York:20260509T130000
DTEND;TZID=America/New_York:20260509T160000
DTSTAMP:20260421T205901
CREATED:20250903T141425Z
LAST-MODIFIED:20250903T141425Z
UID:10016180-1778331600-1778342400@www.huntingtonarts.org
SUMMARY:The Metropolitan Youth Orchestra of New York (MYO) Nassau Ensembles at Carnegie Hall 2026
DESCRIPTION:Performing Ensembles:\nNassau Treble Choir: Craig B. Knapp\, Music Director | Sun Ah Choi\, Pianist\nNassau Concert Choir: Doreen Fryling\, Music Director| Jeong-Hwa Park\, Pianist\nNassau Senior Treble Choir: Louise O’Hanlon\, Music Director | Soyoung Kim\, Pianist\nNassau Chamber Chorale: Edward P. Norris III\, Music Director | Cara Verity\, Pianist\nNassau String Orchestra: Michelina Sobolewski\, Music Director\nNassau Concert Orchestra: Peggy Ho\, Music Director\nNassau Symphony Orchestra: Catherine Birke\, Music Director\nNassau Principal Orchestra: Scott Stickley\, Music Director
URL:https://www.huntingtonarts.org/event/the-metropolitan-youth-orchestra-of-new-york-myo-nassau-ensembles-at-carnegie-hall-2026/
LOCATION:Carnegie Hall\, 881 7th Avenue\, New York\, NY\, 10019\, United States
CATEGORIES:Music
ATTACH;FMTTYPE=image/png:https://www.huntingtonarts.org/wp-content/uploads/2025/08/Nassau-Carnegie.png
ORGANIZER;CN="The Metropolitan Youth Orchestra of New York (MYO)":MAILTO:admin@myo.org
END:VEVENT
BEGIN:VEVENT
DTSTART;TZID=America/New_York:20260509T200000
DTEND;TZID=America/New_York:20260509T220000
DTSTAMP:20260421T205901
CREATED:20260420T161415Z
LAST-MODIFIED:20260420T161415Z
UID:10023913-1778356800-1778364000@www.huntingtonarts.org
SUMMARY:Long Island Pride Chorus presents "Keep Marching"
DESCRIPTION:Get ready to fill your Saturday night with love\, laughter\, and unstoppable good vibes at Keep Marching! \nDon’t miss out—happiness is the main guest\, and the celebration starts May 9th at 8:00 PM at the Unitarian Universalist Fellowship of Huntington\, 109 Browns Road\, Huntington\, NY 11743. \nBuy your early bird tickets for $30 now! Prices go up April 25th. \nWe hope you’re able to join us!
URL:https://www.huntingtonarts.org/event/long-island-pride-chorus-presents-keep-marching/
LOCATION:The Unitarian Universalist Fellowship of Huntington\, 109 Brown's Road\, Huntington\, NY\, 11743\, United States
CATEGORIES:Music
ATTACH;FMTTYPE=image/jpeg:https://www.huntingtonarts.org/wp-content/uploads/2026/04/FlyerAsGraphic.jpg
ORGANIZER;CN="Long Island Pride Chorus":MAILTO:info@lipridechorus.org
GEO:40.8913693;-73.4369677
X-APPLE-STRUCTURED-LOCATION;VALUE=URI;X-ADDRESS=The Unitarian Universalist Fellowship of Huntington 109 Brown's Road Huntington NY 11743 United States;X-APPLE-RADIUS=500;X-TITLE=109 Brown's Road:geo:-73.4369677,40.8913693
END:VEVENT
BEGIN:VEVENT
DTSTART;TZID=America/New_York:20260512T183000
DTEND;TZID=America/New_York:20260512T200000
DTSTAMP:20260421T205901
CREATED:20251010T151121Z
LAST-MODIFIED:20251010T151121Z
UID:10017133-1778610600-1778616000@www.huntingtonarts.org
SUMMARY:4-Day Workshop: Enhance Your Understanding of Music Theory
DESCRIPTION:4-Day Workshop- offered online or on-site\nRegardless of the option you chose\, the 4-day workshop is designed to enhance your understanding of music theory\, to fill in the gaps\, and provide enlightening “aha” moments\, leading to a deeper connection with how music works. Furthermore\, this course aims to maximize your investment of time\, money\, and effort while cultivating the skills and understanding needed for improvisation and composition. \nThe workshop consists of 4 sessions\, each lasting approximately 1.5 hours. During these sessions\, I will guide you through the material and demonstrate key concepts. \nWorkshop Includes- \nFull access to the Online Video 4-Day Workshop. This will allow you to review the material before and after the workshop\nAlso Includes 3 Bonus eBooks- ($90 Value) \nHistory of Music Genres\nHistory of Note Names\nHistory of Music Notation\nThe First Session will take place on Thursday\, November 6\, at 6:30 p.m. Following that\, each following session will be offered on Tuesdays and Thursdays at 6:30 p.m.\, allowing you to choose the day and time that works best for you. \nSpace is limited\, so join today at- \nhttps://www.beforeyoulearn.com/musictheory \nand schedule your sessions using our online calendar once you’ve determined which days’ work best for you. \nThe cost is $220. \nWe are looking forward to seeing you there!
URL:https://www.huntingtonarts.org/event/4-day-workshop-enhance-your-understanding-of-music-theory/2026-05-12/
LOCATION:Please CHOOSE or add your venue!\, NY\, United States
CATEGORIES:Lectures,Miscellaneous,Music,Workshop Classes
ATTACH;FMTTYPE=image/png:https://www.huntingtonarts.org/wp-content/uploads/2025/10/camille.png
GEO:40.7127837;-74.0059413
END:VEVENT
BEGIN:VEVENT
DTSTART;TZID=America/New_York:20260514T183000
DTEND;TZID=America/New_York:20260514T200000
DTSTAMP:20260421T205901
CREATED:20251010T151121Z
LAST-MODIFIED:20251010T151121Z
UID:10017134-1778783400-1778788800@www.huntingtonarts.org
SUMMARY:4-Day Workshop: Enhance Your Understanding of Music Theory
DESCRIPTION:4-Day Workshop- offered online or on-site\nRegardless of the option you chose\, the 4-day workshop is designed to enhance your understanding of music theory\, to fill in the gaps\, and provide enlightening “aha” moments\, leading to a deeper connection with how music works. Furthermore\, this course aims to maximize your investment of time\, money\, and effort while cultivating the skills and understanding needed for improvisation and composition. \nThe workshop consists of 4 sessions\, each lasting approximately 1.5 hours. During these sessions\, I will guide you through the material and demonstrate key concepts. \nWorkshop Includes- \nFull access to the Online Video 4-Day Workshop. This will allow you to review the material before and after the workshop\nAlso Includes 3 Bonus eBooks- ($90 Value) \nHistory of Music Genres\nHistory of Note Names\nHistory of Music Notation\nThe First Session will take place on Thursday\, November 6\, at 6:30 p.m. Following that\, each following session will be offered on Tuesdays and Thursdays at 6:30 p.m.\, allowing you to choose the day and time that works best for you. \nSpace is limited\, so join today at- \nhttps://www.beforeyoulearn.com/musictheory \nand schedule your sessions using our online calendar once you’ve determined which days’ work best for you. \nThe cost is $220. \nWe are looking forward to seeing you there!
URL:https://www.huntingtonarts.org/event/4-day-workshop-enhance-your-understanding-of-music-theory/2026-05-14/
LOCATION:Please CHOOSE or add your venue!\, NY\, United States
CATEGORIES:Lectures,Miscellaneous,Music,Workshop Classes
ATTACH;FMTTYPE=image/png:https://www.huntingtonarts.org/wp-content/uploads/2025/10/camille.png
GEO:40.7127837;-74.0059413
END:VEVENT
BEGIN:VEVENT
DTSTART;TZID=America/New_York:20260516T130000
DTEND;TZID=America/New_York:20260516T160000
DTSTAMP:20260421T205901
CREATED:20250903T141436Z
LAST-MODIFIED:20250903T141436Z
UID:10016181-1778936400-1778947200@www.huntingtonarts.org
SUMMARY:The Metropolitan Youth Orchestra of New York (MYO) Suffolk Ensembles at Carnegie Hall 2026
DESCRIPTION:Performing Ensembles:\nSuffolk Treble Choir: Craig B. Knapp\, Music Director | Cara Verity\, Pianist\nSuffolk Senior Treble Choir: Rachel Nagle\, Music Director | James Nagle\, Pianist\nSuffolk Symphonic Choir: Brad Drinkwater\, Music Director | Joseph Franzino\, Pianist\nSuffolk String Orchestra: Felicya Schwarzman\, Music Director\nSuffolk Symphony Orchestra: Scott Zarchy\, Music Director\nSuffolk Principal Orchestra: Phil Preddice\, Music Director
URL:https://www.huntingtonarts.org/event/the-metropolitan-youth-orchestra-of-new-york-myo-suffolk-ensembles-at-carnegie-hall-2026/
LOCATION:Carnegie Hall\, 881 7th Avenue\, New York\, NY\, 10019\, United States
CATEGORIES:Music
ATTACH;FMTTYPE=image/png:https://www.huntingtonarts.org/wp-content/uploads/2025/08/Suffolk-Carnegie.png
ORGANIZER;CN="The Metropolitan Youth Orchestra of New York (MYO)":MAILTO:admin@myo.org
END:VEVENT
BEGIN:VEVENT
DTSTART;TZID=America/New_York:20260519T183000
DTEND;TZID=America/New_York:20260519T200000
DTSTAMP:20260421T205901
CREATED:20251010T151121Z
LAST-MODIFIED:20251010T151121Z
UID:10017135-1779215400-1779220800@www.huntingtonarts.org
SUMMARY:4-Day Workshop: Enhance Your Understanding of Music Theory
DESCRIPTION:4-Day Workshop- offered online or on-site\nRegardless of the option you chose\, the 4-day workshop is designed to enhance your understanding of music theory\, to fill in the gaps\, and provide enlightening “aha” moments\, leading to a deeper connection with how music works. Furthermore\, this course aims to maximize your investment of time\, money\, and effort while cultivating the skills and understanding needed for improvisation and composition. \nThe workshop consists of 4 sessions\, each lasting approximately 1.5 hours. During these sessions\, I will guide you through the material and demonstrate key concepts. \nWorkshop Includes- \nFull access to the Online Video 4-Day Workshop. This will allow you to review the material before and after the workshop\nAlso Includes 3 Bonus eBooks- ($90 Value) \nHistory of Music Genres\nHistory of Note Names\nHistory of Music Notation\nThe First Session will take place on Thursday\, November 6\, at 6:30 p.m. Following that\, each following session will be offered on Tuesdays and Thursdays at 6:30 p.m.\, allowing you to choose the day and time that works best for you. \nSpace is limited\, so join today at- \nhttps://www.beforeyoulearn.com/musictheory \nand schedule your sessions using our online calendar once you’ve determined which days’ work best for you. \nThe cost is $220. \nWe are looking forward to seeing you there!
URL:https://www.huntingtonarts.org/event/4-day-workshop-enhance-your-understanding-of-music-theory/2026-05-19/
LOCATION:Please CHOOSE or add your venue!\, NY\, United States
CATEGORIES:Lectures,Miscellaneous,Music,Workshop Classes
ATTACH;FMTTYPE=image/png:https://www.huntingtonarts.org/wp-content/uploads/2025/10/camille.png
GEO:40.7127837;-74.0059413
END:VEVENT
BEGIN:VEVENT
DTSTART;TZID=America/New_York:20260521T183000
DTEND;TZID=America/New_York:20260521T200000
DTSTAMP:20260421T205901
CREATED:20251010T151121Z
LAST-MODIFIED:20251010T151121Z
UID:10017136-1779388200-1779393600@www.huntingtonarts.org
SUMMARY:4-Day Workshop: Enhance Your Understanding of Music Theory
DESCRIPTION:4-Day Workshop- offered online or on-site\nRegardless of the option you chose\, the 4-day workshop is designed to enhance your understanding of music theory\, to fill in the gaps\, and provide enlightening “aha” moments\, leading to a deeper connection with how music works. Furthermore\, this course aims to maximize your investment of time\, money\, and effort while cultivating the skills and understanding needed for improvisation and composition. \nThe workshop consists of 4 sessions\, each lasting approximately 1.5 hours. During these sessions\, I will guide you through the material and demonstrate key concepts. \nWorkshop Includes- \nFull access to the Online Video 4-Day Workshop. This will allow you to review the material before and after the workshop\nAlso Includes 3 Bonus eBooks- ($90 Value) \nHistory of Music Genres\nHistory of Note Names\nHistory of Music Notation\nThe First Session will take place on Thursday\, November 6\, at 6:30 p.m. Following that\, each following session will be offered on Tuesdays and Thursdays at 6:30 p.m.\, allowing you to choose the day and time that works best for you. \nSpace is limited\, so join today at- \nhttps://www.beforeyoulearn.com/musictheory \nand schedule your sessions using our online calendar once you’ve determined which days’ work best for you. \nThe cost is $220. \nWe are looking forward to seeing you there!
URL:https://www.huntingtonarts.org/event/4-day-workshop-enhance-your-understanding-of-music-theory/2026-05-21/
LOCATION:Please CHOOSE or add your venue!\, NY\, United States
CATEGORIES:Lectures,Miscellaneous,Music,Workshop Classes
ATTACH;FMTTYPE=image/png:https://www.huntingtonarts.org/wp-content/uploads/2025/10/camille.png
GEO:40.7127837;-74.0059413
END:VEVENT
BEGIN:VEVENT
DTSTART;TZID=America/New_York:20260526T183000
DTEND;TZID=America/New_York:20260526T200000
DTSTAMP:20260421T205901
CREATED:20251010T151121Z
LAST-MODIFIED:20251010T151121Z
UID:10017137-1779820200-1779825600@www.huntingtonarts.org
SUMMARY:4-Day Workshop: Enhance Your Understanding of Music Theory
DESCRIPTION:4-Day Workshop- offered online or on-site\nRegardless of the option you chose\, the 4-day workshop is designed to enhance your understanding of music theory\, to fill in the gaps\, and provide enlightening “aha” moments\, leading to a deeper connection with how music works. Furthermore\, this course aims to maximize your investment of time\, money\, and effort while cultivating the skills and understanding needed for improvisation and composition. \nThe workshop consists of 4 sessions\, each lasting approximately 1.5 hours. During these sessions\, I will guide you through the material and demonstrate key concepts. \nWorkshop Includes- \nFull access to the Online Video 4-Day Workshop. This will allow you to review the material before and after the workshop\nAlso Includes 3 Bonus eBooks- ($90 Value) \nHistory of Music Genres\nHistory of Note Names\nHistory of Music Notation\nThe First Session will take place on Thursday\, November 6\, at 6:30 p.m. Following that\, each following session will be offered on Tuesdays and Thursdays at 6:30 p.m.\, allowing you to choose the day and time that works best for you. \nSpace is limited\, so join today at- \nhttps://www.beforeyoulearn.com/musictheory \nand schedule your sessions using our online calendar once you’ve determined which days’ work best for you. \nThe cost is $220. \nWe are looking forward to seeing you there!
URL:https://www.huntingtonarts.org/event/4-day-workshop-enhance-your-understanding-of-music-theory/2026-05-26/
LOCATION:Please CHOOSE or add your venue!\, NY\, United States
CATEGORIES:Lectures,Miscellaneous,Music,Workshop Classes
ATTACH;FMTTYPE=image/png:https://www.huntingtonarts.org/wp-content/uploads/2025/10/camille.png
GEO:40.7127837;-74.0059413
END:VEVENT
BEGIN:VEVENT
DTSTART;TZID=America/New_York:20260528T183000
DTEND;TZID=America/New_York:20260528T200000
DTSTAMP:20260421T205901
CREATED:20251010T151121Z
LAST-MODIFIED:20251010T151121Z
UID:10017138-1779993000-1779998400@www.huntingtonarts.org
SUMMARY:4-Day Workshop: Enhance Your Understanding of Music Theory
DESCRIPTION:4-Day Workshop- offered online or on-site\nRegardless of the option you chose\, the 4-day workshop is designed to enhance your understanding of music theory\, to fill in the gaps\, and provide enlightening “aha” moments\, leading to a deeper connection with how music works. Furthermore\, this course aims to maximize your investment of time\, money\, and effort while cultivating the skills and understanding needed for improvisation and composition. \nThe workshop consists of 4 sessions\, each lasting approximately 1.5 hours. During these sessions\, I will guide you through the material and demonstrate key concepts. \nWorkshop Includes- \nFull access to the Online Video 4-Day Workshop. This will allow you to review the material before and after the workshop\nAlso Includes 3 Bonus eBooks- ($90 Value) \nHistory of Music Genres\nHistory of Note Names\nHistory of Music Notation\nThe First Session will take place on Thursday\, November 6\, at 6:30 p.m. Following that\, each following session will be offered on Tuesdays and Thursdays at 6:30 p.m.\, allowing you to choose the day and time that works best for you. \nSpace is limited\, so join today at- \nhttps://www.beforeyoulearn.com/musictheory \nand schedule your sessions using our online calendar once you’ve determined which days’ work best for you. \nThe cost is $220. \nWe are looking forward to seeing you there!
URL:https://www.huntingtonarts.org/event/4-day-workshop-enhance-your-understanding-of-music-theory/2026-05-28/
LOCATION:Please CHOOSE or add your venue!\, NY\, United States
CATEGORIES:Lectures,Miscellaneous,Music,Workshop Classes
ATTACH;FMTTYPE=image/png:https://www.huntingtonarts.org/wp-content/uploads/2025/10/camille.png
GEO:40.7127837;-74.0059413
END:VEVENT
END:VCALENDAR