BEGIN:VCALENDAR
VERSION:2.0
PRODID:-//Huntington Arts Council - ECPv6.15.20//NONSGML v1.0//EN
CALSCALE:GREGORIAN
METHOD:PUBLISH
X-ORIGINAL-URL:https://www.huntingtonarts.org
X-WR-CALDESC:Events for Huntington Arts Council
REFRESH-INTERVAL;VALUE=DURATION:PT1H
X-Robots-Tag:noindex
X-PUBLISHED-TTL:PT1H
BEGIN:VTIMEZONE
TZID:America/New_York
BEGIN:DAYLIGHT
TZOFFSETFROM:-0500
TZOFFSETTO:-0400
TZNAME:EDT
DTSTART:20240310T070000
END:DAYLIGHT
BEGIN:STANDARD
TZOFFSETFROM:-0400
TZOFFSETTO:-0500
TZNAME:EST
DTSTART:20241103T060000
END:STANDARD
BEGIN:DAYLIGHT
TZOFFSETFROM:-0500
TZOFFSETTO:-0400
TZNAME:EDT
DTSTART:20250309T070000
END:DAYLIGHT
BEGIN:STANDARD
TZOFFSETFROM:-0400
TZOFFSETTO:-0500
TZNAME:EST
DTSTART:20251102T060000
END:STANDARD
BEGIN:DAYLIGHT
TZOFFSETFROM:-0500
TZOFFSETTO:-0400
TZNAME:EDT
DTSTART:20260308T070000
END:DAYLIGHT
BEGIN:STANDARD
TZOFFSETFROM:-0400
TZOFFSETTO:-0500
TZNAME:EST
DTSTART:20261101T060000
END:STANDARD
END:VTIMEZONE
BEGIN:VEVENT
DTSTART;TZID=America/New_York:20251004T100000
DTEND;TZID=America/New_York:20251004T123000
DTSTAMP:20260422T055740
CREATED:20251001T181716Z
LAST-MODIFIED:20251001T181716Z
UID:10017077-1759572000-1759581000@www.huntingtonarts.org
SUMMARY:Recorder Society of Long Island Playing Meeting
DESCRIPTION:RSLI is a welcoming group of recorder players of all levels who meet monthly to play music together. Our music director\, Rachel Begley\, will be leading the 10/4/25 session. Please look at our website RSLI.info for more information.
URL:https://www.huntingtonarts.org/event/recorder-society-of-long-island-playing-meeting-2/
LOCATION:St. Luke Lutheran Church\, 20 Candlewood Path\, Huntington Station\, NY
CATEGORIES:Music
ATTACH;FMTTYPE=image/jpeg:https://www.huntingtonarts.org/wp-content/uploads/2025/09/IMG_8799-1-scaled.jpg
ORGANIZER;CN="Recorder Society of Long Island":MAILTO:eventsrsli@gmail.com
END:VEVENT
BEGIN:VEVENT
DTSTART;TZID=America/New_York:20251009T180000
DTEND;TZID=America/New_York:20251009T200000
DTSTAMP:20260422T055740
CREATED:20250507T175332Z
LAST-MODIFIED:20250507T175332Z
UID:10015618-1760032800-1760040000@www.huntingtonarts.org
SUMMARY:Adriana Devers presents Latinx Arts Festival & Book Fair
DESCRIPTION:In observance of Hispanic Heritage Month join us is celebrating the vibrant works of latine authors\, visual artists\, musicians\, and performers. This immersive 3 day experience aims to empower and honor the rich traditions of our Latine/Hispanic community. In addition to the vibrant arts showcase\, the festival will have interactive workshops\, educational activities for all ages\, and opportunities for community engagement.\nOctober 9\, 2025 Day One – Grand Opening Showcase @ Westbury Memorial Public Library 6 p.m. – 8 p.m.\nOctober 10\, 2025 Day Two- Scholar Day – for students 5th-12th grades only (schools must register by July 1\, 2025) Nassau Community College 9 a.m. – 2p.m.\nOctober 11\, 2025 Day Three – Open to the public @ Nassau Community College 11 a.m. – 6 p.m.
URL:https://www.huntingtonarts.org/event/adriana-devers-presents-latinx-arts-festival-book-fair/
LOCATION:Westbury Library | Nassau Community College\, United States
CATEGORIES:Children and Family,Dance,Miscellaneous,Music,Poetry
ATTACH;FMTTYPE=image/jpeg:https://www.huntingtonarts.org/wp-content/uploads/2025/05/2025-Latinx-Arts-Fest-Flyer-1.jpg
ORGANIZER;CN="Adriana Devers":MAILTO:cuentosdetriadas@gmail.com
END:VEVENT
BEGIN:VEVENT
DTSTART;TZID=America/New_York:20251019T143000
DTEND;TZID=America/New_York:20251019T160000
DTSTAMP:20260422T055740
CREATED:20250617T141642Z
LAST-MODIFIED:20250627T202926Z
UID:10015658-1760884200-1760889600@www.huntingtonarts.org
SUMMARY:Harborfields Library presents The Como Brothers
DESCRIPTION:Matt and Andrew Como\, the dynamic singer/songwriter duo from Long Island\, NY\, bring their infectious energy and heartfelt music to the stage! Known for their signature blend of pop\, rock\, and soul\, their songs have been featured on hit TV shows like General Hospital\, The Young & the Restless\, Call Me Kat\, Keeping Up with the Kardashians\, MTV’s The Real World\, and more. Join them for an unforgettable afternoon of music\, featuring beloved hits from the 1950s to today—plus their own original songs that have captivated audiences worldwide! Generously sponsored by the Friends of the Library. All are welcome. Please register.
URL:https://www.huntingtonarts.org/event/harborfields-library-presents-the-como-brothers/
LOCATION:Harborfields Library\, 31 Broadway\, Greenlawn\, NY\, 11740\, United States
CATEGORIES:Music
ATTACH;FMTTYPE=image/png:https://www.huntingtonarts.org/wp-content/uploads/2025/06/Como-Bros-Oct2025_crop.png
ORGANIZER;CN="Harborfields Public Library Program Department":MAILTO:programs@harborfieldslibrary.org
END:VEVENT
BEGIN:VEVENT
DTSTART;TZID=America/New_York:20251023T190000
DTEND;TZID=America/New_York:20251023T203000
DTSTAMP:20260422T055740
CREATED:20251010T150957Z
LAST-MODIFIED:20251010T150957Z
UID:10017079-1761246000-1761251400@www.huntingtonarts.org
SUMMARY:Serenade Duo presents Concert & Create
DESCRIPTION:Join the international award-winning ensemble\, Serenade Duo\, as they fill the Jeanie Tengelsen Gallery with music. Bring a sketch pad\, journal\, other creative tools\, and allow flutist Michelle LaPorte and guitarist Gerry Saulter to inspire your creativity with their expressive playing of cross-cultural “Global Chamber Music”. \nBring your own art supplies or use some materials provided by the Art League. \nFREE Admission \nMichelle LaPorte is a 2025 Artist Fellowship Grant Recipient. This work is supported by Long Island Grants for the Arts through funds provided by the office of the Governor and the New York State Legislature and administered by The Huntington Arts Council.
URL:https://www.huntingtonarts.org/event/serenade-duo-presents-concert-create/
LOCATION:Art League of Long Island\, 107 East Deer Park Road\, Dix Hills\, NY\, 11746\, United States
CATEGORIES:Exhibitions,Music
ATTACH;FMTTYPE=image/png:https://www.huntingtonarts.org/wp-content/uploads/2025/10/Art-League.png
ORGANIZER;CN="Art League of Long Island":MAILTO:info@artleagueli.org
END:VEVENT
END:VCALENDAR