BEGIN:VCALENDAR
VERSION:2.0
PRODID:-//Huntington Arts Council - ECPv6.15.20//NONSGML v1.0//EN
CALSCALE:GREGORIAN
METHOD:PUBLISH
X-ORIGINAL-URL:https://www.huntingtonarts.org
X-WR-CALDESC:Events for Huntington Arts Council
REFRESH-INTERVAL;VALUE=DURATION:PT1H
X-Robots-Tag:noindex
X-PUBLISHED-TTL:PT1H
BEGIN:VTIMEZONE
TZID:America/New_York
BEGIN:DAYLIGHT
TZOFFSETFROM:-0500
TZOFFSETTO:-0400
TZNAME:EDT
DTSTART:20240310T070000
END:DAYLIGHT
BEGIN:STANDARD
TZOFFSETFROM:-0400
TZOFFSETTO:-0500
TZNAME:EST
DTSTART:20241103T060000
END:STANDARD
BEGIN:DAYLIGHT
TZOFFSETFROM:-0500
TZOFFSETTO:-0400
TZNAME:EDT
DTSTART:20250309T070000
END:DAYLIGHT
BEGIN:STANDARD
TZOFFSETFROM:-0400
TZOFFSETTO:-0500
TZNAME:EST
DTSTART:20251102T060000
END:STANDARD
BEGIN:DAYLIGHT
TZOFFSETFROM:-0500
TZOFFSETTO:-0400
TZNAME:EDT
DTSTART:20260308T070000
END:DAYLIGHT
BEGIN:STANDARD
TZOFFSETFROM:-0400
TZOFFSETTO:-0500
TZNAME:EST
DTSTART:20261101T060000
END:STANDARD
END:VTIMEZONE
BEGIN:VEVENT
DTSTART;TZID=America/New_York:20250905T183000
DTEND;TZID=America/New_York:20250905T203000
DTSTAMP:20260422T072612
CREATED:20250826T140241Z
LAST-MODIFIED:20250826T140241Z
UID:10015812-1757097000-1757104200@www.huntingtonarts.org
SUMMARY:The Heckscher Museum of Art presents The Mix: Last Toast of the Summer
DESCRIPTION:Savor the Season at The Mix: Last Toast of the Summer! \nAs summer fades\, join us for an outdoor party celebrating art\, music\, and the magic of the season’s final moments. Last Toast of the Summer invites you to get cozy in our outdoor café-style seating with wine and charcuterie pairings\, refreshing summer cocktails\, dancing\, and a live musical performance! This unforgettable edition of The Mix is the perfect way to toast to summer’s last days. \nRegistration recommended. Every ticket includes a cocktail or mocktail inspired by the event’s theme!
URL:https://www.huntingtonarts.org/event/the-heckscher-museum-of-art-presents-the-mix-last-toast-of-the-summer/
LOCATION:Heckscher Museum of Art\, 2 Prime Avenue\, Huntington\, NY\, 11743\, United States
CATEGORIES:Art Demo,Exhibitions,Music
ATTACH;FMTTYPE=image/jpeg:https://www.huntingtonarts.org/wp-content/uploads/2025/08/mixsept.jpg
ORGANIZER;CN="Heckscher Museum of Art":MAILTO:info@heckscher.org
GEO:40.8747968;-73.4217504
X-APPLE-STRUCTURED-LOCATION;VALUE=URI;X-ADDRESS=Heckscher Museum of Art 2 Prime Avenue Huntington NY 11743 United States;X-APPLE-RADIUS=500;X-TITLE=2 Prime Avenue:geo:-73.4217504,40.8747968
END:VEVENT
BEGIN:VEVENT
DTSTART;TZID=America/New_York:20250913T100000
DTEND;TZID=America/New_York:20250913T123000
DTSTAMP:20260422T072612
CREATED:20250909T173422Z
LAST-MODIFIED:20250909T173422Z
UID:10016196-1757757600-1757766600@www.huntingtonarts.org
SUMMARY:Recorder Society of Long Island Playing Meeting 9/13/25
DESCRIPTION:RSLI is a welcoming group of recorder players of all levels from beginners to experienced players. We meet monthly under the direction of a professional instructor to play music that can span several centuries. We meet at St.Luke Lutheran Church in Dix Hills. Our first meeting of the 2025-2026 season is 9/13/25. For more information\, go RSLI.info\, or email eventsRSLI@gamil.com.
URL:https://www.huntingtonarts.org/event/recorder-society-of-long-island-playing-meeting-9-13-25/
LOCATION:St. Luke Lutheran Church\, 20 Candlewood Path\, Huntington Station\, NY
CATEGORIES:Music
ATTACH;FMTTYPE=image/jpeg:https://www.huntingtonarts.org/wp-content/uploads/2025/09/IMG_8966-scaled.jpg
ORGANIZER;CN="Recorder Society of Long Island":MAILTO:eventsrsli@gmail.com
END:VEVENT
BEGIN:VEVENT
DTSTART;TZID=America/New_York:20250920T170000
DTEND;TZID=America/New_York:20250920T183000
DTSTAMP:20260422T072612
CREATED:20250826T140101Z
LAST-MODIFIED:20250826T140101Z
UID:10015809-1758387600-1758393000@www.huntingtonarts.org
SUMMARY:The Body Resilient: Visions of Art for Healing
DESCRIPTION:Dance Visions NY\, under the direction of Beth Jucovy\, returns to perform at Cedarmere Preserve\, the summer home of ‘America’s first poet” and journalist William Cullen Bryant! We are presenting a new concert outdoors on these beautiful grounds steeped in nature In collaboration with the Friends of Cedarmere. The concert will feature rarely seen\, timely heroic and dramatic repertory of Isadora Duncan. Additionally we will collaborate with our music partners\, Rose Gunter (Vocalist) Stuart Waters (pianist and vocalist) and Peter Greco (drummer) as well as Farah Chandu (vocalist) and Willow Interfaith Women’s Choir in new inspiring dance/music works. The concert addresses pain and healing\, despair and hope\, and challenges both personal and global in these unsettled times. \nWith 9 splendid company dancers: Louisa Armstrong-Harrison\, Tyler Brunson\, Emily Butera\, Abby Dias\, Patrec Alexander Jones-Brown\, Beth Jucovy\, Anne Parichon\, Lexi Sim\, Susan Steinman. \nArt show curated by local visual art master Marc Josloff\, in the Cedarmere mill at 4 pm\, prior to the concert. \nThis concert is supported by Long Island Grants for the Arts through funds provided by the office of the Governor and the New York State Legislature\, and administered by The Huntington Arts Council.
URL:https://www.huntingtonarts.org/event/the-body-resilient-visions-of-art-for-healing/
LOCATION:Cedarmere\, 225 Bryant Ave\,\, Roslyn Harbor\, NY\, 11576\, United States
CATEGORIES:Dance,Exhibitions,Music
ATTACH;FMTTYPE=image/png:https://www.huntingtonarts.org/wp-content/uploads/2025/08/Nocturne-B-L-CP.png
ORGANIZER;CN="Dance Visions NY":MAILTO:dancevisions.ny@gmail.com
END:VEVENT
BEGIN:VEVENT
DTSTART;TZID=America/New_York:20250921T140000
DTEND;TZID=America/New_York:20250921T160000
DTSTAMP:20260422T072612
CREATED:20250821T204147Z
LAST-MODIFIED:20250821T204147Z
UID:10015808-1758463200-1758470400@www.huntingtonarts.org
SUMMARY:Concert & Create with Serenade Duo
DESCRIPTION:Join international award-winning ensemble Serenade Duo\, Michelle LaPorte flutist and Gerry Saulter guitarist\, for an engaging recital of “Musical Landscapes” surrounded by The Atelier at Flowerfield’s current exhibition\, “Long Island Landscapes”. Bring your imagination\, curiosity\, sketch pads\, writing journals and/or any other creative tools to be a part of a multidisciplinary experience designed to bring people and the arts together! \nDiscover inspiration alongside artists Patty Yantz and Jonathan Van Brunt by working on your own art during this “Global Chamber Music” performance or just sit back and enjoy the music. To enhance the listening and creative experience\, Serenade Duo will share some friendly conversation about the pieces and composers. Audience interaction is encouraged! \nBring your own art supplies or use some materials provided by The Atelier. Refreshments will be served.\nPlease register to attend. Contact: adminasst@stelierflowerfield.org or call 631-250-9009\nThe Atelier at Flowerfield: 2 Flowerfield\, Suite 9\, St. James\, NY 11780 \nMichelle LaPorte is a 2025 Artist Fellowship Grant Recipient. This work is supported by Long Island Grants for the Arts through funds provided by the office of the Governor and the New York State Legislature and administered by The Huntington Arts Council.
URL:https://www.huntingtonarts.org/event/concert-create-with-serenade-duo/
LOCATION:The Atelier at Flowerfield\, 2 Flowerfield\, St. James\, NY\, 11780\, United States
CATEGORIES:Exhibitions,Music
ATTACH;FMTTYPE=image/jpeg:https://www.huntingtonarts.org/wp-content/uploads/2025/08/SERENADE-Small-version.jpg
ORGANIZER;CN="The Atelier at Flowerfiled":MAILTO:mary@MaryAhernArtist.com
END:VEVENT
BEGIN:VEVENT
DTSTART;TZID=America/New_York:20250921T150000
DTEND;TZID=America/New_York:20250921T163000
DTSTAMP:20260422T072612
CREATED:20250508T164424Z
LAST-MODIFIED:20250521T134058Z
UID:10015627-1758466800-1758472200@www.huntingtonarts.org
SUMMARY:Jazz! At The Barn presents Sam Dillon
DESCRIPTION:Saxophonist extraordinaire Sam Dillon is back at the barn this time leading his own band! Don’t miss it.\nTickets $15 plus eventbrite fee. Ticket link at https://jazzatthebarn.com/
URL:https://www.huntingtonarts.org/event/jazz-at-the-barn-presents-sam-dillon/
LOCATION:Conklin Barn\, 2 High street\, Huntington\, 11743\, United States
CATEGORIES:Music
ATTACH;FMTTYPE=image/png:https://www.huntingtonarts.org/wp-content/uploads/2025/05/1-2.png
ORGANIZER;CN="Vince Scuderi":MAILTO:vscuderimusic@gmail.com
END:VEVENT
BEGIN:VEVENT
DTSTART;TZID=America/New_York:20250928T143000
DTEND;TZID=America/New_York:20250928T153000
DTSTAMP:20260422T072612
CREATED:20250617T140121Z
LAST-MODIFIED:20250627T202904Z
UID:10015657-1759069800-1759073400@www.huntingtonarts.org
SUMMARY:Harborfields Library presents An Acoustic Afternoon with Guitarist Tal Naccarato
DESCRIPTION:Composter\, songwriter\, teaching artist and instrumentalist Italo ‘Tal’ Naccarato was born in the medieval mountain village of Flumefreddo Brusio in Calabria\, Italy and raised in East Flatbush\, Brooklyn. His stylized original work\, highlighting a deep appreciation for traditional Folk and Americana Roots music is steeped heavily in Rock and Blues and includes his original classical guitar-inspired compositions\, performed with a ‘bluesy swing’. Join us for an afternoon of music sponsored by the Friends of the Harborfields Library. All are welcome. Please register.
URL:https://www.huntingtonarts.org/event/harborfields-library-presents-an-acoustic-afternoon-with-guitarist-tal-naccarato/
LOCATION:Harborfields Library\, 31 Broadway\, Greenlawn\, NY\, 11740\, United States
CATEGORIES:Music
ATTACH;FMTTYPE=image/jpeg:https://www.huntingtonarts.org/wp-content/uploads/2025/06/Tal-Naccarato-Promo2-_no-Type-scaled.jpeg
ORGANIZER;CN="Harborfields Public Library Program Department":MAILTO:programs@harborfieldslibrary.org
END:VEVENT
END:VCALENDAR