BEGIN:VCALENDAR
VERSION:2.0
PRODID:-//Huntington Arts Council - ECPv6.15.20//NONSGML v1.0//EN
CALSCALE:GREGORIAN
METHOD:PUBLISH
X-WR-CALNAME:Huntington Arts Council
X-ORIGINAL-URL:https://www.huntingtonarts.org
X-WR-CALDESC:Events for Huntington Arts Council
REFRESH-INTERVAL;VALUE=DURATION:PT1H
X-Robots-Tag:noindex
X-PUBLISHED-TTL:PT1H
BEGIN:VTIMEZONE
TZID:America/New_York
BEGIN:DAYLIGHT
TZOFFSETFROM:-0500
TZOFFSETTO:-0400
TZNAME:EDT
DTSTART:20240310T070000
END:DAYLIGHT
BEGIN:STANDARD
TZOFFSETFROM:-0400
TZOFFSETTO:-0500
TZNAME:EST
DTSTART:20241103T060000
END:STANDARD
BEGIN:DAYLIGHT
TZOFFSETFROM:-0500
TZOFFSETTO:-0400
TZNAME:EDT
DTSTART:20250309T070000
END:DAYLIGHT
BEGIN:STANDARD
TZOFFSETFROM:-0400
TZOFFSETTO:-0500
TZNAME:EST
DTSTART:20251102T060000
END:STANDARD
BEGIN:DAYLIGHT
TZOFFSETFROM:-0500
TZOFFSETTO:-0400
TZNAME:EDT
DTSTART:20260308T070000
END:DAYLIGHT
BEGIN:STANDARD
TZOFFSETFROM:-0400
TZOFFSETTO:-0500
TZNAME:EST
DTSTART:20261101T060000
END:STANDARD
END:VTIMEZONE
BEGIN:VEVENT
DTSTART;TZID=America/New_York:20250709T200000
DTEND;TZID=America/New_York:20250709T213000
DTSTAMP:20260422T102157
CREATED:20250501T160242Z
LAST-MODIFIED:20250501T160242Z
UID:10015599-1752091200-1752096600@www.huntingtonarts.org
SUMMARY:Huntington Community Band presents "Tales of the High Seas"
DESCRIPTION:Join HCB for a musical voyage to swashbuckling pirates\, majestic ships and the mysteries of the ocean.\nFeaturing Director Emeritus\, Thomas Gellert. For more info visit https://www.hcband.org/
URL:https://www.huntingtonarts.org/event/huntington-community-band-presents-tales-of-the-high-seas/
LOCATION:Heckscher Park\, Huntington\, 164 Main St. \, Huntington\, NY\, 11743\, United States
CATEGORIES:Music
ATTACH;FMTTYPE=image/jpeg:https://www.huntingtonarts.org/wp-content/uploads/2025/04/huntington-community-band-july-31-2024-chapin-rainbow-stage-144-edit-jjpg_orig.jpg
ORGANIZER;CN="Huntington Community Band%2C Inc":MAILTO:HCBMusicDirector@gmail.com
GEO:40.8728839;-73.4222998
X-APPLE-STRUCTURED-LOCATION;VALUE=URI;X-ADDRESS=Heckscher Park Huntington 164 Main St.  Huntington NY 11743 United States;X-APPLE-RADIUS=500;X-TITLE=164 Main St.:geo:-73.4222998,40.8728839
END:VEVENT
BEGIN:VEVENT
DTSTART;TZID=America/New_York:20250723T194500
DTEND;TZID=America/New_York:20250723T213000
DTSTAMP:20260422T102157
CREATED:20250501T172906Z
LAST-MODIFIED:20250501T172906Z
UID:10015601-1753299900-1753306200@www.huntingtonarts.org
SUMMARY:The Huntington Community Band presents "Landmarks and Bucketlists"
DESCRIPTION:Join HCB for an unforgettable evening of musical wanderlust. In addition\, HCB welcomes back guest conductor and Northport Community Band Director\, Don Sherman for the annual podium swap! 7:45 PM pre concert – Brass Ensemble. For more info visit https://www.hcband.org/
URL:https://www.huntingtonarts.org/event/the-huntington-community-band-presents-landmarks-and-bucketlists/
LOCATION:Heckscher Park\, Huntington\, 164 Main St. \, Huntington\, NY\, 11743\, United States
CATEGORIES:Music
ATTACH;FMTTYPE=image/jpeg:https://www.huntingtonarts.org/wp-content/uploads/2025/04/dsf1223_orig.jpg
ORGANIZER;CN="Huntington Community Band%2C Inc":MAILTO:HCBMusicDirector@gmail.com
GEO:40.8728839;-73.4222998
X-APPLE-STRUCTURED-LOCATION;VALUE=URI;X-ADDRESS=Heckscher Park Huntington 164 Main St.  Huntington NY 11743 United States;X-APPLE-RADIUS=500;X-TITLE=164 Main St.:geo:-73.4222998,40.8728839
END:VEVENT
BEGIN:VEVENT
DTSTART;TZID=America/New_York:20250727T150000
DTEND;TZID=America/New_York:20250727T163000
DTSTAMP:20260422T102157
CREATED:20250508T163743Z
LAST-MODIFIED:20250515T164904Z
UID:10015626-1753628400-1753633800@www.huntingtonarts.org
SUMMARY:Jazz! at the Barn presents Summer Strings
DESCRIPTION:Up and coming musicians\, Sunjay Jayaram and Nico Bond\, active in the NYC jazz scene will be debuting their duo at the Barn.\nTickets $15 plus eventbrite fee. Ticket link at jazzatthebarn.com.
URL:https://www.huntingtonarts.org/event/jazz-at-the-barn-new-music-sunday-sunjay-jayaram-and-nico-bond/
LOCATION:Conklin Barn\, 2 High street\, Huntington\, 11743\, United States
CATEGORIES:Music
ATTACH;FMTTYPE=image/png:https://www.huntingtonarts.org/wp-content/uploads/2025/05/1.png
ORGANIZER;CN="Vince Scuderi":MAILTO:vscuderimusic@gmail.com
END:VEVENT
BEGIN:VEVENT
DTSTART;TZID=America/New_York:20250730T200000
DTEND;TZID=America/New_York:20250730T213000
DTSTAMP:20260422T102157
CREATED:20250501T173129Z
LAST-MODIFIED:20250501T173129Z
UID:10015602-1753905600-1753911000@www.huntingtonarts.org
SUMMARY:The Huntington Community Band presents "Broadway Milestones"
DESCRIPTION:Step into the spotlight and relive the magic of Broadway’s most iconic moments as well as hometown favorites: Stars and Stripes Forever and The 1812 Overture featuring Cannoneer Jim McAward. In addition\, one lucky young audience member will get the chance to conduct the band in a fan favorite march: On the Mall! For more info visit https://www.hcband.org/
URL:https://www.huntingtonarts.org/event/the-huntington-community-band-presents-broadway-milestones/
LOCATION:Heckscher Park\, Huntington\, 164 Main St. \, Huntington\, NY\, 11743\, United States
CATEGORIES:Music
ATTACH;FMTTYPE=image/jpeg:https://www.huntingtonarts.org/wp-content/uploads/2025/04/dsf1247_orig.jpg
ORGANIZER;CN="Huntington Community Band%2C Inc":MAILTO:HCBMusicDirector@gmail.com
GEO:40.8728839;-73.4222998
X-APPLE-STRUCTURED-LOCATION;VALUE=URI;X-ADDRESS=Heckscher Park Huntington 164 Main St.  Huntington NY 11743 United States;X-APPLE-RADIUS=500;X-TITLE=164 Main St.:geo:-73.4222998,40.8728839
END:VEVENT
END:VCALENDAR