BEGIN:VCALENDAR
VERSION:2.0
PRODID:-//Huntington Arts Council - ECPv6.15.20//NONSGML v1.0//EN
CALSCALE:GREGORIAN
METHOD:PUBLISH
X-ORIGINAL-URL:https://www.huntingtonarts.org
X-WR-CALDESC:Events for Huntington Arts Council
REFRESH-INTERVAL;VALUE=DURATION:PT1H
X-Robots-Tag:noindex
X-PUBLISHED-TTL:PT1H
BEGIN:VTIMEZONE
TZID:America/New_York
BEGIN:DAYLIGHT
TZOFFSETFROM:-0500
TZOFFSETTO:-0400
TZNAME:EDT
DTSTART:20240310T070000
END:DAYLIGHT
BEGIN:STANDARD
TZOFFSETFROM:-0400
TZOFFSETTO:-0500
TZNAME:EST
DTSTART:20241103T060000
END:STANDARD
BEGIN:DAYLIGHT
TZOFFSETFROM:-0500
TZOFFSETTO:-0400
TZNAME:EDT
DTSTART:20250309T070000
END:DAYLIGHT
BEGIN:STANDARD
TZOFFSETFROM:-0400
TZOFFSETTO:-0500
TZNAME:EST
DTSTART:20251102T060000
END:STANDARD
BEGIN:DAYLIGHT
TZOFFSETFROM:-0500
TZOFFSETTO:-0400
TZNAME:EDT
DTSTART:20260308T070000
END:DAYLIGHT
BEGIN:STANDARD
TZOFFSETFROM:-0400
TZOFFSETTO:-0500
TZNAME:EST
DTSTART:20261101T060000
END:STANDARD
END:VTIMEZONE
BEGIN:VEVENT
DTSTART;TZID=America/New_York:20250601T160000
DTEND;TZID=America/New_York:20250601T173000
DTSTAMP:20260422T115409
CREATED:20250114T201854Z
LAST-MODIFIED:20250114T201854Z
UID:10015061-1748793600-1748799000@www.huntingtonarts.org
SUMMARY:BAFFA Symphony Orchestra and the BAFFA Chorus present Lights! Camera! Action!
DESCRIPTION:The BAFFA Symphony Orchestra and the BAFFA Chorus present Lights! Camera! Action! The annual pops concert\, featuring music from Broadway and movie musicals\, is a family-friendly end to BAFFA’s 2024-2025 concert season. Children and parents are invited to join the orchestra and the chorus at the Congregational Church of Patchogue beginning at 4:00 PM on June 1st. The Church is located at 95 East Main Street in Patchogue. For further information: (631)589-7343 or www.baffa.org.
URL:https://www.huntingtonarts.org/event/baffa-symphony-orchestra-and-the-baffa-chorus-present-lights-camera-action/
LOCATION:Congregational Church of Patchogue\, 95 East Main Street\, Patchogue\, NY\, 11772\, United States
CATEGORIES:Music
ORGANIZER;CN="Bay Area Friends of the Fine Arts (BAFFA)":MAILTO:baffaoffice@gmail.com
END:VEVENT
BEGIN:VEVENT
DTSTART;TZID=America/New_York:20250601T160000
DTEND;TZID=America/New_York:20250601T173000
DTSTAMP:20260422T115409
CREATED:20250429T150225Z
LAST-MODIFIED:20250429T150225Z
UID:10015594-1748793600-1748799000@www.huntingtonarts.org
SUMMARY:BAFFA presents Lights! Camera! Action!
DESCRIPTION:The BAFFA Chorus and the BAFFA Symphony Orchestra\, under the direction of Martha Campanile and Bruce Engle\, present Lights! Camera! Action! a joint concert\, on Sunday\, June 1st\, at the Congregational Church of Patchogue. The concert\, BAFFA’s annual “Pops” concert\, begins at 4:00 PM and is free\, though donations are encouraged. There will be a reception after the concert. The Church is located at 95 East Main Street in Patchogue Village. For more information: (631)589-7343 or www.baffa.org.
URL:https://www.huntingtonarts.org/event/baffa-presents-lights-camera-action/
LOCATION:Congregational Church of Patchogue\, 95 East Main Street\, Patchogue\, NY\, 11772\, United States
CATEGORIES:Music
ATTACH;FMTTYPE=image/jpeg:https://www.huntingtonarts.org/wp-content/uploads/2025/04/Light-Camera-Action-Concert-Square.jpg
ORGANIZER;CN="Bay Area Friends of the Fine Arts (BAFFA)":MAILTO:baffaoffice@gmail.com
END:VEVENT
BEGIN:VEVENT
DTSTART;TZID=America/New_York:20250607T173000
DTEND;TZID=America/New_York:20250607T183000
DTSTAMP:20260422T115410
CREATED:20250129T154119Z
LAST-MODIFIED:20250130T063120Z
UID:10015264-1749317400-1749321000@www.huntingtonarts.org
SUMMARY:OUR TIME (concert)
DESCRIPTION:As we conclude the Babylon Chorale’s milestone 75th season\, we celebrate our theme of Peace with music from the era of peace and love. Join us as we let the sunshine in with songs inspired by the 1960s\, along with contemporary pieces and musical theatre favorites. Please note\, this concert will be performed twice! Songs include works by Bob Dylan\, Joni Mitchell\, Billy Joel\, as well as from Ragtime\, Waitress\, West Side Story\, Hair\, and more! For more information visit www.babylonchorale.org
URL:https://www.huntingtonarts.org/event/the-babylon-chorale-presents-our-time/2025-06-07/1/
LOCATION:Bayway Arts Center\, 265 East Main Street\, East Islip\, 11730\, United States
CATEGORIES:Music
ATTACH;FMTTYPE=image/jpeg:https://www.huntingtonarts.org/wp-content/uploads/2025/01/75th-logo-1.jpg
ORGANIZER;CN="The Babylon Chorale":MAILTO:thebabylonchorale@gmail.com
END:VEVENT
BEGIN:VEVENT
DTSTART;TZID=America/New_York:20250607T200000
DTEND;TZID=America/New_York:20250607T210000
DTSTAMP:20260422T115410
CREATED:20250129T154119Z
LAST-MODIFIED:20250130T063120Z
UID:10015265-1749326400-1749330000@www.huntingtonarts.org
SUMMARY:OUR TIME (concert)
DESCRIPTION:As we conclude the Babylon Chorale’s milestone 75th season\, we celebrate our theme of Peace with music from the era of peace and love. Join us as we let the sunshine in with songs inspired by the 1960s\, along with contemporary pieces and musical theatre favorites. Please note\, this concert will be performed twice! Songs include works by Bob Dylan\, Joni Mitchell\, Billy Joel\, as well as from Ragtime\, Waitress\, West Side Story\, Hair\, and more! For more information visit www.babylonchorale.org
URL:https://www.huntingtonarts.org/event/the-babylon-chorale-presents-our-time/2025-06-07/2/
LOCATION:Bayway Arts Center\, 265 East Main Street\, East Islip\, 11730\, United States
CATEGORIES:Music
ATTACH;FMTTYPE=image/jpeg:https://www.huntingtonarts.org/wp-content/uploads/2025/01/75th-logo-1.jpg
ORGANIZER;CN="The Babylon Chorale":MAILTO:thebabylonchorale@gmail.com
END:VEVENT
BEGIN:VEVENT
DTSTART;TZID=America/New_York:20250622T150000
DTEND;TZID=America/New_York:20250622T163000
DTSTAMP:20260422T115410
CREATED:20250508T163209Z
LAST-MODIFIED:20250508T163209Z
UID:10015625-1750604400-1750609800@www.huntingtonarts.org
SUMMARY:Jazz! at the Barn presents Eric Miller and Courageous Portals
DESCRIPTION:Eric’s Courageous Portals band will be performing original compositions that mix elements of Jazz\, Funk and various Latin grooves. The title of the band comes from a Wayne Shorter quote\, and the first sentence of Wayne’s quote is\, “I think that music opens portals and doorways into unknown sectors that it takes courage to leap into.” Wayne Shorter was one of Eric’s teachers when Eric attended the Herbie Hancock Institute in Los Angeles. The Courageous Portals band will feature trombone\, flugelhorn\, tenor saxophone\, guitar\, and original groovy electronic soundscapes.
URL:https://www.huntingtonarts.org/event/jazz-at-the-barn-presents-eric-miller-and-courageous-portals/
LOCATION:Conklin Barn\, 2 High street\, Huntington\, 11743\, United States
CATEGORIES:Music
ATTACH;FMTTYPE=image/jpeg:https://www.huntingtonarts.org/wp-content/uploads/2025/05/ERIC-MILLER-TROMBONE.jpg
ORGANIZER;CN="Vince Scuderi":MAILTO:vscuderimusic@gmail.com
END:VEVENT
BEGIN:VEVENT
DTSTART;TZID=America/New_York:20250622T170000
DTEND;TZID=America/New_York:20250622T210000
DTSTAMP:20260422T115410
CREATED:20250617T135708Z
LAST-MODIFIED:20250617T135708Z
UID:10015654-1750611600-1750626000@www.huntingtonarts.org
SUMMARY:The Scene LI presents 2 Year Anniversary Banquet Fundraiser Showcase
DESCRIPTION:Let’s celebrate Art & Poetry at The Scene Life’s 2nd Anniversary Banquet & Showcase! Join us as we do what we do best\, highlight and feature different platforms and curators that we’ve featured in our magazine over the years! Enjoy an Art Auction to support the magazine featuring amazing local Long Island artists including Huntington Arts Council Artist Members! Feast on delicious food\, sip on tasty drinks\, and dance the night away to music by DJ Rocka. \nWhether you’ve been with us from the beginning or are just discovering The Scene Life for the first time\, this is a party you won’t want to miss. So mark your calendars\, grab your friends\, and get ready to toast to another year of creating creative oasis in artistic deserts and growing empathy on the front lines of community engagement. See you there!
URL:https://www.huntingtonarts.org/event/the-scene-li-presents-2-year-anniversary-banquet-fundraiser-showcase/
LOCATION:American Legion Post 1066\, 66 Veterans Boulevard\, Massepequa\, 11758\, United States
CATEGORIES:Exhibitions,Miscellaneous,Music,Poetry
ATTACH;FMTTYPE=image/png:https://www.huntingtonarts.org/wp-content/uploads/2025/06/Screenshot-2025-06-16-174232.png
ORGANIZER;CN="The Scene":MAILTO:info@thescene.life
END:VEVENT
BEGIN:VEVENT
DTSTART;TZID=America/New_York:20250625T190000
DTEND;TZID=America/New_York:20250625T210000
DTSTAMP:20260422T115410
CREATED:20250112T225157Z
LAST-MODIFIED:20250112T225157Z
UID:10015084-1750878000-1750885200@www.huntingtonarts.org
SUMMARY:Harborfields Library presents The Hoo Doo Loungers
DESCRIPTION:The Hoo Doo Loungers take their inspiration from the Gri Gri of Dr. John to the Swingin’ Rock N’ Roll of Fats Domino. They blend it all together with a bit of classic soul and New Orleans Swing for an inspired and original musical gumbo. Bring your lawn chairs or blankets to enjoy this lively outdoor concert on the front lawn of the Library. All are welcome. Sponsored by the Friends of the Harborfields Public Library.
URL:https://www.huntingtonarts.org/event/harborfields-library-presents-the-hoo-doo-loungers/
LOCATION:Harborfields Library\, 31 Broadway\, Greenlawn\, NY\, 11740\, United States
CATEGORIES:Music
ATTACH;FMTTYPE=image/png:https://www.huntingtonarts.org/wp-content/uploads/2025/01/hoodoo_loungers_audience_engagement_2_press_1280_960_300dpi.png
ORGANIZER;CN="Susan Hope":MAILTO:shope@harborfieldslibrary.org
END:VEVENT
END:VCALENDAR