BEGIN:VCALENDAR
VERSION:2.0
PRODID:-//Huntington Arts Council - ECPv6.15.20//NONSGML v1.0//EN
CALSCALE:GREGORIAN
METHOD:PUBLISH
X-ORIGINAL-URL:https://www.huntingtonarts.org
X-WR-CALDESC:Events for Huntington Arts Council
REFRESH-INTERVAL;VALUE=DURATION:PT1H
X-Robots-Tag:noindex
X-PUBLISHED-TTL:PT1H
BEGIN:VTIMEZONE
TZID:America/New_York
BEGIN:DAYLIGHT
TZOFFSETFROM:-0500
TZOFFSETTO:-0400
TZNAME:EDT
DTSTART:20240310T070000
END:DAYLIGHT
BEGIN:STANDARD
TZOFFSETFROM:-0400
TZOFFSETTO:-0500
TZNAME:EST
DTSTART:20241103T060000
END:STANDARD
BEGIN:DAYLIGHT
TZOFFSETFROM:-0500
TZOFFSETTO:-0400
TZNAME:EDT
DTSTART:20250309T070000
END:DAYLIGHT
BEGIN:STANDARD
TZOFFSETFROM:-0400
TZOFFSETTO:-0500
TZNAME:EST
DTSTART:20251102T060000
END:STANDARD
BEGIN:DAYLIGHT
TZOFFSETFROM:-0500
TZOFFSETTO:-0400
TZNAME:EDT
DTSTART:20260308T070000
END:DAYLIGHT
BEGIN:STANDARD
TZOFFSETFROM:-0400
TZOFFSETTO:-0500
TZNAME:EST
DTSTART:20261101T060000
END:STANDARD
END:VTIMEZONE
BEGIN:VEVENT
DTSTART;TZID=America/New_York:20250503T193000
DTEND;TZID=America/New_York:20250503T213000
DTSTAMP:20260422T132119
CREATED:20240909T141803Z
LAST-MODIFIED:20240909T141803Z
UID:10014238-1746300600-1746307800@www.huntingtonarts.org
SUMMARY:Concerts by the Pond presents Vision Duo: Violin and Marimba
DESCRIPTION:Vision Duo\, comprising violinist Ariel Horowitz and percussionist Britton-René Collins\, performs classical works with a contemporary twist. Through an exploration of musical genres and sonic possibilities for violin and percussion\, Vision Duo seeks to contribute to the ongoing redefinition of classical music programming and structures.
URL:https://www.huntingtonarts.org/event/concerts-by-the-pond-presents-vision-duo-violin-and-marimba/
LOCATION:St. John’s Cold Spring Harbor\, 1670 Rt 25A\, Cold Spring Harbor\, NY\, 11724\, United States
CATEGORIES:Music
ATTACH;FMTTYPE=image/jpeg:https://www.huntingtonarts.org/wp-content/uploads/2024/09/19a9b72a_Vision-sunglasses.jpeg
ORGANIZER;CN="Concerts by the Pond":MAILTO:concerts@stjcsh.org
END:VEVENT
BEGIN:VEVENT
DTSTART;TZID=America/New_York:20250503T200000
DTEND;TZID=America/New_York:20250503T220000
DTSTAMP:20260422T132119
CREATED:20250409T203321Z
LAST-MODIFIED:20250409T203321Z
UID:10015309-1746302400-1746309600@www.huntingtonarts.org
SUMMARY:Huntington Choral Society Presents: Considering Matthew Shepard
DESCRIPTION:Join the Huntington Choral Society\, under the direction of Dr. Jennifer Miceli\, for a powerful performance of Considering Matthew Shepard\, a moving fusion oratorio by Craig Hella Johnson that reflects on the life and legacy of Matthew Shepard. We are honored to be joined by special guests—the Suffolk Singers from Suffolk County Community College\, led by Director Alice Cavanaugh. Don’t miss this evening of profound music and community reflection.
URL:https://www.huntingtonarts.org/event/huntington-choral-society-presents-considering-matthew-shepard/
LOCATION:Huntington High School\, McKay & Oakwood Rd\, Huntington\, NY\, 11743\, United States
CATEGORIES:Music
ORGANIZER;CN="Huntington Choral Society":MAILTO:hcs@huntingtonchoralsociety.org
GEO:40.8562768;-73.429177
X-APPLE-STRUCTURED-LOCATION;VALUE=URI;X-ADDRESS=Huntington High School McKay & Oakwood Rd Huntington NY 11743 United States;X-APPLE-RADIUS=500;X-TITLE=McKay & Oakwood Rd:geo:-73.429177,40.8562768
END:VEVENT
BEGIN:VEVENT
DTSTART;TZID=America/New_York:20250503T200000
DTEND;TZID=America/New_York:20250503T220000
DTSTAMP:20260422T132119
CREATED:20250409T203419Z
LAST-MODIFIED:20250409T203419Z
UID:10015310-1746302400-1746309600@www.huntingtonarts.org
SUMMARY:Huntington Choral Society Presents: Considering Matthew Shepard
DESCRIPTION:Join the Huntington Choral Society\, under the direction of Dr. Jennifer Miceli\, for a powerful performance of Considering Matthew Shepard\, a moving fusion oratorio by Craig Hella Johnson that reflects on the life and legacy of Matthew Shepard. We are honored to be joined by special guests—the Suffolk Singers from Suffolk County Community College\, led by Director Alice Cavanaugh. Don’t miss this evening of profound music and community reflection.
URL:https://www.huntingtonarts.org/event/huntington-choral-society-presents-considering-matthew-shepard-2/
LOCATION:Huntington High School\, McKay & Oakwood Rd\, Huntington\, NY\, 11743\, United States
CATEGORIES:Music
ATTACH;FMTTYPE=image/jpeg:https://www.huntingtonarts.org/wp-content/uploads/2025/04/CMS-Flyer.jpg
ORGANIZER;CN="Huntington Choral Society":MAILTO:hcs@huntingtonchoralsociety.org
GEO:40.8562768;-73.429177
X-APPLE-STRUCTURED-LOCATION;VALUE=URI;X-ADDRESS=Huntington High School McKay & Oakwood Rd Huntington NY 11743 United States;X-APPLE-RADIUS=500;X-TITLE=McKay & Oakwood Rd:geo:-73.429177,40.8562768
END:VEVENT
BEGIN:VEVENT
DTSTART;TZID=America/New_York:20250504T080000
DTEND;TZID=America/New_York:20250504T170000
DTSTAMP:20260422T132119
CREATED:20250501T173640Z
LAST-MODIFIED:20250501T173640Z
UID:10015606-1746345600-1746378000@www.huntingtonarts.org
SUMMARY:Babylon Village Arts Council presents Music at the Babylon Library
DESCRIPTION:Join the Babylon Village Arts Council and the Friends of the Babylon Library on Sunday\, May 4 at 2 pm to celebrate The FAB FOUR with the Day Trippers\, playing music by the Beatles from 1962-1970. Please register for this event at the Babylon Library. This event is partially funded through the Friends of the Libabry\, and Suffolk County.
URL:https://www.huntingtonarts.org/event/babylon-village-arts-council-presents-music-at-the-babylon-library/2025-05-04/1/
LOCATION:Babylon Village Library\, 24 South Carll Ave.\, Babylon\, 11702\, United States
CATEGORIES:Music
ATTACH;FMTTYPE=image/jpeg:https://www.huntingtonarts.org/wp-content/uploads/2025/04/05.04.25-Day-Trippers-Flyer.jpg
ORGANIZER;CN="Babylon Village Arts Council":MAILTO:infobvac@gmail.com
END:VEVENT
BEGIN:VEVENT
DTSTART;TZID=America/New_York:20250504T140000
DTEND;TZID=America/New_York:20250504T153000
DTSTAMP:20260422T132119
CREATED:20250501T173640Z
LAST-MODIFIED:20250501T173640Z
UID:10015607-1746367200-1746372600@www.huntingtonarts.org
SUMMARY:Babylon Village Arts Council presents Music at the Babylon Library
DESCRIPTION:Join the Babylon Village Arts Council and the Friends of the Babylon Library on Sunday\, May 4 at 2 pm to celebrate The FAB FOUR with the Day Trippers\, playing music by the Beatles from 1962-1970. Please register for this event at the Babylon Library. This event is partially funded through the Friends of the Libabry\, and Suffolk County.
URL:https://www.huntingtonarts.org/event/babylon-village-arts-council-presents-music-at-the-babylon-library/2025-05-04/2/
LOCATION:Babylon Village Library\, 24 South Carll Ave.\, Babylon\, 11702\, United States
CATEGORIES:Music
ATTACH;FMTTYPE=image/jpeg:https://www.huntingtonarts.org/wp-content/uploads/2025/04/05.04.25-Day-Trippers-Flyer.jpg
ORGANIZER;CN="Babylon Village Arts Council":MAILTO:infobvac@gmail.com
END:VEVENT
BEGIN:VEVENT
DTSTART;TZID=America/New_York:20250510T100000
DTEND;TZID=America/New_York:20250510T123000
DTSTAMP:20260422T132119
CREATED:20250429T150335Z
LAST-MODIFIED:20250429T150335Z
UID:10015597-1746871200-1746880200@www.huntingtonarts.org
SUMMARY:Recorder Society of Long Island presents: Playing Meeting 5/10/2025
DESCRIPTION:The Recorder Society of Long Island welcomes Susan Thompson to lead our 5/10/25 playing meeting. Susan is the curator of Yale University’s collection of historical musical instruments and a frequent coach of recorder workshops. RSLI welcomes players of all levels to join our meeting; please email eventsRSLI@gmail.com for more information.
URL:https://www.huntingtonarts.org/event/recorder-society-of-long-island-presents-playing-meeting-5-10-2025/
LOCATION:St. Luke Lutheran Church\, 20 Candlewood Path\, Huntington Station\, NY
CATEGORIES:Music
ATTACH;FMTTYPE=image/jpeg:https://www.huntingtonarts.org/wp-content/uploads/2025/04/IMG_8967-scaled.jpg
ORGANIZER;CN="Recorder Society of Long Island":MAILTO:eventsrsli@gmail.com
END:VEVENT
BEGIN:VEVENT
DTSTART;TZID=America/New_York:20250518T123000
DTEND;TZID=America/New_York:20250518T153000
DTSTAMP:20260422T132119
CREATED:20240923T141429Z
LAST-MODIFIED:20240923T141429Z
UID:10014439-1747571400-1747582200@www.huntingtonarts.org
SUMMARY:The Metropolitan Youth Orchestra of New York (MYO) presents Suffolk Ensembles at Carnegie Hall
DESCRIPTION:Performing Ensembles:\nSuffolk Treble Choir – Craig B. Knapp\, Music Director | Cara Verity\, Pianist\nSuffolk Senior Treble Choir – Rachel Nagle\, Music Director | James Nagle\, Pianist\nSuffolk Symphonic Choir – Brad Drinkwater\, Music Director | Joseph Franzino\, Pianist \nSuffolk String Orchestra – Felicya Schwarzman\, Music Director\nSuffolk Symphony Orchestra – Scott Zarchy\, Music Director\nSuffolk Principal Orchestra – Phil Preddice\, Music Director
URL:https://www.huntingtonarts.org/event/the-metropolitan-youth-orchestra-of-new-york-myo-presents-suffolk-ensembles-at-carnegie-hall/
LOCATION:Carnegie Hall\, 881 7th Avenue\, New York\, NY\, 10019\, United States
CATEGORIES:Music
ATTACH;FMTTYPE=image/png:https://www.huntingtonarts.org/wp-content/uploads/2024/09/Suffolk-Carnegie.png
ORGANIZER;CN="The Metropolitan Youth Orchestra of New York (MYO)":MAILTO:admin@myo.org
END:VEVENT
BEGIN:VEVENT
DTSTART;TZID=America/New_York:20250518T150000
DTEND;TZID=America/New_York:20250518T163000
DTSTAMP:20260422T132119
CREATED:20250508T163135Z
LAST-MODIFIED:20250508T163135Z
UID:10015624-1747580400-1747585800@www.huntingtonarts.org
SUMMARY:Jazz! at the Barn presents Roderigo Bonelli Trio
DESCRIPTION:Welcoming the Rodrigo Bonelli Trio to the Barn in May!\nJoining drummer Rodrigo Bonelli will be bassist Pier Pappalardo and guitarist Aaron Barak. \nKnown for his impeccable groove\, sophisticated taste\, and stylistic versatility\, Rodrigo maintains a busy performing and recording schedule throughout NYC and the United States. He has been privileged to perform with such renowned musicians as Don Friedman\, Ron McClure\, George Garzone\, and Claudio Roditi.
URL:https://www.huntingtonarts.org/event/jazz-at-the-barn-presents-roderigo-bonelli-trio/
LOCATION:Conklin Barn\, 2 High street\, Huntington\, 11743\, United States
CATEGORIES:Music
ATTACH;FMTTYPE=image/png:https://www.huntingtonarts.org/wp-content/uploads/2025/05/TRIO.png
ORGANIZER;CN="Vince Scuderi":MAILTO:vscuderimusic@gmail.com
END:VEVENT
BEGIN:VEVENT
DTSTART;TZID=America/New_York:20250518T193000
DTEND;TZID=America/New_York:20250518T223000
DTSTAMP:20260422T132119
CREATED:20240923T141152Z
LAST-MODIFIED:20250108T225650Z
UID:10014438-1747596600-1747607400@www.huntingtonarts.org
SUMMARY:The Metropolitan Youth Orchestra of New York (MYO) presents Nassau Ensembles at Carnegie Hall
DESCRIPTION:Performing Ensembles: \nNassau Treble Choir – Craig B. Knapp\, Music Director | Sun Ah Choi\, Pianist\nNassau Concert Choir – Doreen Fryling\, Music Director | Jeong-Hwa Park\, Pianist\nNassau Senior Treble Choir – Louise O’Hanlon\, Music Director | Soyoung Kim\, Pianist\nNassau Chamber Chorale – Edward P. Norris III\, Music Director | Cara Verity\, Pianist \nNassau String Orchestra – Michelina Sobolewski\, Music Director\nNassau Concert Orchestra – Peggy Ho\, Music Director\nNassau Symphony Orchestra – Catherine Birke\, Music Director\nNassau Principal Orchestra – Scott Stickley\, Music Director
URL:https://www.huntingtonarts.org/event/the-metropolitan-youth-orchestra-of-new-york-myo-presents-nassau-ensembles-at-carnegie-hall/
LOCATION:Carnegie Hall\, 881 7th Avenue\, New York\, NY\, 10019\, United States
CATEGORIES:Music
ATTACH;FMTTYPE=image/png:https://www.huntingtonarts.org/wp-content/uploads/2024/09/Nassau-Carnegie-1.png
ORGANIZER;CN="The Metropolitan Youth Orchestra of New York (MYO)":MAILTO:admin@myo.org
END:VEVENT
BEGIN:VEVENT
DTSTART;TZID=America/New_York:20250531T200000
DTEND;TZID=America/New_York:20250531T220000
DTSTAMP:20260422T132119
CREATED:20250429T150310Z
LAST-MODIFIED:20250429T150310Z
UID:10015596-1748721600-1748728800@www.huntingtonarts.org
SUMMARY:Long Island Pride Chorus presents "Louder than Words"
DESCRIPTION:We hope to see you and your loved ones there for a celebration of music\, joy and pride!
URL:https://www.huntingtonarts.org/event/long-island-pride-chorus-presents-louder-than-words/
LOCATION:The Unitarian Universalist Fellowship of Huntington\, 109 Brown's Road\, Huntington\, NY\, 11743\, United States
CATEGORIES:Music
ATTACH;FMTTYPE=image/jpeg:https://www.huntingtonarts.org/wp-content/uploads/2025/04/LIPC-2025-FLYER-FINAL.jpg
ORGANIZER;CN="Long Island Pride Chorus":MAILTO:info@lipridechorus.org
GEO:40.8913693;-73.4369677
X-APPLE-STRUCTURED-LOCATION;VALUE=URI;X-ADDRESS=The Unitarian Universalist Fellowship of Huntington 109 Brown's Road Huntington NY 11743 United States;X-APPLE-RADIUS=500;X-TITLE=109 Brown's Road:geo:-73.4369677,40.8913693
END:VEVENT
END:VCALENDAR