BEGIN:VCALENDAR
VERSION:2.0
PRODID:-//Huntington Arts Council - ECPv6.15.20//NONSGML v1.0//EN
CALSCALE:GREGORIAN
METHOD:PUBLISH
X-ORIGINAL-URL:https://www.huntingtonarts.org
X-WR-CALDESC:Events for Huntington Arts Council
REFRESH-INTERVAL;VALUE=DURATION:PT1H
X-Robots-Tag:noindex
X-PUBLISHED-TTL:PT1H
BEGIN:VTIMEZONE
TZID:America/New_York
BEGIN:DAYLIGHT
TZOFFSETFROM:-0500
TZOFFSETTO:-0400
TZNAME:EDT
DTSTART:20240310T070000
END:DAYLIGHT
BEGIN:STANDARD
TZOFFSETFROM:-0400
TZOFFSETTO:-0500
TZNAME:EST
DTSTART:20241103T060000
END:STANDARD
BEGIN:DAYLIGHT
TZOFFSETFROM:-0500
TZOFFSETTO:-0400
TZNAME:EDT
DTSTART:20250309T070000
END:DAYLIGHT
BEGIN:STANDARD
TZOFFSETFROM:-0400
TZOFFSETTO:-0500
TZNAME:EST
DTSTART:20251102T060000
END:STANDARD
BEGIN:DAYLIGHT
TZOFFSETFROM:-0500
TZOFFSETTO:-0400
TZNAME:EDT
DTSTART:20260308T070000
END:DAYLIGHT
BEGIN:STANDARD
TZOFFSETFROM:-0400
TZOFFSETTO:-0500
TZNAME:EST
DTSTART:20261101T060000
END:STANDARD
END:VTIMEZONE
BEGIN:VEVENT
DTSTART;TZID=America/New_York:20250112T143000
DTEND;TZID=America/New_York:20250112T160000
DTSTAMP:20260422T194630
CREATED:20240912T140220Z
LAST-MODIFIED:20240912T140220Z
UID:10014423-1736692200-1736697600@www.huntingtonarts.org
SUMMARY:Harborfields Library presents Canta Libre
DESCRIPTION:Chamber Ensemble with Sally Shorrock and friends
URL:https://www.huntingtonarts.org/event/harborfields-library-presents-canta-libre/
LOCATION:Harborfields Library\, 31 Broadway\, Greenlawn\, NY\, 11740\, United States
CATEGORIES:Music
ORGANIZER;CN="Susan Hope":MAILTO:shope@harborfieldslibrary.org
END:VEVENT
BEGIN:VEVENT
DTSTART;TZID=America/New_York:20250124T193000
DTEND;TZID=America/New_York:20250124T210000
DTSTAMP:20260422T194630
CREATED:20250112T225715Z
LAST-MODIFIED:20250112T225715Z
UID:10015075-1737747000-1737752400@www.huntingtonarts.org
SUMMARY:Chamber Music at Setauket Presbyterian presents Wit and Wisdom
DESCRIPTION:Join us for a joyful evening of chamber music at Setauket Presbyterian Church on January 24th at 7:30PM! \nProgram:\nMozart\, Piano Quartet No. 2 in E-flat\nBruch\, Pieces for clarinet\, viola\, and piano\nEsmail\, Saans for piano trio\nBeethoven\, Piano Quartet No. 3 in C Major\nGach\, Quiet Music for Unquiet Times *Long Island Composer Alliance Feature\nDohnanyi\, Sextet in C Major Op. 37 \nJoin us for a joyful evening of chamber music at Setauket Presbyterian Church on January 24th at 7:30PM! \nProgram:\nMozart\, Piano Quartet No. 2 in E-flat\nBruch\, Pieces for clarinet\, viola\, and piano\nEsmail\, Saans for piano trio\nBeethoven\, Piano Quartet No. 3 in C Major\nGach\, Quiet Music for Unquiet Times *Long Island Composer Alliance Feature\nDohnanyi\, Sextet in C Major Op. 37 \nAbout the program: \nThe exuberant charm of Mozart’s Piano Quartet No. 2 in E-flat Major captures the youthful vibrancy and elegance of its composer despite the skepticism he faced from the commissioner of the work. Delight in the intimate textures of Max Bruch’s evocative pieces for clarinet\, viola\, and piano\, which blend lyrical melodies with sophisticated harmonies. Experience the cross-cultural richness of Reena Esmail’s Saans (Breath)\, a piano trio that utilizes Indian classical forms. Revel in the grandeur of Beethoven’s Piano Quartet No. 3 in C Major\, showcasing the dynamic and transformative power of one of music’s greatest innovators. The evening culminates with Ernő Dohnányi’s Piano Sextet\, a lush and intricate composition that exemplifies the Romantic era’s rich harmonic language combined with edgy wit and humor. \nAbout Long Island Chamber Music: \nLong Island Chamber Music (LICM) is a classical music non-profit organization founded with the mission of making professional classical music of the highest caliber accessible to Long Island audiences. \nLICM musicians are all drawn from Carnegie Hall’s Ensemble Connect\, the New York Philharmonic\, Boston Symphony Orchestra\, Concert Artist Guild\, and several other of the country’s most prominent musical institutions. In addition to being leaders in their art form\, LICM musicians are teaching artists\, entrepreneurs\, and socially-minded advocates for classical music.
URL:https://www.huntingtonarts.org/event/chamber-music-at-setauket-presbyterian-presents-wit-and-wisdom/
LOCATION:NY
CATEGORIES:Music
ATTACH;FMTTYPE=image/jpeg:https://www.huntingtonarts.org/wp-content/uploads/2025/01/DSC0269-1-1.jpg
END:VEVENT
END:VCALENDAR