BEGIN:VCALENDAR
VERSION:2.0
PRODID:-//Huntington Arts Council - ECPv6.15.20//NONSGML v1.0//EN
CALSCALE:GREGORIAN
METHOD:PUBLISH
X-ORIGINAL-URL:https://www.huntingtonarts.org
X-WR-CALDESC:Events for Huntington Arts Council
REFRESH-INTERVAL;VALUE=DURATION:PT1H
X-Robots-Tag:noindex
X-PUBLISHED-TTL:PT1H
BEGIN:VTIMEZONE
TZID:America/New_York
BEGIN:DAYLIGHT
TZOFFSETFROM:-0500
TZOFFSETTO:-0400
TZNAME:EDT
DTSTART:20230312T070000
END:DAYLIGHT
BEGIN:STANDARD
TZOFFSETFROM:-0400
TZOFFSETTO:-0500
TZNAME:EST
DTSTART:20231105T060000
END:STANDARD
BEGIN:DAYLIGHT
TZOFFSETFROM:-0500
TZOFFSETTO:-0400
TZNAME:EDT
DTSTART:20240310T070000
END:DAYLIGHT
BEGIN:STANDARD
TZOFFSETFROM:-0400
TZOFFSETTO:-0500
TZNAME:EST
DTSTART:20241103T060000
END:STANDARD
BEGIN:DAYLIGHT
TZOFFSETFROM:-0500
TZOFFSETTO:-0400
TZNAME:EDT
DTSTART:20250309T070000
END:DAYLIGHT
BEGIN:STANDARD
TZOFFSETFROM:-0400
TZOFFSETTO:-0500
TZNAME:EST
DTSTART:20251102T060000
END:STANDARD
END:VTIMEZONE
BEGIN:VEVENT
DTSTART;TZID=America/New_York:20241207T190000
DTEND;TZID=America/New_York:20241207T210000
DTSTAMP:20260422T211704
CREATED:20240906T152910Z
LAST-MODIFIED:20240906T152910Z
UID:10014244-1733598000-1733605200@www.huntingtonarts.org
SUMMARY:Long Island Choral Society presents G.F. Handel: Messiah Part l and highlights from Parts ll & lll
DESCRIPTION:The Long Island Choral Society performs Handel’s Messiah Part l and Highlights from Parts ll and lll with professional soloists and orchestra. Under the direction of Michael C. Haigler this has been a Long Island tradition for close to a century.
URL:https://www.huntingtonarts.org/event/long-island-choral-society-presents-g-f-handel-messiah-part-l-and-highlights-from-parts-ll-lll/
LOCATION:Garden CityCommunity Church\, 245 Stewart Ave.\, Garden City\, NY - New York\, 11530
CATEGORIES:Music
ATTACH;FMTTYPE=image/jpeg:https://www.huntingtonarts.org/wp-content/uploads/2024/09/LICS-Logo-1.jpg
ORGANIZER;CN="Long Island Choral Society":MAILTO:Midnightgall@yahoo.com
END:VEVENT
BEGIN:VEVENT
DTSTART;TZID=America/New_York:20241207T200000
DTEND;TZID=America/New_York:20241207T220000
DTSTAMP:20260422T211704
CREATED:20241121T173923Z
LAST-MODIFIED:20241121T173923Z
UID:10014867-1733601600-1733608800@www.huntingtonarts.org
SUMMARY:Huntington Choral Society Presents From Sea to Shining Sea: A Celebration of Freedom!
DESCRIPTION:Join us for an inspiring evening as Huntington Choral Society presents “From Sea to Shining Sea: A Celebration of Freedom.” This concert brings together cherished American composers like Copland\, Thompson\, Hanson\, Paulus\, and Johnson Reagon\, alongside beautifully arranged traditional American songs. We invite you to celebrate the spirit of freedom and unity that spans our nation. Don’t miss this unforgettable musical journey!
URL:https://www.huntingtonarts.org/event/huntington-choral-society-presents-from-sea-to-shining-sea-a-celebration-of-freedom/
LOCATION:Huntington High School\, McKay & Oakwood Rd\, Huntington\, NY\, 11743\, United States
CATEGORIES:Music
ORGANIZER;CN="Huntington Choral Society":MAILTO:hcs@huntingtonchoralsociety.org
GEO:40.8562768;-73.429177
X-APPLE-STRUCTURED-LOCATION;VALUE=URI;X-ADDRESS=Huntington High School McKay & Oakwood Rd Huntington NY 11743 United States;X-APPLE-RADIUS=500;X-TITLE=McKay & Oakwood Rd:geo:-73.429177,40.8562768
END:VEVENT
BEGIN:VEVENT
DTSTART;TZID=America/New_York:20241208T080000
DTEND;TZID=America/New_York:20241208T170000
DTSTAMP:20260422T211704
CREATED:20240906T153529Z
LAST-MODIFIED:20240906T153529Z
UID:10014240-1733644800-1733677200@www.huntingtonarts.org
SUMMARY:St. John's Cold Spring Harbor presents Community Handel's Messiah Sing
DESCRIPTION:Join us for a special afternoon of music – the Christmas portion of Handel’s beloved oratorio\, Messiah. You’re the chorus in this musical afternoon featuring professional soloists and chamber orchestra. Bring your score or rent one from us for this special community event to benefit St. John’s outreach ministries. Free (donation). Reception to follow.
URL:https://www.huntingtonarts.org/event/st-johns-cold-spring-harbor-presents-community-handels-messiah-sing/2024-12-08/1/
LOCATION:St. John’s Cold Spring Harbor\, 1670 Rt 25A\, Cold Spring Harbor\, NY\, 11724\, United States
CATEGORIES:Music
ORGANIZER;CN="St. John's Cold Spring Harbor":MAILTO:bryce@stjcsh.org
END:VEVENT
BEGIN:VEVENT
DTSTART;TZID=America/New_York:20241208T150000
DTEND;TZID=America/New_York:20241208T170000
DTSTAMP:20260422T211704
CREATED:20240906T153529Z
LAST-MODIFIED:20240906T153529Z
UID:10014241-1733670000-1733677200@www.huntingtonarts.org
SUMMARY:St. John's Cold Spring Harbor presents Community Handel's Messiah Sing
DESCRIPTION:Join us for a special afternoon of music – the Christmas portion of Handel’s beloved oratorio\, Messiah. You’re the chorus in this musical afternoon featuring professional soloists and chamber orchestra. Bring your score or rent one from us for this special community event to benefit St. John’s outreach ministries. Free (donation). Reception to follow.
URL:https://www.huntingtonarts.org/event/st-johns-cold-spring-harbor-presents-community-handels-messiah-sing/2024-12-08/2/
LOCATION:St. John’s Cold Spring Harbor\, 1670 Rt 25A\, Cold Spring Harbor\, NY\, 11724\, United States
CATEGORIES:Music
ORGANIZER;CN="St. John's Cold Spring Harbor":MAILTO:bryce@stjcsh.org
END:VEVENT
BEGIN:VEVENT
DTSTART;TZID=America/New_York:20241208T160000
DTEND;TZID=America/New_York:20241208T170000
DTSTAMP:20260422T211704
CREATED:20240904T194208Z
LAST-MODIFIED:20240904T194208Z
UID:10014252-1733673600-1733677200@www.huntingtonarts.org
SUMMARY:BAFFA presents "The Sound of Music"\, Magic and Mystery
DESCRIPTION:The BAFFA Symphony Orchestra presents “The Sound of Music”\, Magic and Mystery on Sunday\, December 8\, at the Congregational Church of Patchogue at 4:00 PM. Directed by BAFFA’s new orchestra director\, Bruce Engle\, the orchestra will perform Mozart’s Overture to the Magic Flute\, Ralph Vaughan William’s Fantasia on Greensleeves\, and Waltz of the Flowers\, Dance of the Sugar Plum Fairy\, and Trepak from the Nutcracker Ballet.\nThe Church is at 95 East Main Street in Patchogue. The concert is free but donations are encouraged.
URL:https://www.huntingtonarts.org/event/baffa-presents-the-sound-of-music-magic-and-mystery/
LOCATION:Congregational Church of Patchogue\, 95 East Main Street\, Patchogue\, NY\, 11772\, United States
CATEGORIES:Music
ORGANIZER;CN="Bay Area Friends of the Fine Arts (BAFFA)":MAILTO:baffaoffice@gmail.com
END:VEVENT
BEGIN:VEVENT
DTSTART;TZID=America/New_York:20241208T160000
DTEND;TZID=America/New_York:20241208T170000
DTSTAMP:20260422T211704
CREATED:20241121T172748Z
LAST-MODIFIED:20241121T174042Z
UID:10014876-1733673600-1733677200@www.huntingtonarts.org
SUMMARY:BAFFA Symphony Orchestra presents "The Sound of Music\," Magic & Mystery
DESCRIPTION:The BAFFA Symphony Orchestra presents “The Sound of Music\,” Magic & Mystery On Sunday\, December 8\, at the Congregational Church of Patchogue. The concert features Mozart’s Magic Flute Overture\, and selections from The Sound of Music and The Nutcracker Ballet. Children are invited to participate in a special performance of the holiday classic\, Silver Bells.\nThe concert begins at 4:00 PM and is free. The Congregational Church of Patchogue is located at 95 East Main Street in Patchogue Village. For further information: (631)589-7343 or www.baffa.org.
URL:https://www.huntingtonarts.org/event/baffa-symphony-orchestra-presents-the-sound-of-music-magic-mystery/
LOCATION:Congregational Church of Patchogue\, 95 East Main Street\, Patchogue\, NY\, 11772\, United States
CATEGORIES:Music
ATTACH;FMTTYPE=image/jpeg:https://www.huntingtonarts.org/wp-content/uploads/2024/11/Orchestra-Concert-Posters-3-1.jpg
ORGANIZER;CN="Bay Area Friends of the Fine Arts (BAFFA)":MAILTO:baffaoffice@gmail.com
END:VEVENT
BEGIN:VEVENT
DTSTART;TZID=America/New_York:20241214T193000
DTEND;TZID=America/New_York:20241214T213000
DTSTAMP:20260422T211704
CREATED:20240909T143000Z
LAST-MODIFIED:20240909T143000Z
UID:10014236-1734204600-1734211800@www.huntingtonarts.org
SUMMARY:Concerts by the Pond presents The Westerlies: Holiday Concert
DESCRIPTION:From Carnegie Hall to Coachella\, The Westerlies navigate a wide array of venues and projects with the precision of a string quartet\, the audacity of a rock band\, and the charm of a family sing-along. Join the self-described “accidental brass quartet” for a special holiday concert.
URL:https://www.huntingtonarts.org/event/concerts-by-the-pond-presents-the-westerlies-holiday-concert/
LOCATION:St. John’s Cold Spring Harbor\, 1670 Rt 25A\, Cold Spring Harbor\, NY\, 11724\, United States
CATEGORIES:Music
ATTACH;FMTTYPE=image/jpeg:https://www.huntingtonarts.org/wp-content/uploads/2024/09/The-Westerlies-PROMO85-by-Kevin-W.-Condon-scaled.jpg
ORGANIZER;CN="Concerts by the Pond":MAILTO:concerts@stjcsh.org
END:VEVENT
BEGIN:VEVENT
DTSTART;TZID=America/New_York:20241214T200000
DTEND;TZID=America/New_York:20241214T213000
DTSTAMP:20260422T211704
CREATED:20240909T140756Z
LAST-MODIFIED:20240909T140756Z
UID:10014270-1734206400-1734211800@www.huntingtonarts.org
SUMMARY:Long Island Symphonic Choral Association presents Into the Light
DESCRIPTION:An evening of beautiful choral music accompanied by a 15 piece orchestra. The orchestra is comprised mostly of DMA students from Stony Brook University and the singers are dedicated Long Island Symphonic Choral Association members whose organization has been singing for over 50 years. The program selection was made being very mindful that Christmas and Hanukah fall on the same day this year. Come help us celebrate with a reception that follows the program.
URL:https://www.huntingtonarts.org/event/long-island-symphonic-choral-association-presents-into-the-light/
LOCATION:St James Roman Catholic Church\, 429 Route 25A\, East Setauket\, New York\, 11733
CATEGORIES:Music
ATTACH;FMTTYPE=image/png:https://www.huntingtonarts.org/wp-content/uploads/2024/09/Lisca-logo.png
ORGANIZER;CN="LONG ISLAND SYMPHONIC CHORAL ASSOCIATION":MAILTO:martimat2743@gmail.com
END:VEVENT
BEGIN:VEVENT
DTSTART;TZID=America/New_York:20241215T143000
DTEND;TZID=America/New_York:20241215T160000
DTSTAMP:20260422T211704
CREATED:20240912T140035Z
LAST-MODIFIED:20240912T140035Z
UID:10014422-1734273000-1734278400@www.huntingtonarts.org
SUMMARY:Harborfields Library presents The Island Hills Chorus Holiday Radio Show
DESCRIPTION:Relax and enjoy a step back in time as the Island Hills Chorus takes you to the time of radio shows. Complete with songs\, sound effects and cue cards ride along with the Anderson family as they travel to Vermont for a holiday family reunion. Sing along with holiday favorites and laugh at their corny jokes!
URL:https://www.huntingtonarts.org/event/harborfields-library-presents-the-island-hills-chorus-holiday-radio-show/
LOCATION:Harborfields Library\, 31 Broadway\, Greenlawn\, NY\, 11740\, United States
CATEGORIES:Music,Theater
ORGANIZER;CN="Susan Hope":MAILTO:shope@harborfieldslibrary.org
END:VEVENT
BEGIN:VEVENT
DTSTART;TZID=America/New_York:20241215T150000
DTEND;TZID=America/New_York:20241215T163000
DTSTAMP:20260422T211704
CREATED:20241209T231535Z
LAST-MODIFIED:20241209T231535Z
UID:10014884-1734274800-1734280200@www.huntingtonarts.org
SUMMARY:JAZZ! at the Barn
DESCRIPTION:Welcome to **JAZZ! at the Barn presents Judi Silvano’s Garden Winds Project**! Join us on **Sunday\, December 15\, 2024** at **The Conklin Farmhouse and Barn** for an unforgettable afternoon of live music. Judi Silvano and her Garden Winds Project \, along with two very special guests\, will be bringing their unique blend of jazz\, improvisation\, and storytelling to the Barn. \nDon’t miss out on this special event – mark your calendars now! \nGarden Winds features: \nHaruna Fukazawa – Flutes \nClaire de Brunner – Bassoon \nJudi Silvano – Voice and Percussion \nWith Special Guests: \nShu Odamura\, – Guitar \nJoe Lovano – Woodwinds\, Gongs and Percussion
URL:https://www.huntingtonarts.org/event/jazz-at-the-barn/
LOCATION:Conklin Barn\, 2 High street\, Huntington\, 11743\, United States
CATEGORIES:Music
ATTACH;FMTTYPE=image/png:https://www.huntingtonarts.org/wp-content/uploads/2024/12/JUDI-SILVANO-INSTA-POST_20241030_212339_0000.png
ORGANIZER;CN="Vince Scuderi":MAILTO:vscuderimusic@gmail.com
END:VEVENT
END:VCALENDAR