BEGIN:VCALENDAR
VERSION:2.0
PRODID:-//Huntington Arts Council - ECPv6.15.20//NONSGML v1.0//EN
CALSCALE:GREGORIAN
METHOD:PUBLISH
X-ORIGINAL-URL:https://www.huntingtonarts.org
X-WR-CALDESC:Events for Huntington Arts Council
REFRESH-INTERVAL;VALUE=DURATION:PT1H
X-Robots-Tag:noindex
X-PUBLISHED-TTL:PT1H
BEGIN:VTIMEZONE
TZID:America/New_York
BEGIN:DAYLIGHT
TZOFFSETFROM:-0500
TZOFFSETTO:-0400
TZNAME:EDT
DTSTART:20260308T070000
END:DAYLIGHT
BEGIN:STANDARD
TZOFFSETFROM:-0400
TZOFFSETTO:-0500
TZNAME:EST
DTSTART:20261101T060000
END:STANDARD
BEGIN:DAYLIGHT
TZOFFSETFROM:-0500
TZOFFSETTO:-0400
TZNAME:EDT
DTSTART:20270314T070000
END:DAYLIGHT
BEGIN:STANDARD
TZOFFSETFROM:-0400
TZOFFSETTO:-0500
TZNAME:EST
DTSTART:20271107T060000
END:STANDARD
BEGIN:DAYLIGHT
TZOFFSETFROM:-0500
TZOFFSETTO:-0400
TZNAME:EDT
DTSTART:20280312T070000
END:DAYLIGHT
BEGIN:STANDARD
TZOFFSETFROM:-0400
TZOFFSETTO:-0500
TZNAME:EST
DTSTART:20281105T060000
END:STANDARD
END:VTIMEZONE
BEGIN:VEVENT
DTSTART;TZID=America/New_York:20270105T193000
DTEND;TZID=America/New_York:20270105T210000
DTSTAMP:20260422T091833
CREATED:20260105T173124Z
LAST-MODIFIED:20260105T173124Z
UID:10018889-1799177400-1799182800@www.huntingtonarts.org
SUMMARY:Huntington Camera Club
DESCRIPTION:We meet at Huntington Public Library every Tuesday night to discuss photography. We have guest speakers\, member presentations\, in-house competitions and lots more. No photographic background is necessary but we do cover all levels of experience in our presentations. Visit our website for more information hccny.org
URL:https://www.huntingtonarts.org/event/huntington-camera-club-3/2027-01-05/
LOCATION:Huntington Public Library\, 338 Main Street\, Huntington\, 11743\, United States
CATEGORIES:Art Demo,Film/Media,History,Lectures,Workshop Classes
ATTACH;FMTTYPE=image/jpeg:https://www.huntingtonarts.org/wp-content/uploads/2025/12/HCC-logo-1.jpg
GEO:40.8705011;-73.4300972
X-APPLE-STRUCTURED-LOCATION;VALUE=URI;X-ADDRESS=Huntington Public Library 338 Main Street Huntington 11743 United States;X-APPLE-RADIUS=500;X-TITLE=338 Main Street:geo:-73.4300972,40.8705011
END:VEVENT
BEGIN:VEVENT
DTSTART;TZID=America/New_York:20270112T193000
DTEND;TZID=America/New_York:20270112T210000
DTSTAMP:20260422T091833
CREATED:20260105T173124Z
LAST-MODIFIED:20260105T173124Z
UID:10018890-1799782200-1799787600@www.huntingtonarts.org
SUMMARY:Huntington Camera Club
DESCRIPTION:We meet at Huntington Public Library every Tuesday night to discuss photography. We have guest speakers\, member presentations\, in-house competitions and lots more. No photographic background is necessary but we do cover all levels of experience in our presentations. Visit our website for more information hccny.org
URL:https://www.huntingtonarts.org/event/huntington-camera-club-3/2027-01-12/
LOCATION:Huntington Public Library\, 338 Main Street\, Huntington\, 11743\, United States
CATEGORIES:Art Demo,Film/Media,History,Lectures,Workshop Classes
ATTACH;FMTTYPE=image/jpeg:https://www.huntingtonarts.org/wp-content/uploads/2025/12/HCC-logo-1.jpg
GEO:40.8705011;-73.4300972
X-APPLE-STRUCTURED-LOCATION;VALUE=URI;X-ADDRESS=Huntington Public Library 338 Main Street Huntington 11743 United States;X-APPLE-RADIUS=500;X-TITLE=338 Main Street:geo:-73.4300972,40.8705011
END:VEVENT
BEGIN:VEVENT
DTSTART;TZID=America/New_York:20270119T193000
DTEND;TZID=America/New_York:20270119T210000
DTSTAMP:20260422T091833
CREATED:20260105T173124Z
LAST-MODIFIED:20260105T173124Z
UID:10018891-1800387000-1800392400@www.huntingtonarts.org
SUMMARY:Huntington Camera Club
DESCRIPTION:We meet at Huntington Public Library every Tuesday night to discuss photography. We have guest speakers\, member presentations\, in-house competitions and lots more. No photographic background is necessary but we do cover all levels of experience in our presentations. Visit our website for more information hccny.org
URL:https://www.huntingtonarts.org/event/huntington-camera-club-3/2027-01-19/
LOCATION:Huntington Public Library\, 338 Main Street\, Huntington\, 11743\, United States
CATEGORIES:Art Demo,Film/Media,History,Lectures,Workshop Classes
ATTACH;FMTTYPE=image/jpeg:https://www.huntingtonarts.org/wp-content/uploads/2025/12/HCC-logo-1.jpg
GEO:40.8705011;-73.4300972
X-APPLE-STRUCTURED-LOCATION;VALUE=URI;X-ADDRESS=Huntington Public Library 338 Main Street Huntington 11743 United States;X-APPLE-RADIUS=500;X-TITLE=338 Main Street:geo:-73.4300972,40.8705011
END:VEVENT
BEGIN:VEVENT
DTSTART;TZID=America/New_York:20270126T193000
DTEND;TZID=America/New_York:20270126T210000
DTSTAMP:20260422T091833
CREATED:20260105T173124Z
LAST-MODIFIED:20260105T173124Z
UID:10018892-1800991800-1800997200@www.huntingtonarts.org
SUMMARY:Huntington Camera Club
DESCRIPTION:We meet at Huntington Public Library every Tuesday night to discuss photography. We have guest speakers\, member presentations\, in-house competitions and lots more. No photographic background is necessary but we do cover all levels of experience in our presentations. Visit our website for more information hccny.org
URL:https://www.huntingtonarts.org/event/huntington-camera-club-3/2027-01-26/
LOCATION:Huntington Public Library\, 338 Main Street\, Huntington\, 11743\, United States
CATEGORIES:Art Demo,Film/Media,History,Lectures,Workshop Classes
ATTACH;FMTTYPE=image/jpeg:https://www.huntingtonarts.org/wp-content/uploads/2025/12/HCC-logo-1.jpg
GEO:40.8705011;-73.4300972
X-APPLE-STRUCTURED-LOCATION;VALUE=URI;X-ADDRESS=Huntington Public Library 338 Main Street Huntington 11743 United States;X-APPLE-RADIUS=500;X-TITLE=338 Main Street:geo:-73.4300972,40.8705011
END:VEVENT
END:VCALENDAR